| Back to Multiple platform build/check report for BioC 3.21: simplified long | 
 | 
This page was generated on 2025-03-03 11:46 -0500 (Mon, 03 Mar 2025).
| Hostname | OS | Arch (*) | R version | Installed pkgs | 
|---|---|---|---|---|
| nebbiolo1 | Linux (Ubuntu 24.04.1 LTS) | x86_64 | R Under development (unstable) (2025-02-19 r87757) -- "Unsuffered Consequences" | 4708 | 
| palomino7 | Windows Server 2022 Datacenter | x64 | R Under development (unstable) (2025-01-21 r87610 ucrt) -- "Unsuffered Consequences" | 4495 | 
| lconway | macOS 12.7.1 Monterey | x86_64 | R Under development (unstable) (2025-01-22 r87618) -- "Unsuffered Consequences" | 4506 | 
| kjohnson3 | macOS 13.7.1 Ventura | arm64 | R Under development (unstable) (2025-01-20 r87609) -- "Unsuffered Consequences" | 4460 | 
| kunpeng2 | Linux (openEuler 24.03 LTS) | aarch64 | R Under development (unstable) (2025-02-19 r87757) -- "Unsuffered Consequences" | 4363 | 
| Click on any hostname to see more info about the system (e.g. compilers) (*) as reported by 'uname -p', except on Windows and Mac OS X | ||||
| Package 1475/2302 | Hostname | OS / Arch | INSTALL | BUILD | CHECK | BUILD BIN | ||||||||
| openPrimeR 1.29.0  (landing page) Matthias Döring 
 | nebbiolo1 | Linux (Ubuntu 24.04.1 LTS) / x86_64 | OK | OK | OK |  | ||||||||
| palomino7 | Windows Server 2022 Datacenter / x64 | OK | OK | OK | OK |  | ||||||||
| lconway | macOS 12.7.1 Monterey / x86_64 | OK | OK | OK | OK |  | ||||||||
| kjohnson3 | macOS 13.7.1 Ventura / arm64 | OK | OK | OK | OK |  | ||||||||
| kunpeng2 | Linux (openEuler 24.03 LTS) / aarch64 | OK | OK | OK | ||||||||||
| To the developers/maintainers of the openPrimeR package: - Allow up to 24 hours (and sometimes 48 hours) for your latest push to git@git.bioconductor.org:packages/openPrimeR.git to reflect on this report. See Troubleshooting Build Report for more information. - Use the following Renviron settings to reproduce errors and warnings. - If 'R CMD check' started to fail recently on the Linux builder(s) over a missing dependency, add the missing dependency to 'Suggests:' in your DESCRIPTION file. See Renviron.bioc for more information. | 
| Package: openPrimeR | 
| Version: 1.29.0 | 
| Command: /Library/Frameworks/R.framework/Resources/bin/R CMD check --install=check:openPrimeR.install-out.txt --library=/Library/Frameworks/R.framework/Resources/library --no-vignettes --timings openPrimeR_1.29.0.tar.gz | 
| StartedAt: 2025-03-02 20:28:38 -0500 (Sun, 02 Mar 2025) | 
| EndedAt: 2025-03-02 20:30:34 -0500 (Sun, 02 Mar 2025) | 
| EllapsedTime: 115.4 seconds | 
| RetCode: 0 | 
| Status: OK | 
| CheckDir: openPrimeR.Rcheck | 
| Warnings: 0 | 
##############################################################################
##############################################################################
###
### Running command:
###
###   /Library/Frameworks/R.framework/Resources/bin/R CMD check --install=check:openPrimeR.install-out.txt --library=/Library/Frameworks/R.framework/Resources/library --no-vignettes --timings openPrimeR_1.29.0.tar.gz
###
##############################################################################
##############################################################################
* using log directory ‘/Users/biocbuild/bbs-3.21-bioc/meat/openPrimeR.Rcheck’
* using R Under development (unstable) (2025-01-20 r87609)
* using platform: aarch64-apple-darwin20
* R was compiled by
    Apple clang version 14.0.0 (clang-1400.0.29.202)
    GNU Fortran (GCC) 14.2.0
* running under: macOS Ventura 13.7.1
* using session charset: UTF-8
* using option ‘--no-vignettes’
* checking for file ‘openPrimeR/DESCRIPTION’ ... OK
* this is package ‘openPrimeR’ version ‘1.29.0’
* package encoding: UTF-8
* checking package namespace information ... OK
* checking package dependencies ... INFO
Imports includes 25 non-default packages.
Importing from so many packages makes the package vulnerable to any of
them becoming unavailable.  Move as many as possible to Suggests and
use conditionally.
* checking if this is a source package ... OK
* checking if there is a namespace ... OK
* checking for hidden files and directories ... NOTE
Found the following hidden files and directories:
  .travis.yml
These were most likely included in error. See section ‘Package
structure’ in the ‘Writing R Extensions’ manual.
* checking for portable file names ... OK
* checking for sufficient/correct file permissions ... OK
* checking whether package ‘openPrimeR’ can be installed ... OK
* checking installed package size ... INFO
  installed size is 12.1Mb
  sub-directories of 1Mb or more:
    R         1.3Mb
    extdata  10.2Mb
* checking package directory ... OK
* checking ‘build’ directory ... OK
* checking DESCRIPTION meta-information ... OK
* checking top-level files ... OK
* checking for left-over files ... OK
* checking index information ... OK
* checking package subdirectories ... OK
* checking code files for non-ASCII characters ... OK
* checking R files for syntax errors ... OK
* checking whether the package can be loaded ... OK
* checking whether the package can be loaded with stated dependencies ... OK
* checking whether the package can be unloaded cleanly ... OK
* checking whether the namespace can be loaded with stated dependencies ... OK
* checking whether the namespace can be unloaded cleanly ... OK
* checking whether startup messages can be suppressed ... NOTE
The number of cores for was set to '2' by 'parallel_setup()'.
It looks like this package (or a package it requires) has a startup
message which cannot be suppressed: see ?packageStartupMessage.
* checking dependencies in R code ... OK
* checking S3 generic/method consistency ... OK
* checking replacement functions ... OK
* checking foreign function calls ... OK
* checking R code for possible problems ... OK
* checking Rd files ... OK
* checking Rd metadata ... OK
* checking Rd cross-references ... OK
* checking for missing documentation entries ... OK
* checking for code/documentation mismatches ... OK
* checking Rd \usage sections ... NOTE
Documented arguments not in \usage in Rd file 'get_cvg_stats-Primers-method.Rd':
  ‘primer.df’ ‘template.df’
Documented arguments not in \usage in Rd file 'plot_constraint-list-method.Rd':
  ‘constraint.settings’
Documented arguments not in \usage in Rd file 'plot_constraint_deviation-list-method.Rd':
  ‘constraint.df’
Documented arguments not in \usage in Rd file 'plot_primer_cvg-Primers-Templates-method.Rd':
  ‘p.df’ ‘template.df’ ‘excluded.seqs’
Documented arguments not in \usage in Rd file 'plot_template_cvg-list-list-method.Rd':
  ‘colors’
Functions with \usage entries need to have the appropriate \alias
entries, and all their arguments documented.
The \usage entries must correspond to syntactically valid R code.
See chapter ‘Writing R documentation files’ in the ‘Writing R
Extensions’ manual.
* checking Rd contents ... OK
* checking for unstated dependencies in examples ... OK
* checking contents of ‘data’ directory ... OK
* checking data for non-ASCII characters ... OK
* checking data for ASCII and uncompressed saves ... OK
* checking R/sysdata.rda ... OK
* checking files in ‘vignettes’ ... OK
* checking examples ... OK
Examples with CPU (user + system) or elapsed time > 5s
               user system elapsed
Output       11.292 22.364  21.536
Plots         3.022  5.754   5.560
PrimerEval    2.500  5.636   4.647
PrimerDesign  3.810  2.887   5.168
* checking for unstated dependencies in ‘tests’ ... OK
* checking tests ...
  Running ‘testthat.R’
 OK
* checking for unstated dependencies in vignettes ... OK
* checking package vignettes ... OK
* checking running R code from vignettes ... SKIPPED
* checking re-building of vignette outputs ... SKIPPED
* checking PDF version of manual ... OK
* DONE
Status: 3 NOTEs
See
  ‘/Users/biocbuild/bbs-3.21-bioc/meat/openPrimeR.Rcheck/00check.log’
for details.
openPrimeR.Rcheck/00install.out
############################################################################## ############################################################################## ### ### Running command: ### ### /Library/Frameworks/R.framework/Resources/bin/R CMD INSTALL openPrimeR ### ############################################################################## ############################################################################## * installing to library ‘/Library/Frameworks/R.framework/Versions/4.5-arm64/Resources/library’ * installing *source* package ‘openPrimeR’ ... ** this is package ‘openPrimeR’ version ‘1.29.0’ ** using staged installation ** R ** data ** inst ** byte-compile and prepare package for lazy loading ** help *** installing help indices ** building package indices ** installing vignettes ** testing if installed package can be loaded from temporary location The number of cores for was set to '2' by 'parallel_setup()'. ** testing if installed package can be loaded from final location The number of cores for was set to '2' by 'parallel_setup()'. ** testing if installed package keeps a record of temporary installation path * DONE (openPrimeR)
openPrimeR.Rcheck/tests/testthat.Rout
R Under development (unstable) (2025-01-20 r87609) -- "Unsuffered Consequences"
Copyright (C) 2025 The R Foundation for Statistical Computing
Platform: aarch64-apple-darwin20
R is free software and comes with ABSOLUTELY NO WARRANTY.
You are welcome to redistribute it under certain conditions.
Type 'license()' or 'licence()' for distribution details.
R is a collaborative project with many contributors.
Type 'contributors()' for more information and
'citation()' on how to cite R or R packages in publications.
Type 'demo()' for some demos, 'help()' for on-line help, or
'help.start()' for an HTML browser interface to help.
Type 'q()' to quit R.
> require(testthat)
Loading required package: testthat
> require(openPrimeR)
Loading required package: openPrimeR
There are missing/non-functioning external tools.
To use the full potential of openPrimeR, please make sure
that the required versions of the speciied tools are
 
                installed and that they are functional:
o MELTING (http://www.ebi.ac.uk/biomodels/tools/melting/)
o ViennaRNA (http://www.tbi.univie.ac.at/RNA/)
o OligoArrayAux (http://unafold.rna.albany.edu/OligoArrayAux.php)
o MAFFT (http://mafft.cbrc.jp/alignment/software/)
The number of cores for was set to '2' by 'parallel_setup()'.
> #test_package("openPrimeR") 
> test_check("openPrimeR")
[ FAIL 0 | WARN 2 | SKIP 9 | PASS 1467 ]
══ Skipped tests (9) ═══════════════════════════════════════════════════════════
• MAFFT not available. (1): 'test_primer_design.R:125:9'
• OligoArrayAux not available. (5): 'test_con_dimerization.R:7:9',
  'test_con_dimerization.R:42:9', 'test_con_primer_coverage.R:50:9',
  'test_con_primer_coverage.R:77:9', 'test_con_primer_specificity.R:40:9'
• On Bioconductor (1): 'test_primer_design.R:137:5'
• Secondary structure tests require ViennaRNA. (1):
  'test_con_secondary_structure.R:7:9'
• empty test (1): 'test_primers.R:29:1'
[ FAIL 0 | WARN 2 | SKIP 9 | PASS 1467 ]
> 
> proc.time()
   user  system elapsed 
 14.710   9.213  21.428 
openPrimeR.Rcheck/openPrimeR-Ex.timings
| name | user | system | elapsed | |
| AnalysisStats | 0.485 | 0.006 | 0.492 | |
| Data | 0.189 | 0.012 | 0.208 | |
| Input | 0.610 | 0.059 | 0.688 | |
| Output | 11.292 | 22.364 | 21.536 | |
| Plots | 3.022 | 5.754 | 5.560 | |
| PrimerDesign | 3.810 | 2.887 | 5.168 | |
| PrimerEval | 2.500 | 5.636 | 4.647 | |
| Primers-method | 0.008 | 0.004 | 0.012 | |
| Scoring | 0.010 | 0.005 | 0.015 | |
| Settings | 0.294 | 0.703 | 1.258 | |
| Templates-method | 0.011 | 0.006 | 0.017 | |
| TemplatesFunctions | 0.057 | 0.049 | 0.113 | |
| runTutorial | 0 | 0 | 0 | |