| Back to Multiple platform build/check report for BioC 3.21: simplified long |
|
This page was generated on 2025-10-16 11:41 -0400 (Thu, 16 Oct 2025).
| Hostname | OS | Arch (*) | R version | Installed pkgs |
|---|---|---|---|---|
| nebbiolo1 | Linux (Ubuntu 24.04.3 LTS) | x86_64 | 4.5.1 (2025-06-13) -- "Great Square Root" | 4833 |
| merida1 | macOS 12.7.6 Monterey | x86_64 | 4.5.1 RC (2025-06-05 r88288) -- "Great Square Root" | 4614 |
| kjohnson1 | macOS 13.7.5 Ventura | arm64 | 4.5.1 Patched (2025-06-14 r88325) -- "Great Square Root" | 4555 |
| kunpeng2 | Linux (openEuler 24.03 LTS) | aarch64 | R Under development (unstable) (2025-02-19 r87757) -- "Unsuffered Consequences" | 4586 |
| Click on any hostname to see more info about the system (e.g. compilers) (*) as reported by 'uname -p', except on Windows and Mac OS X | ||||
| Package 1494/2341 | Hostname | OS / Arch | INSTALL | BUILD | CHECK | BUILD BIN | ||||||||
| openPrimeR 1.30.1 (landing page) Matthias Döring
| nebbiolo1 | Linux (Ubuntu 24.04.3 LTS) / x86_64 | OK | OK | OK | |||||||||
| merida1 | macOS 12.7.6 Monterey / x86_64 | OK | OK | OK | OK | |||||||||
| kjohnson1 | macOS 13.7.5 Ventura / arm64 | OK | OK | OK | OK | |||||||||
| kunpeng2 | Linux (openEuler 24.03 LTS) / aarch64 | OK | OK | OK | ||||||||||
|
To the developers/maintainers of the openPrimeR package: - Allow up to 24 hours (and sometimes 48 hours) for your latest push to git@git.bioconductor.org:packages/openPrimeR.git to reflect on this report. See Troubleshooting Build Report for more information. - Use the following Renviron settings to reproduce errors and warnings. - If 'R CMD check' started to fail recently on the Linux builder(s) over a missing dependency, add the missing dependency to 'Suggests:' in your DESCRIPTION file. See Renviron.bioc for more information. - See Martin Grigorov's blog post for how to debug Linux ARM64 related issues on a x86_64 host. |
| Package: openPrimeR |
| Version: 1.30.1 |
| Command: /home/biocbuild/R/R/bin/R CMD check --install=check:openPrimeR.install-out.txt --library=/home/biocbuild/R/R/site-library --no-vignettes --timings openPrimeR_1.30.1.tar.gz |
| StartedAt: 2025-10-14 12:10:58 -0000 (Tue, 14 Oct 2025) |
| EndedAt: 2025-10-14 12:17:29 -0000 (Tue, 14 Oct 2025) |
| EllapsedTime: 390.6 seconds |
| RetCode: 0 |
| Status: OK |
| CheckDir: openPrimeR.Rcheck |
| Warnings: 0 |
##############################################################################
##############################################################################
###
### Running command:
###
### /home/biocbuild/R/R/bin/R CMD check --install=check:openPrimeR.install-out.txt --library=/home/biocbuild/R/R/site-library --no-vignettes --timings openPrimeR_1.30.1.tar.gz
###
##############################################################################
##############################################################################
* using log directory ‘/home/biocbuild/bbs-3.21-bioc/meat/openPrimeR.Rcheck’
* using R Under development (unstable) (2025-02-19 r87757)
* using platform: aarch64-unknown-linux-gnu
* R was compiled by
aarch64-unknown-linux-gnu-gcc (GCC) 14.2.0
GNU Fortran (GCC) 14.2.0
* running under: openEuler 24.03 (LTS-SP1)
* using session charset: UTF-8
* using option ‘--no-vignettes’
* checking for file ‘openPrimeR/DESCRIPTION’ ... OK
* this is package ‘openPrimeR’ version ‘1.30.1’
* package encoding: UTF-8
* checking package namespace information ... OK
* checking package dependencies ... INFO
Imports includes 25 non-default packages.
Importing from so many packages makes the package vulnerable to any of
them becoming unavailable. Move as many as possible to Suggests and
use conditionally.
* checking if this is a source package ... OK
* checking if there is a namespace ... OK
* checking for hidden files and directories ... NOTE
Found the following hidden files and directories:
.travis.yml
These were most likely included in error. See section ‘Package
structure’ in the ‘Writing R Extensions’ manual.
* checking for portable file names ... OK
* checking for sufficient/correct file permissions ... OK
* checking whether package ‘openPrimeR’ can be installed ... OK
* checking installed package size ... INFO
installed size is 12.8Mb
sub-directories of 1Mb or more:
R 1.3Mb
extdata 10.3Mb
* checking package directory ... OK
* checking ‘build’ directory ... OK
* checking DESCRIPTION meta-information ... OK
* checking top-level files ... OK
* checking for left-over files ... OK
* checking index information ... OK
* checking package subdirectories ... OK
* checking code files for non-ASCII characters ... OK
* checking R files for syntax errors ... OK
* checking whether the package can be loaded ... OK
* checking whether the package can be loaded with stated dependencies ... OK
* checking whether the package can be unloaded cleanly ... OK
* checking whether the namespace can be loaded with stated dependencies ... OK
* checking whether the namespace can be unloaded cleanly ... OK
* checking loading without being on the library search path ... OK
* checking whether startup messages can be suppressed ... NOTE
The number of cores for was set to '2' by 'parallel_setup()'.
It looks like this package (or a package it requires) has a startup
message which cannot be suppressed: see ?packageStartupMessage.
* checking dependencies in R code ... OK
* checking S3 generic/method consistency ... OK
* checking replacement functions ... OK
* checking foreign function calls ... OK
* checking R code for possible problems ... OK
* checking Rd files ... NOTE
checkRd: (-1) get.primer.binding.idx.Rd:24: Lost braces
24 | Indices in binding for primer with index code{x} that are allowed.
| ^
* checking Rd metadata ... OK
* checking Rd cross-references ... OK
* checking for missing documentation entries ... OK
* checking for code/documentation mismatches ... OK
* checking Rd \usage sections ... NOTE
Documented arguments not in \usage in Rd file 'align.structures.Rd':
‘s1’
Documented arguments not in \usage in Rd file 'build.tool.overview.Rd':
‘AVAILBLE.TOOLS’ ‘If’
Documented arguments not in \usage in Rd file 'check_restriction_sites_single.Rd':
‘The’
Documented arguments not in \usage in Rd file 'compute.Tm.sets.Rd':
‘primers.rev’ ‘opti.constraints’ ‘annealing.temp’
Documented arguments not in \usage in Rd file 'constraints_to_unit.Rd':
‘use.HTML’
Documented arguments not in \usage in Rd file 'create.PCR.table.Rd':
‘format.tyep’
Documented arguments not in \usage in Rd file 'create.k.mers.Rd':
‘seq’
Documented arguments not in \usage in Rd file 'create.primer.ranges.Rd':
‘start.posiion’
Documented arguments not in \usage in Rd file 'create.primers.naive.Rd':
‘updatProgress’
Documented arguments not in \usage in Rd file 'estimate.cvg.Rd':
‘seqs’
Documented arguments not in \usage in Rd file 'evaluate.fw.rev.combinations.Rd':
‘opti.rev.indices’
Documented arguments not in \usage in Rd file 'get.melting.temp.diff.Rd':
‘Tmr.rev’
Documented arguments not in \usage in Rd file 'get.primer.identifier.string.Rd':
‘seq.identifiers’
Documented arguments not in \usage in Rd file 'get_cvg_stats-Primers-method.Rd':
‘primer.df’ ‘template.df’
Documented arguments not in \usage in Rd file 'optimize.primer.cvg.Rd':
‘template_conc’
Documented arguments not in \usage in Rd file 'plot.filtering.runtime.Rd':
‘filered.stats’
Documented arguments not in \usage in Rd file 'plot_constraint-list-method.Rd':
‘constraint.settings’
Documented arguments not in \usage in Rd file 'plot_constraint_deviation-list-method.Rd':
‘constraint.df’
Documented arguments not in \usage in Rd file 'plot_primer_cvg-Primers-Templates-method.Rd':
‘p.df’ ‘template.df’ ‘excluded.seqs’
Documented arguments not in \usage in Rd file 'plot_template_cvg-list-list-method.Rd':
‘colors’
Documented arguments not in \usage in Rd file 'read.sequences.Rd':
‘The’
Documented arguments not in \usage in Rd file 'remove.seqs.by.keyword.Rd':
‘Header’
Documented arguments not in \usage in Rd file 'restriction_hits.Rd':
‘bad.region’
Documented arguments not in \usage in Rd file 'sanitize_path.Rd':
‘sub_char’
Documented arguments not in \usage in Rd file 'solve.ILP.Rd':
‘deltaG.cutoff’ ‘deltaG.limit’
Documented arguments not in \usage in Rd file 'update.individual.binding.region.Rd':
‘Template’
Documented arguments not in \usage in Rd file 'visualize.all.results.Rd':
‘template_conc’
Documented arguments not in \usage in Rd file 'visualize.filtering.results.Rd':
‘template_conc’
Functions with \usage entries need to have the appropriate \alias
entries, and all their arguments documented.
The \usage entries must correspond to syntactically valid R code.
See chapter ‘Writing R documentation files’ in the ‘Writing R
Extensions’ manual.
* checking Rd contents ... OK
* checking for unstated dependencies in examples ... OK
* checking contents of ‘data’ directory ... OK
* checking data for non-ASCII characters ... OK
* checking data for ASCII and uncompressed saves ... OK
* checking R/sysdata.rda ... OK
* checking files in ‘vignettes’ ... OK
* checking examples ... OK
Examples with CPU (user + system) or elapsed time > 5s
user system elapsed
PrimerDesign 16.679 4.868 20.465
Output 18.927 1.820 26.090
Plots 9.484 1.580 11.045
PrimerEval 7.792 2.308 7.889
* checking for unstated dependencies in ‘tests’ ... OK
* checking tests ...
Running ‘testthat.R’
OK
* checking for unstated dependencies in vignettes ... OK
* checking package vignettes ... OK
* checking running R code from vignettes ... SKIPPED
* checking re-building of vignette outputs ... SKIPPED
* checking PDF version of manual ... OK
* DONE
Status: 4 NOTEs
See
‘/home/biocbuild/bbs-3.21-bioc/meat/openPrimeR.Rcheck/00check.log’
for details.
openPrimeR.Rcheck/00install.out
############################################################################## ############################################################################## ### ### Running command: ### ### /home/biocbuild/R/R/bin/R CMD INSTALL openPrimeR ### ############################################################################## ############################################################################## * installing to library ‘/home/biocbuild/R/R-devel_2025-02-19/site-library’ * installing *source* package ‘openPrimeR’ ... ** this is package ‘openPrimeR’ version ‘1.30.1’ ** using staged installation ** R ** data ** inst ** byte-compile and prepare package for lazy loading ** help *** installing help indices ** building package indices ** installing vignettes ** testing if installed package can be loaded from temporary location The number of cores for was set to '2' by 'parallel_setup()'. ** testing if installed package can be loaded from final location The number of cores for was set to '2' by 'parallel_setup()'. ** testing if installed package keeps a record of temporary installation path * DONE (openPrimeR)
openPrimeR.Rcheck/tests/testthat.Rout
R Under development (unstable) (2025-02-19 r87757) -- "Unsuffered Consequences"
Copyright (C) 2025 The R Foundation for Statistical Computing
Platform: aarch64-unknown-linux-gnu
R is free software and comes with ABSOLUTELY NO WARRANTY.
You are welcome to redistribute it under certain conditions.
Type 'license()' or 'licence()' for distribution details.
R is a collaborative project with many contributors.
Type 'contributors()' for more information and
'citation()' on how to cite R or R packages in publications.
Type 'demo()' for some demos, 'help()' for on-line help, or
'help.start()' for an HTML browser interface to help.
Type 'q()' to quit R.
> require(testthat)
Loading required package: testthat
> require(openPrimeR)
Loading required package: openPrimeR
There are missing/non-functioning external tools.
To use the full potential of openPrimeR, please make sure
that the required versions of the speciied tools are
installed and that they are functional:
o MELTING (http://www.ebi.ac.uk/biomodels/tools/melting/)
o ViennaRNA (http://www.tbi.univie.ac.at/RNA/)
o OligoArrayAux (http://unafold.rna.albany.edu/OligoArrayAux.php)
o MAFFT (http://mafft.cbrc.jp/alignment/software/)
The number of cores for was set to '2' by 'parallel_setup()'.
> #test_package("openPrimeR")
> test_check("openPrimeR")
Error : LaTeX failed to compile /home/biocbuild/tmp/RtmpOrGiaC/file1c951f42f7897.tex. See https://yihui.org/tinytex/r/#debugging for debugging tips. See file1c951f42f7897.log for more info.
[ FAIL 0 | WARN 3 | SKIP 9 | PASS 1467 ]
══ Skipped tests (9) ═══════════════════════════════════════════════════════════
• MAFFT not available. (1): 'test_primer_design.R:125:9'
• OligoArrayAux not available. (5): 'test_con_dimerization.R:7:9',
'test_con_dimerization.R:42:9', 'test_con_primer_coverage.R:50:9',
'test_con_primer_coverage.R:77:9', 'test_con_primer_specificity.R:40:9'
• On Bioconductor (1): 'test_primer_design.R:137:5'
• Secondary structure tests require ViennaRNA. (1):
'test_con_secondary_structure.R:7:9'
• empty test (1): 'test_primers.R:29:1'
[ FAIL 0 | WARN 3 | SKIP 9 | PASS 1467 ]
>
> proc.time()
user system elapsed
55.720 11.254 75.078
openPrimeR.Rcheck/openPrimeR-Ex.timings
| name | user | system | elapsed | |
| AnalysisStats | 2.157 | 0.076 | 2.279 | |
| Data | 0.772 | 0.044 | 0.914 | |
| Input | 1.552 | 0.045 | 2.278 | |
| Output | 18.927 | 1.820 | 26.090 | |
| Plots | 9.484 | 1.580 | 11.045 | |
| PrimerDesign | 16.679 | 4.868 | 20.465 | |
| PrimerEval | 7.792 | 2.308 | 7.889 | |
| Primers-method | 0.091 | 0.102 | 0.055 | |
| Scoring | 0.049 | 0.015 | 0.130 | |
| Settings | 0.817 | 0.127 | 1.886 | |
| Templates-method | 0.035 | 0.000 | 0.065 | |
| TemplatesFunctions | 0.298 | 0.082 | 0.726 | |
| cbind.Primers | 0.008 | 0.000 | 0.008 | |
| cbind.Templates | 0.008 | 0.000 | 0.016 | |
| check_constraints_comparison | 0 | 0 | 0 | |
| compute.primer.efficiencies | 0.005 | 0.000 | 0.014 | |
| rbind.Primers | 0.014 | 0.000 | 0.026 | |
| rbind.Templates | 0.010 | 0.000 | 0.017 | |
| read_templates_fasta | 0.102 | 0.012 | 0.206 | |
| runTutorial | 0.000 | 0.000 | 0.001 | |