| Back to Multiple platform build/check report for BioC 3.21: simplified long |
|
This page was generated on 2025-04-22 13:16 -0400 (Tue, 22 Apr 2025).
| Hostname | OS | Arch (*) | R version | Installed pkgs |
|---|---|---|---|---|
| nebbiolo1 | Linux (Ubuntu 24.04.1 LTS) | x86_64 | 4.5.0 RC (2025-04-04 r88126) -- "How About a Twenty-Six" | 4831 |
| palomino7 | Windows Server 2022 Datacenter | x64 | 4.5.0 RC (2025-04-04 r88126 ucrt) -- "How About a Twenty-Six" | 4573 |
| lconway | macOS 12.7.1 Monterey | x86_64 | 4.5.0 RC (2025-04-04 r88126) -- "How About a Twenty-Six" | 4599 |
| kjohnson3 | macOS 13.7.1 Ventura | arm64 | 4.5.0 RC (2025-04-04 r88126) -- "How About a Twenty-Six" | 4553 |
| kunpeng2 | Linux (openEuler 24.03 LTS) | aarch64 | R Under development (unstable) (2025-02-19 r87757) -- "Unsuffered Consequences" | 4570 |
| Click on any hostname to see more info about the system (e.g. compilers) (*) as reported by 'uname -p', except on Windows and Mac OS X | ||||
| Package 1492/2341 | Hostname | OS / Arch | INSTALL | BUILD | CHECK | BUILD BIN | ||||||||
| ontoProc 2.2.0 (landing page) Vincent Carey
| nebbiolo1 | Linux (Ubuntu 24.04.1 LTS) / x86_64 | OK | OK | OK | |||||||||
| palomino7 | Windows Server 2022 Datacenter / x64 | OK | OK | OK | OK | |||||||||
| lconway | macOS 12.7.1 Monterey / x86_64 | OK | OK | OK | OK | |||||||||
| kjohnson3 | macOS 13.7.1 Ventura / arm64 | OK | OK | OK | OK | |||||||||
| kunpeng2 | Linux (openEuler 24.03 LTS) / aarch64 | OK | OK | OK | ||||||||||
|
To the developers/maintainers of the ontoProc package: - Allow up to 24 hours (and sometimes 48 hours) for your latest push to git@git.bioconductor.org:packages/ontoProc.git to reflect on this report. See Troubleshooting Build Report for more information. - Use the following Renviron settings to reproduce errors and warnings. - If 'R CMD check' started to fail recently on the Linux builder(s) over a missing dependency, add the missing dependency to 'Suggests:' in your DESCRIPTION file. See Renviron.bioc for more information. |
| Package: ontoProc |
| Version: 2.2.0 |
| Command: /Library/Frameworks/R.framework/Resources/bin/R CMD check --install=check:ontoProc.install-out.txt --library=/Library/Frameworks/R.framework/Resources/library --no-vignettes --timings ontoProc_2.2.0.tar.gz |
| StartedAt: 2025-04-21 22:24:34 -0400 (Mon, 21 Apr 2025) |
| EndedAt: 2025-04-21 22:37:32 -0400 (Mon, 21 Apr 2025) |
| EllapsedTime: 778.1 seconds |
| RetCode: 0 |
| Status: OK |
| CheckDir: ontoProc.Rcheck |
| Warnings: 0 |
##############################################################################
##############################################################################
###
### Running command:
###
### /Library/Frameworks/R.framework/Resources/bin/R CMD check --install=check:ontoProc.install-out.txt --library=/Library/Frameworks/R.framework/Resources/library --no-vignettes --timings ontoProc_2.2.0.tar.gz
###
##############################################################################
##############################################################################
* using log directory ‘/Users/biocbuild/bbs-3.21-bioc/meat/ontoProc.Rcheck’
* using R version 4.5.0 RC (2025-04-04 r88126)
* using platform: x86_64-apple-darwin20
* R was compiled by
Apple clang version 14.0.0 (clang-1400.0.29.202)
GNU Fortran (GCC) 14.2.0
* running under: macOS Monterey 12.7.6
* using session charset: UTF-8
* using option ‘--no-vignettes’
* checking for file ‘ontoProc/DESCRIPTION’ ... OK
* this is package ‘ontoProc’ version ‘2.2.0’
* package encoding: UTF-8
* checking package namespace information ... OK
* checking package dependencies ... OK
* checking if this is a source package ... OK
* checking if there is a namespace ... OK
* checking for hidden files and directories ... OK
* checking for portable file names ... OK
* checking for sufficient/correct file permissions ... OK
* checking whether package ‘ontoProc’ can be installed ... OK
* checking installed package size ... INFO
installed size is 10.4Mb
sub-directories of 1Mb or more:
app 1.9Mb
data 1.8Mb
ontoRda 2.8Mb
owl 3.3Mb
* checking package directory ... OK
* checking ‘build’ directory ... OK
* checking DESCRIPTION meta-information ... OK
* checking top-level files ... OK
* checking for left-over files ... OK
* checking index information ... OK
* checking package subdirectories ... OK
* checking code files for non-ASCII characters ... OK
* checking R files for syntax errors ... OK
* checking whether the package can be loaded ... OK
* checking whether the package can be loaded with stated dependencies ... OK
* checking whether the package can be unloaded cleanly ... OK
* checking whether the namespace can be loaded with stated dependencies ... OK
* checking whether the namespace can be unloaded cleanly ... OK
* checking dependencies in R code ... NOTE
':::' call which should be '::': ‘ontologyPlot:::remove_uninformative_terms’
See the note in ?`:::` about the use of this operator.
* checking S3 generic/method consistency ... OK
* checking replacement functions ... OK
* checking foreign function calls ... OK
* checking R code for possible problems ... NOTE
CLfeat : prupdate: no visible binding for global variable ‘PROSYM’
CLfeat : prupdate: no visible binding for global variable ‘PRID’
CLfeat : prupdate: no visible binding for global variable ‘SYMBOL’
ctmarks : server: no visible binding for global variable ‘text’
ctmarks : server: no visible binding for global variable ‘packDesc2022’
ctmarks : server: no visible binding for global variable ‘packDesc2021’
ctmarks: no visible binding for global variable ‘cumu’
dropStop: no visible binding for global variable ‘stopWords’
getOnto: no visible binding for global variable ‘rdatadateadded’
getOnto: no visible binding for global variable ‘title’
getOnto: no visible binding for global variable ‘description’
ldfToTerm: no visible binding for global variable ‘PROSYM’
sym2CellOnto: no visible binding for global variable ‘PROSYM’
sym2CellOnto: no visible binding for global variable ‘SYMBOL’
Undefined global functions or variables:
PRID PROSYM SYMBOL cumu description packDesc2021 packDesc2022
rdatadateadded stopWords text title
Consider adding
importFrom("graphics", "text", "title")
to your NAMESPACE file.
* checking Rd files ... OK
* checking Rd metadata ... OK
* checking Rd cross-references ... NOTE
Found the following Rd file(s) with Rd \link{} targets missing package
anchors:
findCommonAncestors.Rd: graph, DataFrame-class, List-class
Please provide package anchors for all Rd \link{} targets not in the
package itself and the base packages.
* checking for missing documentation entries ... OK
* checking for code/documentation mismatches ... OK
* checking Rd \usage sections ... NOTE
S3 methods shown with full name in Rd file 'plot.owlents.Rd':
‘plot.owlents’
The \usage entries for S3 methods should use the \method markup and not
their full name.
See chapter ‘Writing R documentation files’ in the ‘Writing R
Extensions’ manual.
* checking Rd contents ... OK
* checking for unstated dependencies in examples ... OK
* checking contents of ‘data’ directory ... OK
* checking data for non-ASCII characters ... OK
* checking data for ASCII and uncompressed saves ... OK
* checking files in ‘vignettes’ ... OK
* checking examples ... OK
Examples with CPU (user + system) or elapsed time > 5s
user system elapsed
sym2CellOnto 45.321 1.054 47.009
CLfeats 33.404 3.865 50.754
siblings_TAG 25.110 1.158 27.221
getLeavesFromTerm 20.247 0.689 27.709
fastGrep 18.495 0.744 29.079
common_classes 14.983 1.768 30.707
nomenCheckup 15.101 0.456 15.871
cleanCLOnames 12.987 0.769 20.619
make_graphNEL_from_ontology_plot 12.294 0.551 21.327
findCommonAncestors 11.825 0.617 23.706
getOnto 11.322 0.584 16.584
TermSet-class 10.122 1.635 16.247
liberalMap 9.963 0.485 14.626
selectFromMap 9.302 0.656 10.382
ontoDiff 8.556 0.751 9.797
onto_plot2 8.287 0.355 8.855
secLevGen 8.312 0.329 9.019
mapOneNaive 8.120 0.420 9.056
search_labels 0.672 0.026 23.749
bioregistry_ols_resources 0.055 0.030 37.614
* checking for unstated dependencies in ‘tests’ ... OK
* checking tests ...
Running ‘test.R’
OK
* checking for unstated dependencies in vignettes ... OK
* checking package vignettes ... OK
* checking running R code from vignettes ... SKIPPED
* checking re-building of vignette outputs ... SKIPPED
* checking PDF version of manual ... OK
* DONE
Status: 4 NOTEs
See
‘/Users/biocbuild/bbs-3.21-bioc/meat/ontoProc.Rcheck/00check.log’
for details.
ontoProc.Rcheck/00install.out
############################################################################## ############################################################################## ### ### Running command: ### ### /Library/Frameworks/R.framework/Resources/bin/R CMD INSTALL ontoProc ### ############################################################################## ############################################################################## * installing to library ‘/Library/Frameworks/R.framework/Versions/4.5-x86_64/Resources/library’ * installing *source* package ‘ontoProc’ ... ** this is package ‘ontoProc’ version ‘2.2.0’ ** using staged installation ** R ** data ** inst ** byte-compile and prepare package for lazy loading ** help *** installing help indices ** building package indices ** installing vignettes ** testing if installed package can be loaded from temporary location ** testing if installed package can be loaded from final location ** testing if installed package keeps a record of temporary installation path * DONE (ontoProc)
ontoProc.Rcheck/tests/test.Rout
R version 4.5.0 RC (2025-04-04 r88126) -- "How About a Twenty-Six"
Copyright (C) 2025 The R Foundation for Statistical Computing
Platform: x86_64-apple-darwin20
R is free software and comes with ABSOLUTELY NO WARRANTY.
You are welcome to redistribute it under certain conditions.
Type 'license()' or 'licence()' for distribution details.
R is a collaborative project with many contributors.
Type 'contributors()' for more information and
'citation()' on how to cite R or R packages in publications.
Type 'demo()' for some demos, 'help()' for on-line help, or
'help.start()' for an HTML browser interface to help.
Type 'q()' to quit R.
>
> library(ontoProc)
Loading required package: ontologyIndex
> library(testthat)
>
> test_check("ontoProc")
[ FAIL 0 | WARN 0 | SKIP 0 | PASS 12 ]
>
>
> proc.time()
user system elapsed
71.159 3.353 77.016
ontoProc.Rcheck/ontoProc-Ex.timings
| name | user | system | elapsed | |
| CLfeats | 33.404 | 3.865 | 50.754 | |
| PROSYM | 0.245 | 0.077 | 1.331 | |
| TermSet-class | 10.122 | 1.635 | 16.247 | |
| allGOterms | 0.102 | 0.006 | 0.109 | |
| ancestors | 0.405 | 0.413 | 1.000 | |
| ancestors_names | 0.007 | 0.018 | 0.024 | |
| bioregistry_ols_resources | 0.055 | 0.030 | 37.614 | |
| cellTypeToGO | 2.401 | 0.236 | 4.191 | |
| children_names | 0.009 | 0.002 | 0.011 | |
| cleanCLOnames | 12.987 | 0.769 | 20.619 | |
| common_classes | 14.983 | 1.768 | 30.707 | |
| ctmarks | 0.000 | 0.001 | 0.000 | |
| cyclicSigset | 0.009 | 0.000 | 0.017 | |
| demoApp | 0.000 | 0.000 | 0.001 | |
| dropStop | 0.005 | 0.003 | 0.009 | |
| fastGrep | 18.495 | 0.744 | 29.079 | |
| findCommonAncestors | 11.825 | 0.617 | 23.706 | |
| getLeavesFromTerm | 20.247 | 0.689 | 27.709 | |
| getOnto | 11.322 | 0.584 | 16.584 | |
| humrna | 0.008 | 0.002 | 0.015 | |
| labels.owlents | 0.346 | 0.019 | 0.466 | |
| ldfToTerms | 3.425 | 0.061 | 3.808 | |
| liberalMap | 9.963 | 0.485 | 14.626 | |
| makeSelectInput | 0.001 | 0.000 | 0.001 | |
| make_graphNEL_from_ontology_plot | 12.294 | 0.551 | 21.327 | |
| mapOneNaive | 8.120 | 0.420 | 9.056 | |
| minicorpus | 0.001 | 0.002 | 0.003 | |
| nomenCheckup | 15.101 | 0.456 | 15.871 | |
| ontoDiff | 8.556 | 0.751 | 9.797 | |
| onto_plot2 | 8.287 | 0.355 | 8.855 | |
| onto_roots | 0.001 | 0.001 | 0.001 | |
| owl2cache | 0.027 | 0.002 | 0.028 | |
| packDesc2019 | 0.004 | 0.002 | 0.006 | |
| packDesc2021 | 0.003 | 0.001 | 0.004 | |
| packDesc2022 | 0.003 | 0.002 | 0.005 | |
| packDesc2023 | 0.003 | 0.002 | 0.005 | |
| parents | 0.006 | 0.001 | 0.008 | |
| plot.owlents | 0.261 | 0.013 | 0.277 | |
| quickOnto | 0.586 | 0.028 | 0.619 | |
| recognizedPredicates | 0 | 0 | 0 | |
| search_labels | 0.672 | 0.026 | 23.749 | |
| secLevGen | 8.312 | 0.329 | 9.019 | |
| selectFromMap | 9.302 | 0.656 | 10.382 | |
| setup_entities | 0.005 | 0.001 | 0.006 | |
| setup_entities2 | 0.404 | 0.015 | 0.420 | |
| seur3kTab | 0.002 | 0.002 | 0.005 | |
| siblings_TAG | 25.110 | 1.158 | 27.221 | |
| stopWords | 0.001 | 0.002 | 0.004 | |
| subclasses | 0.005 | 0.001 | 0.006 | |
| sym2CellOnto | 45.321 | 1.054 | 47.009 | |
| valid_ontonames | 0.000 | 0.001 | 0.000 | |