| Back to Multiple platform build/check report for BioC 3.21: simplified long |
|
This page was generated on 2025-04-22 13:18 -0400 (Tue, 22 Apr 2025).
| Hostname | OS | Arch (*) | R version | Installed pkgs |
|---|---|---|---|---|
| nebbiolo1 | Linux (Ubuntu 24.04.1 LTS) | x86_64 | 4.5.0 RC (2025-04-04 r88126) -- "How About a Twenty-Six" | 4831 |
| palomino7 | Windows Server 2022 Datacenter | x64 | 4.5.0 RC (2025-04-04 r88126 ucrt) -- "How About a Twenty-Six" | 4573 |
| lconway | macOS 12.7.1 Monterey | x86_64 | 4.5.0 RC (2025-04-04 r88126) -- "How About a Twenty-Six" | 4599 |
| kjohnson3 | macOS 13.7.1 Ventura | arm64 | 4.5.0 RC (2025-04-04 r88126) -- "How About a Twenty-Six" | 4553 |
| kunpeng2 | Linux (openEuler 24.03 LTS) | aarch64 | R Under development (unstable) (2025-02-19 r87757) -- "Unsuffered Consequences" | 4570 |
| Click on any hostname to see more info about the system (e.g. compilers) (*) as reported by 'uname -p', except on Windows and Mac OS X | ||||
| Package 1492/2341 | Hostname | OS / Arch | INSTALL | BUILD | CHECK | BUILD BIN | ||||||||
| ontoProc 2.2.0 (landing page) Vincent Carey
| nebbiolo1 | Linux (Ubuntu 24.04.1 LTS) / x86_64 | OK | OK | OK | |||||||||
| palomino7 | Windows Server 2022 Datacenter / x64 | OK | OK | OK | OK | |||||||||
| lconway | macOS 12.7.1 Monterey / x86_64 | OK | OK | OK | OK | |||||||||
| kjohnson3 | macOS 13.7.1 Ventura / arm64 | OK | OK | OK | OK | |||||||||
| kunpeng2 | Linux (openEuler 24.03 LTS) / aarch64 | OK | OK | OK | ||||||||||
|
To the developers/maintainers of the ontoProc package: - Allow up to 24 hours (and sometimes 48 hours) for your latest push to git@git.bioconductor.org:packages/ontoProc.git to reflect on this report. See Troubleshooting Build Report for more information. - Use the following Renviron settings to reproduce errors and warnings. - If 'R CMD check' started to fail recently on the Linux builder(s) over a missing dependency, add the missing dependency to 'Suggests:' in your DESCRIPTION file. See Renviron.bioc for more information. |
| Package: ontoProc |
| Version: 2.2.0 |
| Command: /Library/Frameworks/R.framework/Resources/bin/R CMD check --install=check:ontoProc.install-out.txt --library=/Library/Frameworks/R.framework/Resources/library --no-vignettes --timings ontoProc_2.2.0.tar.gz |
| StartedAt: 2025-04-21 20:44:32 -0400 (Mon, 21 Apr 2025) |
| EndedAt: 2025-04-21 20:49:19 -0400 (Mon, 21 Apr 2025) |
| EllapsedTime: 286.1 seconds |
| RetCode: 0 |
| Status: OK |
| CheckDir: ontoProc.Rcheck |
| Warnings: 0 |
##############################################################################
##############################################################################
###
### Running command:
###
### /Library/Frameworks/R.framework/Resources/bin/R CMD check --install=check:ontoProc.install-out.txt --library=/Library/Frameworks/R.framework/Resources/library --no-vignettes --timings ontoProc_2.2.0.tar.gz
###
##############################################################################
##############################################################################
* using log directory ‘/Users/biocbuild/bbs-3.21-bioc/meat/ontoProc.Rcheck’
* using R version 4.5.0 RC (2025-04-04 r88126)
* using platform: aarch64-apple-darwin20
* R was compiled by
Apple clang version 14.0.0 (clang-1400.0.29.202)
GNU Fortran (GCC) 14.2.0
* running under: macOS Ventura 13.7.1
* using session charset: UTF-8
* using option ‘--no-vignettes’
* checking for file ‘ontoProc/DESCRIPTION’ ... OK
* this is package ‘ontoProc’ version ‘2.2.0’
* package encoding: UTF-8
* checking package namespace information ... OK
* checking package dependencies ... OK
* checking if this is a source package ... OK
* checking if there is a namespace ... OK
* checking for hidden files and directories ... OK
* checking for portable file names ... OK
* checking for sufficient/correct file permissions ... OK
* checking whether package ‘ontoProc’ can be installed ... OK
* checking installed package size ... INFO
installed size is 10.4Mb
sub-directories of 1Mb or more:
app 1.9Mb
data 1.8Mb
ontoRda 2.8Mb
owl 3.3Mb
* checking package directory ... OK
* checking ‘build’ directory ... OK
* checking DESCRIPTION meta-information ... OK
* checking top-level files ... OK
* checking for left-over files ... OK
* checking index information ... OK
* checking package subdirectories ... OK
* checking code files for non-ASCII characters ... OK
* checking R files for syntax errors ... OK
* checking whether the package can be loaded ... OK
* checking whether the package can be loaded with stated dependencies ... OK
* checking whether the package can be unloaded cleanly ... OK
* checking whether the namespace can be loaded with stated dependencies ... OK
* checking whether the namespace can be unloaded cleanly ... OK
* checking dependencies in R code ... NOTE
':::' call which should be '::': ‘ontologyPlot:::remove_uninformative_terms’
See the note in ?`:::` about the use of this operator.
* checking S3 generic/method consistency ... OK
* checking replacement functions ... OK
* checking foreign function calls ... OK
* checking R code for possible problems ... NOTE
CLfeat : prupdate: no visible binding for global variable ‘PROSYM’
CLfeat : prupdate: no visible binding for global variable ‘PRID’
CLfeat : prupdate: no visible binding for global variable ‘SYMBOL’
ctmarks : server: no visible binding for global variable ‘text’
ctmarks : server: no visible binding for global variable ‘packDesc2022’
ctmarks : server: no visible binding for global variable ‘packDesc2021’
ctmarks: no visible binding for global variable ‘cumu’
dropStop: no visible binding for global variable ‘stopWords’
getOnto: no visible binding for global variable ‘rdatadateadded’
getOnto: no visible binding for global variable ‘title’
getOnto: no visible binding for global variable ‘description’
ldfToTerm: no visible binding for global variable ‘PROSYM’
sym2CellOnto: no visible binding for global variable ‘PROSYM’
sym2CellOnto: no visible binding for global variable ‘SYMBOL’
Undefined global functions or variables:
PRID PROSYM SYMBOL cumu description packDesc2021 packDesc2022
rdatadateadded stopWords text title
Consider adding
importFrom("graphics", "text", "title")
to your NAMESPACE file.
* checking Rd files ... OK
* checking Rd metadata ... OK
* checking Rd cross-references ... NOTE
Found the following Rd file(s) with Rd \link{} targets missing package
anchors:
findCommonAncestors.Rd: graph, DataFrame-class, List-class
Please provide package anchors for all Rd \link{} targets not in the
package itself and the base packages.
* checking for missing documentation entries ... OK
* checking for code/documentation mismatches ... OK
* checking Rd \usage sections ... NOTE
S3 methods shown with full name in Rd file 'plot.owlents.Rd':
‘plot.owlents’
The \usage entries for S3 methods should use the \method markup and not
their full name.
See chapter ‘Writing R documentation files’ in the ‘Writing R
Extensions’ manual.
* checking Rd contents ... OK
* checking for unstated dependencies in examples ... OK
* checking contents of ‘data’ directory ... OK
* checking data for non-ASCII characters ... OK
* checking data for ASCII and uncompressed saves ... OK
* checking files in ‘vignettes’ ... OK
* checking examples ... OK
Examples with CPU (user + system) or elapsed time > 5s
user system elapsed
sym2CellOnto 20.795 0.367 23.221
CLfeats 12.435 0.521 13.640
siblings_TAG 9.172 0.428 10.105
labels.owlents 7.136 0.207 11.267
getLeavesFromTerm 6.314 0.177 6.662
owl2cache 6.083 0.126 6.216
fastGrep 5.781 0.164 6.134
nomenCheckup 5.570 0.195 5.946
common_classes 5.055 0.368 5.647
cleanCLOnames 4.991 0.169 5.736
make_graphNEL_from_ontology_plot 4.336 0.238 7.016
liberalMap 4.273 0.186 6.249
search_labels 0.133 0.011 8.166
bioregistry_ols_resources 0.018 0.008 6.650
* checking for unstated dependencies in ‘tests’ ... OK
* checking tests ...
Running ‘test.R’
OK
* checking for unstated dependencies in vignettes ... OK
* checking package vignettes ... OK
* checking running R code from vignettes ... SKIPPED
* checking re-building of vignette outputs ... SKIPPED
* checking PDF version of manual ... OK
* DONE
Status: 4 NOTEs
See
‘/Users/biocbuild/bbs-3.21-bioc/meat/ontoProc.Rcheck/00check.log’
for details.
ontoProc.Rcheck/00install.out
############################################################################## ############################################################################## ### ### Running command: ### ### /Library/Frameworks/R.framework/Resources/bin/R CMD INSTALL ontoProc ### ############################################################################## ############################################################################## * installing to library ‘/Library/Frameworks/R.framework/Versions/4.5-arm64/Resources/library’ * installing *source* package ‘ontoProc’ ... ** this is package ‘ontoProc’ version ‘2.2.0’ ** using staged installation ** R ** data ** inst ** byte-compile and prepare package for lazy loading ** help *** installing help indices ** building package indices ** installing vignettes ** testing if installed package can be loaded from temporary location ** testing if installed package can be loaded from final location ** testing if installed package keeps a record of temporary installation path * DONE (ontoProc)
ontoProc.Rcheck/tests/test.Rout
R version 4.5.0 RC (2025-04-04 r88126) -- "How About a Twenty-Six"
Copyright (C) 2025 The R Foundation for Statistical Computing
Platform: aarch64-apple-darwin20
R is free software and comes with ABSOLUTELY NO WARRANTY.
You are welcome to redistribute it under certain conditions.
Type 'license()' or 'licence()' for distribution details.
R is a collaborative project with many contributors.
Type 'contributors()' for more information and
'citation()' on how to cite R or R packages in publications.
Type 'demo()' for some demos, 'help()' for on-line help, or
'help.start()' for an HTML browser interface to help.
Type 'q()' to quit R.
>
> library(ontoProc)
Loading required package: ontologyIndex
> library(testthat)
>
> test_check("ontoProc")
[ FAIL 0 | WARN 0 | SKIP 0 | PASS 12 ]
>
>
> proc.time()
user system elapsed
27.723 1.294 35.292
ontoProc.Rcheck/ontoProc-Ex.timings
| name | user | system | elapsed | |
| CLfeats | 12.435 | 0.521 | 13.640 | |
| PROSYM | 0.118 | 0.002 | 0.120 | |
| TermSet-class | 3.540 | 0.180 | 3.925 | |
| allGOterms | 0.049 | 0.002 | 0.051 | |
| ancestors | 4.542 | 0.208 | 4.394 | |
| ancestors_names | 1.063 | 0.013 | 1.077 | |
| bioregistry_ols_resources | 0.018 | 0.008 | 6.650 | |
| cellTypeToGO | 0.720 | 0.048 | 0.779 | |
| children_names | 1.027 | 0.013 | 1.041 | |
| cleanCLOnames | 4.991 | 0.169 | 5.736 | |
| common_classes | 5.055 | 0.368 | 5.647 | |
| ctmarks | 0 | 0 | 0 | |
| cyclicSigset | 0.002 | 0.000 | 0.002 | |
| demoApp | 0 | 0 | 0 | |
| dropStop | 0.002 | 0.001 | 0.002 | |
| fastGrep | 5.781 | 0.164 | 6.134 | |
| findCommonAncestors | 3.017 | 0.181 | 3.364 | |
| getLeavesFromTerm | 6.314 | 0.177 | 6.662 | |
| getOnto | 3.640 | 0.146 | 4.735 | |
| humrna | 0.003 | 0.000 | 0.003 | |
| labels.owlents | 7.136 | 0.207 | 11.267 | |
| ldfToTerms | 1.575 | 0.035 | 2.523 | |
| liberalMap | 4.273 | 0.186 | 6.249 | |
| makeSelectInput | 0.000 | 0.000 | 0.001 | |
| make_graphNEL_from_ontology_plot | 4.336 | 0.238 | 7.016 | |
| mapOneNaive | 2.678 | 0.192 | 3.414 | |
| minicorpus | 0.001 | 0.001 | 0.000 | |
| nomenCheckup | 5.570 | 0.195 | 5.946 | |
| ontoDiff | 3.078 | 0.287 | 3.687 | |
| onto_plot2 | 2.679 | 0.151 | 2.989 | |
| onto_roots | 0.000 | 0.001 | 0.001 | |
| owl2cache | 6.083 | 0.126 | 6.216 | |
| packDesc2019 | 0.001 | 0.001 | 0.002 | |
| packDesc2021 | 0.001 | 0.001 | 0.001 | |
| packDesc2022 | 0.001 | 0.000 | 0.002 | |
| packDesc2023 | 0.001 | 0.001 | 0.001 | |
| parents | 1.108 | 0.013 | 1.122 | |
| plot.owlents | 2.138 | 0.073 | 2.213 | |
| quickOnto | 0.105 | 0.012 | 0.117 | |
| recognizedPredicates | 0 | 0 | 0 | |
| search_labels | 0.133 | 0.011 | 8.166 | |
| secLevGen | 2.976 | 0.161 | 3.440 | |
| selectFromMap | 2.711 | 0.153 | 3.020 | |
| setup_entities | 1.003 | 0.012 | 1.019 | |
| setup_entities2 | 0.263 | 0.019 | 0.283 | |
| seur3kTab | 0.020 | 0.000 | 0.021 | |
| siblings_TAG | 9.172 | 0.428 | 10.105 | |
| stopWords | 0.001 | 0.001 | 0.001 | |
| subclasses | 1.031 | 0.026 | 1.066 | |
| sym2CellOnto | 20.795 | 0.367 | 23.221 | |
| valid_ontonames | 0.000 | 0.001 | 0.001 | |