| Back to Multiple platform build/check report for BioC 3.21: simplified long |
|
This page was generated on 2025-10-16 11:41 -0400 (Thu, 16 Oct 2025).
| Hostname | OS | Arch (*) | R version | Installed pkgs |
|---|---|---|---|---|
| nebbiolo1 | Linux (Ubuntu 24.04.3 LTS) | x86_64 | 4.5.1 (2025-06-13) -- "Great Square Root" | 4833 |
| merida1 | macOS 12.7.6 Monterey | x86_64 | 4.5.1 RC (2025-06-05 r88288) -- "Great Square Root" | 4614 |
| kjohnson1 | macOS 13.7.5 Ventura | arm64 | 4.5.1 Patched (2025-06-14 r88325) -- "Great Square Root" | 4555 |
| kunpeng2 | Linux (openEuler 24.03 LTS) | aarch64 | R Under development (unstable) (2025-02-19 r87757) -- "Unsuffered Consequences" | 4586 |
| Click on any hostname to see more info about the system (e.g. compilers) (*) as reported by 'uname -p', except on Windows and Mac OS X | ||||
| Package 1289/2341 | Hostname | OS / Arch | INSTALL | BUILD | CHECK | BUILD BIN | ||||||||
| mina 1.16.0 (landing page) Rui Guan
| nebbiolo1 | Linux (Ubuntu 24.04.3 LTS) / x86_64 | OK | OK | WARNINGS | |||||||||
| merida1 | macOS 12.7.6 Monterey / x86_64 | OK | OK | WARNINGS | OK | |||||||||
| kjohnson1 | macOS 13.7.5 Ventura / arm64 | OK | OK | WARNINGS | OK | |||||||||
| kunpeng2 | Linux (openEuler 24.03 LTS) / aarch64 | OK | OK | ERROR | ||||||||||
|
To the developers/maintainers of the mina package: - Allow up to 24 hours (and sometimes 48 hours) for your latest push to git@git.bioconductor.org:packages/mina.git to reflect on this report. See Troubleshooting Build Report for more information. - Use the following Renviron settings to reproduce errors and warnings. - If 'R CMD check' started to fail recently on the Linux builder(s) over a missing dependency, add the missing dependency to 'Suggests:' in your DESCRIPTION file. See Renviron.bioc for more information. - See Martin Grigorov's blog post for how to debug Linux ARM64 related issues on a x86_64 host. |
| Package: mina |
| Version: 1.16.0 |
| Command: /home/biocbuild/R/R/bin/R CMD INSTALL mina |
| StartedAt: 2025-10-13 20:23:07 -0000 (Mon, 13 Oct 2025) |
| EndedAt: 2025-10-13 20:23:51 -0000 (Mon, 13 Oct 2025) |
| EllapsedTime: 44.7 seconds |
| RetCode: 0 |
| Status: OK |
##############################################################################
##############################################################################
###
### Running command:
###
### /home/biocbuild/R/R/bin/R CMD INSTALL mina
###
##############################################################################
##############################################################################
* installing to library ‘/home/biocbuild/R/R-devel_2025-02-19/site-library’
* installing *source* package ‘mina’ ...
** this is package ‘mina’ version ‘1.16.0’
** using staged installation
** libs
using C++ compiler: ‘aarch64-unknown-linux-gnu-g++ (GCC) 14.2.0’
/opt/ohpc/pub/compiler/gcc/14.2.0/bin/aarch64-unknown-linux-gnu-g++ -std=gnu++17 -I"/home/biocbuild/R/R/include" -DNDEBUG -I'/home/biocbuild/R/R-devel_2025-02-19/site-library/Rcpp/include' -I'/home/biocbuild/R/R-devel_2025-02-19/site-library/RcppParallel/include' -I'/home/biocbuild/R/R-devel_2025-02-19/site-library/RcppArmadillo/include' -I/usr/local/include -fPIC -g -O2 -Wall -Werror=format-security -c RcppExports.cpp -o RcppExports.o
/opt/ohpc/pub/compiler/gcc/14.2.0/bin/aarch64-unknown-linux-gnu-g++ -std=gnu++17 -I"/home/biocbuild/R/R/include" -DNDEBUG -I'/home/biocbuild/R/R-devel_2025-02-19/site-library/Rcpp/include' -I'/home/biocbuild/R/R-devel_2025-02-19/site-library/RcppParallel/include' -I'/home/biocbuild/R/R-devel_2025-02-19/site-library/RcppArmadillo/include' -I/usr/local/include -fPIC -g -O2 -Wall -Werror=format-security -c cp_cor.cpp -o cp_cor.o
In file included from /home/biocbuild/R/R-devel_2025-02-19/site-library/RcppParallel/include/tbb/tbb.h:32,
from /home/biocbuild/R/R-devel_2025-02-19/site-library/RcppParallel/include/RcppParallel/TBB.h:10,
from /home/biocbuild/R/R-devel_2025-02-19/site-library/RcppParallel/include/RcppParallel.h:24,
from cp_cor.cpp:6:
/home/biocbuild/R/R-devel_2025-02-19/site-library/RcppParallel/include/tbb/atomic.h: In instantiation of ‘tbb::atomic<T>& tbb::internal::as_atomic(T&) [with T = long unsigned int]’:
/home/biocbuild/R/R-devel_2025-02-19/site-library/RcppParallel/include/tbb/tbb_thread.h:251:29: required from here
251 | return as_atomic(location.my_id).compare_and_swap(value.my_id, comparand.my_id);
| ~~~~~~~~~^~~~~~~~~~~~~~~~
/home/biocbuild/R/R-devel_2025-02-19/site-library/RcppParallel/include/tbb/atomic.h:544:12: warning: casting ‘long unsigned int’ to ‘tbb::atomic<long unsigned int>&’ does not use ‘constexpr tbb::atomic<long unsigned int>::atomic(long unsigned int)’ [-Wcast-user-defined]
544 | return (atomic<T>&)t;
| ^~~~~~~~~~~~~
/home/biocbuild/R/R-devel_2025-02-19/site-library/RcppParallel/include/tbb/atomic.h: In instantiation of ‘tbb::atomic<T>& tbb::internal::as_atomic(T&) [with T = tbb::interface5::internal::hash_map_base::bucket*]’:
/home/biocbuild/R/R-devel_2025-02-19/site-library/RcppParallel/include/tbb/concurrent_hash_map.h:291:31: required from here
291 | && as_atomic(my_table[new_seg]).compare_and_swap(is_allocating, NULL) == NULL )
| ~~~~~~~~~^~~~~~~~~~~~~~~~~~~
/home/biocbuild/R/R-devel_2025-02-19/site-library/RcppParallel/include/tbb/atomic.h:544:12: warning: casting ‘tbb::interface5::internal::hash_map_base::bucket*’ to ‘tbb::atomic<tbb::interface5::internal::hash_map_base::bucket*>&’ does not use ‘constexpr tbb::atomic<T*>::atomic(T*) [with T = tbb::interface5::internal::hash_map_base::bucket]’ [-Wcast-user-defined]
544 | return (atomic<T>&)t;
| ^~~~~~~~~~~~~
/opt/ohpc/pub/compiler/gcc/14.2.0/bin/aarch64-unknown-linux-gnu-g++ -std=gnu++17 -shared -L/home/biocbuild/R/R/lib -L/usr/local/lib -o mina.so RcppExports.o cp_cor.o -L/home/biocbuild/R/R/lib -lR
installing to /home/biocbuild/R/R-devel_2025-02-19/site-library/00LOCK-mina/00new/mina/libs
** R
** data
*** moving datasets to lazyload DB
** byte-compile and prepare package for lazy loading
Creating a new generic function for ‘norm’ in package ‘mina’
** help
*** installing help indices
** building package indices
** installing vignettes
** testing if installed package can be loaded from temporary location
** checking absolute paths in shared objects and dynamic libraries
** testing if installed package can be loaded from final location
** testing if installed package keeps a record of temporary installation path
* DONE (mina)