Back to Multiple platform build/check report for BioC 3.21:   simplified   long
ABCDEFGHIJKL[M]NOPQRSTUVWXYZ

This page was generated on 2025-02-15 11:41 -0500 (Sat, 15 Feb 2025).

HostnameOSArch (*)R versionInstalled pkgs
nebbiolo1Linux (Ubuntu 24.04.1 LTS)x86_64R Under development (unstable) (2025-01-20 r87609) -- "Unsuffered Consequences" 4720
palomino7Windows Server 2022 Datacenterx64R Under development (unstable) (2025-01-21 r87610 ucrt) -- "Unsuffered Consequences" 4482
lconwaymacOS 12.7.1 Montereyx86_64R Under development (unstable) (2025-01-22 r87618) -- "Unsuffered Consequences" 4493
kjohnson3macOS 13.7.1 Venturaarm64R Under development (unstable) (2025-01-20 r87609) -- "Unsuffered Consequences" 4446
Click on any hostname to see more info about the system (e.g. compilers)      (*) as reported by 'uname -p', except on Windows and Mac OS X

Package 1201/2295HostnameOS / ArchINSTALLBUILDCHECKBUILD BIN
metabinR 1.9.0  (landing page)
Anestis Gkanogiannis
Snapshot Date: 2025-02-14 13:40 -0500 (Fri, 14 Feb 2025)
git_url: https://git.bioconductor.org/packages/metabinR
git_branch: devel
git_last_commit: e7264a2
git_last_commit_date: 2024-10-29 11:16:18 -0500 (Tue, 29 Oct 2024)
nebbiolo1Linux (Ubuntu 24.04.1 LTS) / x86_64  OK    OK    OK  UNNEEDED, same version is already published
palomino7Windows Server 2022 Datacenter / x64  OK    OK    OK    OK  UNNEEDED, same version is already published
lconwaymacOS 12.7.1 Monterey / x86_64  OK    OK    OK    OK  UNNEEDED, same version is already published
kjohnson3macOS 13.7.1 Ventura / arm64  OK    OK    OK    OK  UNNEEDED, same version is already published


CHECK results for metabinR on palomino7

To the developers/maintainers of the metabinR package:
- Allow up to 24 hours (and sometimes 48 hours) for your latest push to git@git.bioconductor.org:packages/metabinR.git to reflect on this report. See Troubleshooting Build Report for more information.
- Use the following Renviron settings to reproduce errors and warnings.
- If 'R CMD check' started to fail recently on the Linux builder(s) over a missing dependency, add the missing dependency to 'Suggests:' in your DESCRIPTION file. See Renviron.bioc for more information.

raw results


Summary

Package: metabinR
Version: 1.9.0
Command: E:\biocbuild\bbs-3.21-bioc\R\bin\R.exe CMD check --no-multiarch --install=check:metabinR.install-out.txt --library=E:\biocbuild\bbs-3.21-bioc\R\library --no-vignettes --timings metabinR_1.9.0.tar.gz
StartedAt: 2025-02-15 02:50:36 -0500 (Sat, 15 Feb 2025)
EndedAt: 2025-02-15 02:51:52 -0500 (Sat, 15 Feb 2025)
EllapsedTime: 76.0 seconds
RetCode: 0
Status:   OK  
CheckDir: metabinR.Rcheck
Warnings: 0

Command output

##############################################################################
##############################################################################
###
### Running command:
###
###   E:\biocbuild\bbs-3.21-bioc\R\bin\R.exe CMD check --no-multiarch --install=check:metabinR.install-out.txt --library=E:\biocbuild\bbs-3.21-bioc\R\library --no-vignettes --timings metabinR_1.9.0.tar.gz
###
##############################################################################
##############################################################################


* using log directory 'E:/biocbuild/bbs-3.21-bioc/meat/metabinR.Rcheck'
* using R Under development (unstable) (2025-01-21 r87610 ucrt)
* using platform: x86_64-w64-mingw32
* R was compiled by
    gcc.exe (GCC) 13.3.0
    GNU Fortran (GCC) 13.3.0
* running under: Windows Server 2022 x64 (build 20348)
* using session charset: UTF-8
* using option '--no-vignettes'
* checking for file 'metabinR/DESCRIPTION' ... OK
* checking extension type ... Package
* this is package 'metabinR' version '1.9.0'
* package encoding: UTF-8
* checking package namespace information ... OK
* checking package dependencies ... OK
* checking if this is a source package ... OK
* checking if there is a namespace ... OK
* checking for hidden files and directories ... OK
* checking for portable file names ... OK
* checking whether package 'metabinR' can be installed ... OK
* checking installed package size ... OK
* checking package directory ... OK
* checking 'build' directory ... OK
* checking DESCRIPTION meta-information ... OK
* checking top-level files ... OK
* checking for left-over files ... OK
* checking index information ... OK
* checking package subdirectories ... OK
* checking code files for non-ASCII characters ... OK
* checking R files for syntax errors ... OK
* checking whether the package can be loaded ... OK
* checking whether the package can be loaded with stated dependencies ... OK
* checking whether the package can be unloaded cleanly ... OK
* checking whether the namespace can be loaded with stated dependencies ... OK
* checking whether the namespace can be unloaded cleanly ... OK
* checking whether startup messages can be suppressed ... OK
* checking dependencies in R code ... OK
* checking S3 generic/method consistency ... OK
* checking replacement functions ... OK
* checking foreign function calls ... OK
* checking R code for possible problems ... OK
* checking Rd files ... OK
* checking Rd metadata ... OK
* checking Rd cross-references ... OK
* checking for missing documentation entries ... OK
* checking for code/documentation mismatches ... OK
* checking Rd \usage sections ... OK
* checking Rd contents ... OK
* checking for unstated dependencies in examples ... OK
* checking files in 'vignettes' ... OK
* checking examples ... OK
Examples with CPU (user + system) or elapsed time > 5s
                          user system elapsed
abundance_based_binning   8.60   0.82    7.30
composition_based_binning 6.28   0.52    2.33
hierarchical_binning      5.69   0.52    4.10
* checking for unstated dependencies in 'tests' ... OK
* checking tests ...
  Running 'spelling.R'
  Running 'testthat.R'
 OK
* checking for unstated dependencies in vignettes ... OK
* checking package vignettes ... OK
* checking running R code from vignettes ... SKIPPED
* checking re-building of vignette outputs ... SKIPPED
* checking PDF version of manual ... OK
* DONE

Status: OK


Installation output

metabinR.Rcheck/00install.out

##############################################################################
##############################################################################
###
### Running command:
###
###   E:\biocbuild\bbs-3.21-bioc\R\bin\R.exe CMD INSTALL metabinR
###
##############################################################################
##############################################################################


* installing to library 'E:/biocbuild/bbs-3.21-bioc/R/library'
* installing *source* package 'metabinR' ...
** this is package 'metabinR' version '1.9.0'
** using staged installation
** R
** inst
** byte-compile and prepare package for lazy loading
** help
*** installing help indices
** building package indices
** installing vignettes
** testing if installed package can be loaded from temporary location
** testing if installed package can be loaded from final location
** testing if installed package keeps a record of temporary installation path
* DONE (metabinR)

Tests output

metabinR.Rcheck/tests/spelling.Rout


R Under development (unstable) (2025-01-21 r87610 ucrt) -- "Unsuffered Consequences"
Copyright (C) 2025 The R Foundation for Statistical Computing
Platform: x86_64-w64-mingw32/x64

R is free software and comes with ABSOLUTELY NO WARRANTY.
You are welcome to redistribute it under certain conditions.
Type 'license()' or 'licence()' for distribution details.

R is a collaborative project with many contributors.
Type 'contributors()' for more information and
'citation()' on how to cite R or R packages in publications.

Type 'demo()' for some demos, 'help()' for on-line help, or
'help.start()' for an HTML browser interface to help.
Type 'q()' to quit R.

> if(requireNamespace('spelling', quietly = TRUE))
+     spelling::spell_check_test(vignettes = TRUE, error = FALSE,
+                                                         skip_on_cran = TRUE)
NULL
> 
> proc.time()
   user  system elapsed 
   0.21    0.06    0.31 

metabinR.Rcheck/tests/testthat.Rout


R Under development (unstable) (2025-01-21 r87610 ucrt) -- "Unsuffered Consequences"
Copyright (C) 2025 The R Foundation for Statistical Computing
Platform: x86_64-w64-mingw32/x64

R is free software and comes with ABSOLUTELY NO WARRANTY.
You are welcome to redistribute it under certain conditions.
Type 'license()' or 'licence()' for distribution details.

R is a collaborative project with many contributors.
Type 'contributors()' for more information and
'citation()' on how to cite R or R packages in publications.

Type 'demo()' for some demos, 'help()' for on-line help, or
'help.start()' for an HTML browser interface to help.
Type 'q()' to quit R.

> library(testthat)
> library(metabinR)
> 
> test_check("metabinR")
version MTxAB =Fri Feb 14 15:23:18 EST 2025
cpus=32
using=1
2025/02/15 02:51:20 Using Dictionary ORIGINAL
2025/02/15 02:51:20 START of AB Counting
2025/02/15 02:51:20 FastaManager: START READ
2025/02/15 02:51:20 SequenceProcessor: 0	AB_KMERCOUNT START
CHUNK_SIZE=67108864
2025/02/15 02:51:20 FastaManager: lines read 53328
2025/02/15 02:51:20 FastaManager: END READ
2025/02/15 02:51:20 FastaManager: FASTA
2025/02/15 02:51:22 SequenceProcessor: 0	AB_KMERCOUNT EXIT
2025/02/15 02:51:22 END of AB Counting
2025/02/15 02:51:22 Loaded sequences: 26664
2025/02/15 02:51:22 Total kmers(before remove):	65536


##### Heap utilization statistics [GB] #####
Max Memory=0.5
Current Total Memory=0.5
Current Used Memory=0.303
Current Free Memory=0.197
############################################

2025/02/15 02:51:22
Unique:		0
Distinct:	65536
Total:		7625904
MaxCount:	1574

2025/02/15 02:51:22 START of EMsync
	Run=1
	Run=2
	Run=3
	Run=4
	Run=5
	Run=6
	Run=7
	Run=8
	Run=9
	Run=10
	Run=11
	Run=12
	Run=13
	Run=14
	Run=15
	Run=16
	Run=17
	Run=18
	Run=19
	Run=20
	Run=21
	Run=22
	Run=23
	Run=24
	Run=25
2025/02/15 02:51:22	Runs=25
2025/02/15 02:51:22 END of EMsync
2025/02/15 02:51:22 START of Creating AB Cluster Vectors
	Cluster 1	Abundance=241.01134335779187	Length=16168.173737759438	LowLimit=163	HighLimit=318
	Cluster 2	Abundance=75.53888858729701	Length=49367.826262240575	LowLimit=32	HighLimit=118
2025/02/15 02:51:22	Trove size/4=18022
2025/02/15 02:51:22	Trove size/4=18022
2025/02/15 02:51:22	Cluster 1	size in kmers=65536	norm=126.5058948513796
2025/02/15 02:51:22	Cluster 2	size in kmers=65536	norm=221.81983091435748
2025/02/15 02:51:22 END of Creating AB Cluster Vectors
cpus=32
using=1
2025/02/15 02:51:23 START of AB Binning
2025/02/15 02:51:23 FastaManager: START READ
2025/02/15 02:51:23 SequenceProcessor: 0	AB_BINNING START
2025/02/15 02:51:23 FastaManager: lines read 53328
2025/02/15 02:51:23 FastaManager: END READ
2025/02/15 02:51:23 FastaManager: FASTA
2025/02/15 02:51:25 SequenceProcessor: 0	AB_BINNING EXIT
2025/02/15 02:51:25 END of AB Binning
	Clustered reads:
		AB Cluster 1: 19871
		AB Cluster 2: 6793

##### Heap utilization statistics [GB] #####
Max Memory=0.5
Current Total Memory=0.5
Current Used Memory=0.382
Current Free Memory=0.118
############################################

version MTxCB =Fri Feb 14 15:23:18 EST 2025
cpus=32
using=1
2025/02/15 02:51:25 START of CB Counting
2025/02/15 02:51:25 FastaManager: START READ
2025/02/15 02:51:25 SequenceProcessor: 0	CB_SEQUENCEVECTORBUILD START
2025/02/15 02:51:25 FastaManager: lines read 53328
2025/02/15 02:51:25 FastaManager: END READ
2025/02/15 02:51:25 FastaManager: FASTA
2025/02/15 02:51:26 SequenceProcessor: 0	CB_SEQUENCEVECTORBUILD EXIT
2025/02/15 02:51:26 END of CB Counting
2025/02/15 02:51:26 Loaded sequences: 26664

##### Heap utilization statistics [GB] #####
Max Memory=0.5
Current Total Memory=0.5
Current Used Memory=0.407
Current Free Memory=0.093
############################################

cpus=32
using=1
2025/02/15 02:51:26 START of Creating CB Clusters	Size=26664
K-Means clustering started
... centers initialized
... concurrent processing mode with 1 subtask threads
... iteration 1 moves = 5837
... iteration 2 moves = 836
... iteration 3 moves = 282
... iteration 4 moves = 158
... iteration 5 moves = 111
... iteration 6 moves = 76
... iteration 7 moves = 43
... iteration 8 moves = 30
... iteration 9 moves = 28
... iteration 10 moves = 28
... iteration 11 moves = 14
... iteration 12 moves = 7
... iteration 13 moves = 8
... iteration 14 moves = 1
... iteration 15 moves = 7
... iteration 16 moves = 9
... iteration 17 moves = 5
... iteration 18 moves = 1
... iteration 19 moves = 2
... iteration 20 moves = 0
...end.	5.717 seconds.
2025/02/15 02:51:32 : kMeans cleanup.
2025/02/15 02:51:32 END of Creating CB Clusters.
cpus=32
using=1
2025/02/15 02:51:32 START of CB Binning
2025/02/15 02:51:32 FastaManager: START READ
2025/02/15 02:51:32 SequenceProcessor: 0	CB_BINNING START
2025/02/15 02:51:32 FastaManager: lines read 53328
2025/02/15 02:51:32 FastaManager: END READ
2025/02/15 02:51:32 FastaManager: FASTA
2025/02/15 02:51:32 SequenceProcessor: 0	CB_BINNING EXIT
	Clustered reads:
		CB Cluster 1: 17373
		CB Cluster 2: 9291

##### Heap utilization statistics [GB] #####
Max Memory=0.5
Current Total Memory=0.5
Current Used Memory=0.336
Current Free Memory=0.164
############################################

version MTxABxCB =Fri Feb 14 15:23:18 EST 2025
cpus=32
using=1
2025/02/15 02:51:32 Using Dictionary ORIGINAL
2025/02/15 02:51:32 START of AB Counting
2025/02/15 02:51:32 FastaManager: START READ
2025/02/15 02:51:32 SequenceProcessor: 0	AB_KMERCOUNT START
2025/02/15 02:51:32 FastaManager: lines read 53328
2025/02/15 02:51:32 FastaManager: END READ
2025/02/15 02:51:32 FastaManager: FASTA
2025/02/15 02:51:34 SequenceProcessor: 0	AB_KMERCOUNT EXIT
2025/02/15 02:51:34 END of AB Counting
2025/02/15 02:51:34 Loaded sequences: 26664
2025/02/15 02:51:34 Distinct kmers(before remove):	65536


##### Heap utilization statistics [GB] #####
Max Memory=0.5
Current Total Memory=0.5
Current Used Memory=0.276
Current Free Memory=0.224
############################################

2025/02/15 02:51:34
Unique:		0
Distinct:	65536
Total:		7625904
MaxCount:	1574

2025/02/15 02:51:34 START of EMsync
	Run=1
	Run=2
	Run=3
	Run=4
	Run=5
	Run=6
	Run=7
	Run=8
	Run=9
	Run=10
	Run=11
	Run=12
	Run=13
	Run=14
	Run=15
	Run=16
	Run=17
	Run=18
	Run=19
	Run=20
	Run=21
	Run=22
	Run=23
	Run=24
	Run=25
2025/02/15 02:51:34	Runs=25
2025/02/15 02:51:34 END of EMsync
2025/02/15 02:51:34	Filter before=2
2025/02/15 02:51:34	Filter after=2
2025/02/15 02:51:34 START of Creating AB Cluster Vectors
	Cluster 1	Abundance=241.01134335779187	Length=16168.173737759438	LowLimit=163	HighLimit=318
	Cluster 2	Abundance=75.53888858729701	Length=49367.826262240575	LowLimit=32	HighLimit=118
2025/02/15 02:51:34	Trove size/4=18022
2025/02/15 02:51:34	Trove size/4=18022
2025/02/15 02:51:34	Cluster 1	size in kmers=65536	norm=126.5058948513796
2025/02/15 02:51:34	Cluster 2	size in kmers=65536	norm=221.81983091435748
2025/02/15 02:51:34 END of Creating AB Cluster Vectors
cpus=32
using=1
2025/02/15 02:51:34 START of AB Binning
2025/02/15 02:51:34 FastaManager: START READ
2025/02/15 02:51:34 SequenceProcessor: 0	AB_BINNING START
2025/02/15 02:51:34 FastaManager: lines read 53328
2025/02/15 02:51:34 FastaManager: END READ
2025/02/15 02:51:34 FastaManager: FASTA
2025/02/15 02:51:36 SequenceProcessor: 0	AB_BINNING EXIT
2025/02/15 02:51:36 END of AB Binning
cpus=32
using=1
2025/02/15 02:51:36 START of CB Counting
2025/02/15 02:51:36 FastaManager: START READ
2025/02/15 02:51:36 SequenceProcessor: 0	CB_SEQUENCEVECTORBUILD START
2025/02/15 02:51:36 FastaManager: lines read 53328
2025/02/15 02:51:36 FastaManager: END READ
2025/02/15 02:51:36 FastaManager: FASTA
2025/02/15 02:51:37 SequenceProcessor: 0	CB_SEQUENCEVECTORBUILD EXIT
2025/02/15 02:51:37 END of CB Counting
2025/02/15 02:51:37 Loaded sequences: 26664

##### Heap utilization statistics [GB] #####
Max Memory=0.5
Current Total Memory=0.5
Current Used Memory=0.437
Current Free Memory=0.063
############################################

2025/02/15 02:51:37 AB Cluster=1	Size=19871
2025/02/15 02:51:37 AB Cluster=2	Size=6793

cpus=32
using=1
 ABid	    size	   abundance	  EMLength	 newLength	 EMspecies	newspecies
-----	    ----	   ---------	  --------	 ---------	 ---------	----------
    1	  19,871	   241.01134	    16,168	    12,367	    1		    1
2025/02/15 02:51:37 START of Creating CB Clusters for AB Cluster=1	Size=19871
K-Means clustering started
... centers initialized
... concurrent processing mode with 1 subtask threads
... iteration 1 moves = 0
...end.	2.145 seconds.
2025/02/15 02:51:39 : kMeans cleanup.
2025/02/15 02:51:39 END of Creating CB Clusters for AB Cluster=1
cpus=32
using=1
 ABid	    size	   abundance	  EMLength	 newLength	 EMspecies	newspecies
-----	    ----	   ---------	  --------	 ---------	 ---------	----------
    2	   6,793	    75.53889	    49,367	    13,489	    1		    1
2025/02/15 02:51:39 START of Creating CB Clusters for AB Cluster=2	Size=6793
K-Means clustering started
... centers initialized
... concurrent processing mode with 1 subtask threads
... iteration 1 moves = 0
...end.	0.768 seconds.
2025/02/15 02:51:40 : kMeans cleanup.
2025/02/15 02:51:40 END of Creating CB Clusters for AB Cluster=2

##### Heap utilization statistics [GB] #####
Max Memory=0.5
Current Total Memory=0.5
Current Used Memory=0.391
Current Free Memory=0.109
############################################

cpus=32
using=1
2025/02/15 02:51:40 START of CB Binning
2025/02/15 02:51:40 FastaManager: START READ
2025/02/15 02:51:40 SequenceProcessor: 0	CB_BINNING START
2025/02/15 02:51:40 FastaManager: lines read 53328
2025/02/15 02:51:40 FastaManager: END READ
2025/02/15 02:51:40 FastaManager: FASTA
2025/02/15 02:51:40 SequenceProcessor: 0	CB_BINNING EXIT
	Clustered reads:
		ABxCB Cluster 1: 19871
		ABxCB Cluster 2: 6793

##### Heap utilization statistics [GB] #####
Max Memory=0.5
Current Total Memory=0.5
Current Used Memory=0.431
Current Free Memory=0.069
############################################

[ FAIL 0 | WARN 0 | SKIP 0 | PASS 52 ]
> 
> proc.time()
   user  system elapsed 
  29.60    1.09   21.62 

Example timings

metabinR.Rcheck/metabinR-Ex.timings

nameusersystemelapsed
abundance_based_binning8.600.827.30
composition_based_binning6.280.522.33
hierarchical_binning5.690.524.10