Back to Multiple platform build/check report for BioC 3.21: simplified long |
|
This page was generated on 2025-02-15 11:40 -0500 (Sat, 15 Feb 2025).
Hostname | OS | Arch (*) | R version | Installed pkgs |
---|---|---|---|---|
nebbiolo1 | Linux (Ubuntu 24.04.1 LTS) | x86_64 | R Under development (unstable) (2025-01-20 r87609) -- "Unsuffered Consequences" | 4720 |
palomino7 | Windows Server 2022 Datacenter | x64 | R Under development (unstable) (2025-01-21 r87610 ucrt) -- "Unsuffered Consequences" | 4482 |
lconway | macOS 12.7.1 Monterey | x86_64 | R Under development (unstable) (2025-01-22 r87618) -- "Unsuffered Consequences" | 4493 |
kjohnson3 | macOS 13.7.1 Ventura | arm64 | R Under development (unstable) (2025-01-20 r87609) -- "Unsuffered Consequences" | 4446 |
Click on any hostname to see more info about the system (e.g. compilers) (*) as reported by 'uname -p', except on Windows and Mac OS X |
Package 1201/2295 | Hostname | OS / Arch | INSTALL | BUILD | CHECK | BUILD BIN | ||||||||
metabinR 1.9.0 (landing page) Anestis Gkanogiannis
| nebbiolo1 | Linux (Ubuntu 24.04.1 LTS) / x86_64 | OK | OK | OK | ![]() | ||||||||
palomino7 | Windows Server 2022 Datacenter / x64 | OK | OK | OK | OK | ![]() | ||||||||
lconway | macOS 12.7.1 Monterey / x86_64 | OK | OK | OK | OK | ![]() | ||||||||
kjohnson3 | macOS 13.7.1 Ventura / arm64 | OK | OK | OK | OK | ![]() | ||||||||
To the developers/maintainers of the metabinR package: - Allow up to 24 hours (and sometimes 48 hours) for your latest push to git@git.bioconductor.org:packages/metabinR.git to reflect on this report. See Troubleshooting Build Report for more information. - Use the following Renviron settings to reproduce errors and warnings. - If 'R CMD check' started to fail recently on the Linux builder(s) over a missing dependency, add the missing dependency to 'Suggests:' in your DESCRIPTION file. See Renviron.bioc for more information. |
Package: metabinR |
Version: 1.9.0 |
Command: /home/biocbuild/bbs-3.21-bioc/R/bin/R CMD check --install=check:metabinR.install-out.txt --library=/home/biocbuild/bbs-3.21-bioc/R/site-library --timings metabinR_1.9.0.tar.gz |
StartedAt: 2025-02-14 23:38:18 -0500 (Fri, 14 Feb 2025) |
EndedAt: 2025-02-14 23:39:49 -0500 (Fri, 14 Feb 2025) |
EllapsedTime: 91.2 seconds |
RetCode: 0 |
Status: OK |
CheckDir: metabinR.Rcheck |
Warnings: 0 |
############################################################################## ############################################################################## ### ### Running command: ### ### /home/biocbuild/bbs-3.21-bioc/R/bin/R CMD check --install=check:metabinR.install-out.txt --library=/home/biocbuild/bbs-3.21-bioc/R/site-library --timings metabinR_1.9.0.tar.gz ### ############################################################################## ############################################################################## * using log directory ‘/home/biocbuild/bbs-3.21-bioc/meat/metabinR.Rcheck’ * using R Under development (unstable) (2025-01-20 r87609) * using platform: x86_64-pc-linux-gnu * R was compiled by gcc (Ubuntu 13.3.0-6ubuntu2~24.04) 13.3.0 GNU Fortran (Ubuntu 13.3.0-6ubuntu2~24.04) 13.3.0 * running under: Ubuntu 24.04.2 LTS * using session charset: UTF-8 * checking for file ‘metabinR/DESCRIPTION’ ... OK * checking extension type ... Package * this is package ‘metabinR’ version ‘1.9.0’ * package encoding: UTF-8 * checking package namespace information ... OK * checking package dependencies ... OK * checking if this is a source package ... OK * checking if there is a namespace ... OK * checking for hidden files and directories ... OK * checking for portable file names ... OK * checking for sufficient/correct file permissions ... OK * checking whether package ‘metabinR’ can be installed ... OK * checking installed package size ... OK * checking package directory ... OK * checking ‘build’ directory ... OK * checking DESCRIPTION meta-information ... OK * checking top-level files ... OK * checking for left-over files ... OK * checking index information ... OK * checking package subdirectories ... OK * checking code files for non-ASCII characters ... OK * checking R files for syntax errors ... OK * checking whether the package can be loaded ... OK * checking whether the package can be loaded with stated dependencies ... OK * checking whether the package can be unloaded cleanly ... OK * checking whether the namespace can be loaded with stated dependencies ... OK * checking whether the namespace can be unloaded cleanly ... OK * checking loading without being on the library search path ... OK * checking whether startup messages can be suppressed ... OK * checking dependencies in R code ... OK * checking S3 generic/method consistency ... OK * checking replacement functions ... OK * checking foreign function calls ... OK * checking R code for possible problems ... OK * checking Rd files ... OK * checking Rd metadata ... OK * checking Rd cross-references ... OK * checking for missing documentation entries ... OK * checking for code/documentation mismatches ... OK * checking Rd \usage sections ... OK * checking Rd contents ... OK * checking for unstated dependencies in examples ... OK * checking files in ‘vignettes’ ... OK * checking examples ... OK Examples with CPU (user + system) or elapsed time > 5s user system elapsed abundance_based_binning 7.475 1.086 5.698 composition_based_binning 4.454 0.782 1.995 * checking for unstated dependencies in ‘tests’ ... OK * checking tests ... Running ‘spelling.R’ Running ‘testthat.R’ OK * checking for unstated dependencies in vignettes ... OK * checking package vignettes ... OK * checking re-building of vignette outputs ... OK * checking PDF version of manual ... OK * DONE Status: OK
metabinR.Rcheck/00install.out
############################################################################## ############################################################################## ### ### Running command: ### ### /home/biocbuild/bbs-3.21-bioc/R/bin/R CMD INSTALL metabinR ### ############################################################################## ############################################################################## * installing to library ‘/home/biocbuild/bbs-3.21-bioc/R/site-library’ * installing *source* package ‘metabinR’ ... ** this is package ‘metabinR’ version ‘1.9.0’ ** using staged installation ** R ** inst ** byte-compile and prepare package for lazy loading ** help *** installing help indices ** building package indices ** installing vignettes ** testing if installed package can be loaded from temporary location ** testing if installed package can be loaded from final location ** testing if installed package keeps a record of temporary installation path * DONE (metabinR)
metabinR.Rcheck/tests/spelling.Rout
R Under development (unstable) (2025-01-20 r87609) -- "Unsuffered Consequences" Copyright (C) 2025 The R Foundation for Statistical Computing Platform: x86_64-pc-linux-gnu R is free software and comes with ABSOLUTELY NO WARRANTY. You are welcome to redistribute it under certain conditions. Type 'license()' or 'licence()' for distribution details. R is a collaborative project with many contributors. Type 'contributors()' for more information and 'citation()' on how to cite R or R packages in publications. Type 'demo()' for some demos, 'help()' for on-line help, or 'help.start()' for an HTML browser interface to help. Type 'q()' to quit R. > if(requireNamespace('spelling', quietly = TRUE)) + spelling::spell_check_test(vignettes = TRUE, error = FALSE, + skip_on_cran = TRUE) NULL > > proc.time() user system elapsed 0.137 0.043 0.166
metabinR.Rcheck/tests/testthat.Rout
R Under development (unstable) (2025-01-20 r87609) -- "Unsuffered Consequences" Copyright (C) 2025 The R Foundation for Statistical Computing Platform: x86_64-pc-linux-gnu R is free software and comes with ABSOLUTELY NO WARRANTY. You are welcome to redistribute it under certain conditions. Type 'license()' or 'licence()' for distribution details. R is a collaborative project with many contributors. Type 'contributors()' for more information and 'citation()' on how to cite R or R packages in publications. Type 'demo()' for some demos, 'help()' for on-line help, or 'help.start()' for an HTML browser interface to help. Type 'q()' to quit R. > library(testthat) > library(metabinR) > > test_check("metabinR") version MTxAB =Fri Feb 14 15:03:04 EST 2025 cpus=72 using=1 2025/02/14 23:38:49 Using Dictionary ORIGINAL 2025/02/14 23:38:49 START of AB Counting 2025/02/14 23:38:49 FastaManager: START READ 2025/02/14 23:38:49 SequenceProcessor: 0 AB_KMERCOUNT START CHUNK_SIZE=67108864 2025/02/14 23:38:49 FastaManager: lines read 53328 2025/02/14 23:38:50 FastaManager: END READ 2025/02/14 23:38:50 FastaManager: FASTA 2025/02/14 23:38:51 SequenceProcessor: 0 AB_KMERCOUNT EXIT 2025/02/14 23:38:51 END of AB Counting 2025/02/14 23:38:51 Loaded sequences: 26664 2025/02/14 23:38:51 Total kmers(before remove): 65536 ##### Heap utilization statistics [GB] ##### Max Memory=0.5 Current Total Memory=0.5 Current Used Memory=0.29 Current Free Memory=0.21 ############################################ 2025/02/14 23:38:51 Unique: 0 Distinct: 65536 Total: 7625904 MaxCount: 1574 2025/02/14 23:38:51 START of EMsync Run=1 Run=2 Run=3 Run=4 Run=5 Run=6 Run=7 Run=8 Run=9 Run=10 Run=11 Run=12 Run=13 Run=14 Run=15 Run=16 Run=17 Run=18 Run=19 Run=20 Run=21 Run=22 Run=23 Run=24 Run=25 2025/02/14 23:38:51 Runs=25 2025/02/14 23:38:51 END of EMsync 2025/02/14 23:38:51 START of Creating AB Cluster Vectors Cluster 1 Abundance=241.01134335779187 Length=16168.173737759438 LowLimit=163 HighLimit=318 Cluster 2 Abundance=75.53888858729701 Length=49367.826262240575 LowLimit=32 HighLimit=118 2025/02/14 23:38:51 Trove size/4=18022 2025/02/14 23:38:51 Trove size/4=18022 2025/02/14 23:38:51 Cluster 1 size in kmers=65536 norm=126.5058948513796 2025/02/14 23:38:51 Cluster 2 size in kmers=65536 norm=221.81983091435748 2025/02/14 23:38:51 END of Creating AB Cluster Vectors cpus=72 using=1 2025/02/14 23:38:51 START of AB Binning 2025/02/14 23:38:51 FastaManager: START READ 2025/02/14 23:38:51 SequenceProcessor: 0 AB_BINNING START 2025/02/14 23:38:51 FastaManager: lines read 53328 2025/02/14 23:38:51 FastaManager: END READ 2025/02/14 23:38:51 FastaManager: FASTA 2025/02/14 23:38:53 SequenceProcessor: 0 AB_BINNING EXIT 2025/02/14 23:38:53 END of AB Binning Clustered reads: AB Cluster 1: 19871 AB Cluster 2: 6793 ##### Heap utilization statistics [GB] ##### Max Memory=0.5 Current Total Memory=0.5 Current Used Memory=0.373 Current Free Memory=0.127 ############################################ version MTxCB =Fri Feb 14 15:03:04 EST 2025 cpus=72 using=1 2025/02/14 23:38:54 START of CB Counting 2025/02/14 23:38:54 FastaManager: START READ 2025/02/14 23:38:54 SequenceProcessor: 0 CB_SEQUENCEVECTORBUILD START 2025/02/14 23:38:54 FastaManager: lines read 53328 2025/02/14 23:38:54 FastaManager: END READ 2025/02/14 23:38:54 FastaManager: FASTA 2025/02/14 23:38:54 SequenceProcessor: 0 CB_SEQUENCEVECTORBUILD EXIT 2025/02/14 23:38:54 END of CB Counting 2025/02/14 23:38:54 Loaded sequences: 26664 ##### Heap utilization statistics [GB] ##### Max Memory=0.5 Current Total Memory=0.5 Current Used Memory=0.377 Current Free Memory=0.123 ############################################ cpus=72 using=1 2025/02/14 23:38:54 START of Creating CB Clusters Size=26664 K-Means clustering started ... centers initialized ... concurrent processing mode with 1 subtask threads ... iteration 1 moves = 2470 ... iteration 2 moves = 412 ... iteration 3 moves = 179 ... iteration 4 moves = 112 ... iteration 5 moves = 76 ... iteration 6 moves = 46 ... iteration 7 moves = 27 ... iteration 8 moves = 36 ... iteration 9 moves = 27 ... iteration 10 moves = 16 ... iteration 11 moves = 14 ... iteration 12 moves = 7 ... iteration 13 moves = 9 ... iteration 14 moves = 6 ... iteration 15 moves = 2 ... iteration 16 moves = 2 ... iteration 17 moves = 2 ... iteration 18 moves = 0 ...end. 5.304 seconds. 2025/02/14 23:39:00 : kMeans cleanup. 2025/02/14 23:39:00 END of Creating CB Clusters. cpus=72 using=1 2025/02/14 23:39:00 START of CB Binning 2025/02/14 23:39:00 FastaManager: START READ 2025/02/14 23:39:00 SequenceProcessor: 0 CB_BINNING START 2025/02/14 23:39:00 FastaManager: lines read 53328 2025/02/14 23:39:00 FastaManager: END READ 2025/02/14 23:39:00 FastaManager: FASTA 2025/02/14 23:39:00 SequenceProcessor: 0 CB_BINNING EXIT Clustered reads: CB Cluster 1: 9293 CB Cluster 2: 17371 ##### Heap utilization statistics [GB] ##### Max Memory=0.5 Current Total Memory=0.5 Current Used Memory=0.483 Current Free Memory=0.017 ############################################ version MTxABxCB =Fri Feb 14 15:03:04 EST 2025 cpus=72 using=1 2025/02/14 23:39:00 Using Dictionary ORIGINAL 2025/02/14 23:39:00 START of AB Counting 2025/02/14 23:39:00 FastaManager: START READ 2025/02/14 23:39:00 SequenceProcessor: 0 AB_KMERCOUNT START 2025/02/14 23:39:00 FastaManager: lines read 53328 2025/02/14 23:39:00 FastaManager: END READ 2025/02/14 23:39:00 FastaManager: FASTA 2025/02/14 23:39:02 SequenceProcessor: 0 AB_KMERCOUNT EXIT 2025/02/14 23:39:02 END of AB Counting 2025/02/14 23:39:02 Loaded sequences: 26664 2025/02/14 23:39:02 Distinct kmers(before remove): 65536 ##### Heap utilization statistics [GB] ##### Max Memory=0.5 Current Total Memory=0.5 Current Used Memory=0.307 Current Free Memory=0.193 ############################################ 2025/02/14 23:39:02 Unique: 0 Distinct: 65536 Total: 7625904 MaxCount: 1574 2025/02/14 23:39:02 START of EMsync Run=1 Run=2 Run=3 Run=4 Run=5 Run=6 Run=7 Run=8 Run=9 Run=10 Run=11 Run=12 Run=13 Run=14 Run=15 Run=16 Run=17 Run=18 Run=19 Run=20 Run=21 Run=22 Run=23 Run=24 Run=25 2025/02/14 23:39:02 Runs=25 2025/02/14 23:39:02 END of EMsync 2025/02/14 23:39:02 Filter before=2 2025/02/14 23:39:02 Filter after=2 2025/02/14 23:39:02 START of Creating AB Cluster Vectors Cluster 1 Abundance=75.53888858729701 Length=49367.826262240575 LowLimit=32 HighLimit=118 Cluster 2 Abundance=241.01134335779187 Length=16168.173737759438 LowLimit=163 HighLimit=318 2025/02/14 23:39:02 Trove size/4=18022 2025/02/14 23:39:02 Trove size/4=18022 2025/02/14 23:39:02 Cluster 1 size in kmers=65536 norm=221.81983091435748 2025/02/14 23:39:02 Cluster 2 size in kmers=65536 norm=126.5058948513796 2025/02/14 23:39:02 END of Creating AB Cluster Vectors cpus=72 using=1 2025/02/14 23:39:02 START of AB Binning 2025/02/14 23:39:02 FastaManager: START READ 2025/02/14 23:39:02 SequenceProcessor: 0 AB_BINNING START 2025/02/14 23:39:02 FastaManager: lines read 53328 2025/02/14 23:39:02 FastaManager: END READ 2025/02/14 23:39:02 FastaManager: FASTA 2025/02/14 23:39:04 SequenceProcessor: 0 AB_BINNING EXIT 2025/02/14 23:39:04 END of AB Binning cpus=72 using=1 2025/02/14 23:39:04 START of CB Counting 2025/02/14 23:39:04 FastaManager: START READ 2025/02/14 23:39:04 SequenceProcessor: 0 CB_SEQUENCEVECTORBUILD START 2025/02/14 23:39:04 FastaManager: lines read 53328 2025/02/14 23:39:04 FastaManager: END READ 2025/02/14 23:39:04 FastaManager: FASTA 2025/02/14 23:39:04 SequenceProcessor: 0 CB_SEQUENCEVECTORBUILD EXIT 2025/02/14 23:39:04 END of CB Counting 2025/02/14 23:39:04 Loaded sequences: 26664 ##### Heap utilization statistics [GB] ##### Max Memory=0.5 Current Total Memory=0.382 Current Used Memory=0.26 Current Free Memory=0.122 ############################################ 2025/02/14 23:39:04 AB Cluster=1 Size=6793 2025/02/14 23:39:04 AB Cluster=2 Size=19871 cpus=72 using=1 ABid size abundance EMLength newLength EMspecies newspecies ----- ---- --------- -------- --------- --------- ---------- 1 6,793 75.53889 49,367 13,489 1 1 2025/02/14 23:39:04 START of Creating CB Clusters for AB Cluster=1 Size=6793 K-Means clustering started ... centers initialized ... concurrent processing mode with 1 subtask threads ... iteration 1 moves = 0 ...end. 0.737 seconds. 2025/02/14 23:39:05 : kMeans cleanup. 2025/02/14 23:39:05 END of Creating CB Clusters for AB Cluster=1 cpus=72 using=1 ABid size abundance EMLength newLength EMspecies newspecies ----- ---- --------- -------- --------- --------- ---------- 2 19,871 241.01134 16,168 12,367 1 1 2025/02/14 23:39:05 START of Creating CB Clusters for AB Cluster=2 Size=19871 K-Means clustering started ... centers initialized ... concurrent processing mode with 1 subtask threads ... iteration 1 moves = 0 ...end. 2.153 seconds. 2025/02/14 23:39:07 : kMeans cleanup. 2025/02/14 23:39:07 END of Creating CB Clusters for AB Cluster=2 ##### Heap utilization statistics [GB] ##### Max Memory=0.5 Current Total Memory=0.42 Current Used Memory=0.362 Current Free Memory=0.057 ############################################ cpus=72 using=1 2025/02/14 23:39:07 START of CB Binning 2025/02/14 23:39:07 FastaManager: START READ 2025/02/14 23:39:07 SequenceProcessor: 0 CB_BINNING START 2025/02/14 23:39:08 FastaManager: lines read 53328 2025/02/14 23:39:08 FastaManager: END READ 2025/02/14 23:39:08 FastaManager: FASTA 2025/02/14 23:39:08 SequenceProcessor: 0 CB_BINNING EXIT Clustered reads: ABxCB Cluster 1: 6793 ABxCB Cluster 2: 19871 ##### Heap utilization statistics [GB] ##### Max Memory=0.5 Current Total Memory=0.483 Current Used Memory=0.43 Current Free Memory=0.054 ############################################ [ FAIL 0 | WARN 0 | SKIP 0 | PASS 52 ] > > proc.time() user system elapsed 29.237 1.145 19.521
metabinR.Rcheck/metabinR-Ex.timings
name | user | system | elapsed | |
abundance_based_binning | 7.475 | 1.086 | 5.698 | |
composition_based_binning | 4.454 | 0.782 | 1.995 | |
hierarchical_binning | 4.165 | 0.694 | 3.361 | |