| Back to Multiple platform build/check report for BioC 3.21: simplified long |
|
This page was generated on 2025-01-24 11:43 -0500 (Fri, 24 Jan 2025).
| Hostname | OS | Arch (*) | R version | Installed pkgs |
|---|---|---|---|---|
| nebbiolo1 | Linux (Ubuntu 24.04.1 LTS) | x86_64 | R Under development (unstable) (2025-01-20 r87609) -- "Unsuffered Consequences" | 4609 |
| palomino7 | Windows Server 2022 Datacenter | x64 | R Under development (unstable) (2025-01-21 r87610 ucrt) -- "Unsuffered Consequences" | 4393 |
| lconway | macOS 12.7.1 Monterey | x86_64 | R Under development (unstable) (2025-01-20 r87609) -- "Unsuffered Consequences" | 3839 |
| kjohnson3 | macOS 13.7.1 Ventura | arm64 | R Under development (unstable) (2025-01-20 r87609) -- "Unsuffered Consequences" | 3835 |
| kunpeng2 | Linux (openEuler 22.03 LTS-SP1) | aarch64 | R Under development (unstable) (2024-11-24 r87369) -- "Unsuffered Consequences" | 4408 |
| Click on any hostname to see more info about the system (e.g. compilers) (*) as reported by 'uname -p', except on Windows and Mac OS X | ||||
| Package 567/2286 | Hostname | OS / Arch | INSTALL | BUILD | CHECK | BUILD BIN | ||||||||
| diffuStats 1.27.0 (landing page) Sergio Picart-Armada
| nebbiolo1 | Linux (Ubuntu 24.04.1 LTS) / x86_64 | OK | OK | OK | |||||||||
| palomino7 | Windows Server 2022 Datacenter / x64 | OK | OK | OK | OK | |||||||||
| lconway | macOS 12.7.1 Monterey / x86_64 | OK | OK | OK | OK | |||||||||
| kjohnson3 | macOS 13.7.1 Ventura / arm64 | OK | OK | OK | OK | |||||||||
| kunpeng2 | Linux (openEuler 22.03 LTS-SP1) / aarch64 | OK | OK | OK | ||||||||||
|
To the developers/maintainers of the diffuStats package: - Allow up to 24 hours (and sometimes 48 hours) for your latest push to git@git.bioconductor.org:packages/diffuStats.git to reflect on this report. See Troubleshooting Build Report for more information. - Use the following Renviron settings to reproduce errors and warnings. - If 'R CMD check' started to fail recently on the Linux builder(s) over a missing dependency, add the missing dependency to 'Suggests:' in your DESCRIPTION file. See Renviron.bioc for more information. - See Martin Grigorov's blog post for how to debug Linux ARM64 related issues on a x86_64 host. |
| Package: diffuStats |
| Version: 1.27.0 |
| Command: /home/biocbuild/R/R/bin/R CMD check --install=check:diffuStats.install-out.txt --library=/home/biocbuild/R/R/site-library --no-vignettes --timings diffuStats_1.27.0.tar.gz |
| StartedAt: 2025-01-24 07:23:40 -0000 (Fri, 24 Jan 2025) |
| EndedAt: 2025-01-24 07:25:04 -0000 (Fri, 24 Jan 2025) |
| EllapsedTime: 84.1 seconds |
| RetCode: 0 |
| Status: OK |
| CheckDir: diffuStats.Rcheck |
| Warnings: 0 |
##############################################################################
##############################################################################
###
### Running command:
###
### /home/biocbuild/R/R/bin/R CMD check --install=check:diffuStats.install-out.txt --library=/home/biocbuild/R/R/site-library --no-vignettes --timings diffuStats_1.27.0.tar.gz
###
##############################################################################
##############################################################################
* using log directory ‘/home/biocbuild/bbs-3.21-bioc/meat/diffuStats.Rcheck’
* using R Under development (unstable) (2024-11-24 r87369)
* using platform: aarch64-unknown-linux-gnu
* R was compiled by
aarch64-unknown-linux-gnu-gcc (GCC) 14.2.0
GNU Fortran (GCC) 14.2.0
* running under: openEuler 24.03 (LTS)
* using session charset: UTF-8
* using option ‘--no-vignettes’
* checking for file ‘diffuStats/DESCRIPTION’ ... OK
* checking extension type ... Package
* this is package ‘diffuStats’ version ‘1.27.0’
* package encoding: UTF-8
* checking package namespace information ... OK
* checking package dependencies ... OK
* checking if this is a source package ... OK
* checking if there is a namespace ... OK
* checking for hidden files and directories ... OK
* checking for portable file names ... OK
* checking for sufficient/correct file permissions ... OK
* checking whether package ‘diffuStats’ can be installed ... OK
* used C compiler: ‘aarch64-unknown-linux-gnu-gcc (GCC) 14.2.0’
* used C++ compiler: ‘aarch64-unknown-linux-gnu-g++ (GCC) 14.2.0’
* checking C++ specification ... NOTE
Specified C++11: please drop specification unless essential
* checking installed package size ... OK
* checking package directory ... OK
* checking ‘build’ directory ... OK
* checking DESCRIPTION meta-information ... OK
* checking top-level files ... OK
* checking for left-over files ... OK
* checking index information ... OK
* checking package subdirectories ...Warning: program compiled against libxml 212 using older 211
OK
* checking code files for non-ASCII characters ... OK
* checking R files for syntax errors ... OK
* checking whether the package can be loaded ... OK
* checking whether the package can be loaded with stated dependencies ... OK
* checking whether the package can be unloaded cleanly ... OK
* checking whether the namespace can be loaded with stated dependencies ... OK
* checking whether the namespace can be unloaded cleanly ... OK
* checking loading without being on the library search path ... OK
* checking dependencies in R code ... OK
* checking S3 generic/method consistency ... OK
* checking replacement functions ... OK
* checking foreign function calls ... OK
* checking R code for possible problems ... OK
* checking Rd files ... OK
* checking Rd metadata ... OK
* checking Rd cross-references ... OK
* checking for missing documentation entries ... OK
* checking for code/documentation mismatches ... OK
* checking Rd \usage sections ... OK
* checking Rd contents ... OK
* checking for unstated dependencies in examples ... OK
* checking contents of ‘data’ directory ... OK
* checking data for non-ASCII characters ... OK
* checking LazyData ... OK
* checking data for ASCII and uncompressed saves ... OK
* checking line endings in C/C++/Fortran sources/headers ... OK
* checking line endings in Makefiles ... OK
* checking compilation flags in Makevars ... OK
* checking for GNU extensions in Makefiles ... INFO
GNU make is a SystemRequirements.
* checking for portable use of $(BLAS_LIBS) and $(LAPACK_LIBS) ... OK
* checking use of PKG_*FLAGS in Makefiles ... OK
* checking compiled code ... NOTE
Note: information on .o files is not available
* checking files in ‘vignettes’ ... OK
* checking examples ... OK
* checking for unstated dependencies in ‘tests’ ... OK
* checking tests ...
Running ‘testthat.R’
OK
* checking for unstated dependencies in vignettes ... OK
* checking package vignettes ... OK
* checking running R code from vignettes ... SKIPPED
* checking re-building of vignette outputs ... SKIPPED
* checking PDF version of manual ... OK
* DONE
Status: 2 NOTEs
See
‘/home/biocbuild/bbs-3.21-bioc/meat/diffuStats.Rcheck/00check.log’
for details.
diffuStats.Rcheck/00install.out
##############################################################################
##############################################################################
###
### Running command:
###
### /home/biocbuild/R/R/bin/R CMD INSTALL diffuStats
###
##############################################################################
##############################################################################
* installing to library ‘/home/biocbuild/R/R-4.5.0-devel_2024-11-24/site-library’
* installing *source* package ‘diffuStats’ ...
** using staged installation
** libs
using C compiler: ‘aarch64-unknown-linux-gnu-gcc (GCC) 14.2.0’
using C++ compiler: ‘aarch64-unknown-linux-gnu-g++ (GCC) 14.2.0’
using C++11
/opt/ohpc/pub/compiler/gcc/14.2.0/bin/aarch64-unknown-linux-gnu-g++ -std=gnu++11 -I"/home/biocbuild/R/R/include" -DNDEBUG -I'/home/biocbuild/R/R-4.5.0-devel_2024-11-24/site-library/Rcpp/include' -I'/home/biocbuild/R/R-4.5.0-devel_2024-11-24/site-library/RcppArmadillo/include' -I'/home/biocbuild/R/R-4.5.0-devel_2024-11-24/site-library/RcppParallel/include' -I/usr/local/include -fPIC -g -O2 -Wall -Werror=format-security -DR_NO_REMAP -c RcppExports.cpp -o RcppExports.o
/opt/ohpc/pub/compiler/gcc/14.2.0/bin/aarch64-unknown-linux-gnu-g++ -std=gnu++11 -I"/home/biocbuild/R/R/include" -DNDEBUG -I'/home/biocbuild/R/R-4.5.0-devel_2024-11-24/site-library/Rcpp/include' -I'/home/biocbuild/R/R-4.5.0-devel_2024-11-24/site-library/RcppArmadillo/include' -I'/home/biocbuild/R/R-4.5.0-devel_2024-11-24/site-library/RcppParallel/include' -I/usr/local/include -fPIC -g -O2 -Wall -Werror=format-security -DR_NO_REMAP -c diffuse_parallel.cpp -o diffuse_parallel.o
diffuse_parallel.cpp: In function ‘arma::sp_mat sparsify2(const arma::mat&, int, const arma::sp_mat&)’:
diffuse_parallel.cpp:54:21: warning: comparison of integer expressions of different signedness: ‘int’ and ‘arma::uword’ {aka ‘unsigned int’} [-Wsign-compare]
54 | for (int i = 0; i < pos.size(); ++i) {
| ~~^~~~~~~~~~~~
In file included from /home/biocbuild/R/R-4.5.0-devel_2024-11-24/site-library/RcppParallel/include/tbb/tbb.h:32,
from /home/biocbuild/R/R-4.5.0-devel_2024-11-24/site-library/RcppParallel/include/RcppParallel/TBB.h:10,
from /home/biocbuild/R/R-4.5.0-devel_2024-11-24/site-library/RcppParallel/include/RcppParallel.h:24,
from diffuse_parallel.cpp:108:
/home/biocbuild/R/R-4.5.0-devel_2024-11-24/site-library/RcppParallel/include/tbb/atomic.h: In instantiation of ‘tbb::atomic<T>& tbb::internal::as_atomic(T&) [with T = long unsigned int]’:
/home/biocbuild/R/R-4.5.0-devel_2024-11-24/site-library/RcppParallel/include/tbb/tbb_thread.h:251:29: required from here
251 | return as_atomic(location.my_id).compare_and_swap(value.my_id, comparand.my_id);
| ~~~~~~~~~^~~~~~~~~~~~~~~~
/home/biocbuild/R/R-4.5.0-devel_2024-11-24/site-library/RcppParallel/include/tbb/atomic.h:544:12: warning: casting ‘long unsigned int’ to ‘tbb::atomic<long unsigned int>&’ does not use ‘constexpr tbb::atomic<long unsigned int>::atomic(long unsigned int)’ [-Wcast-user-defined]
544 | return (atomic<T>&)t;
| ^~~~~~~~~~~~~
/home/biocbuild/R/R-4.5.0-devel_2024-11-24/site-library/RcppParallel/include/tbb/atomic.h: In instantiation of ‘tbb::atomic<T>& tbb::internal::as_atomic(T&) [with T = tbb::interface5::internal::hash_map_base::bucket*]’:
/home/biocbuild/R/R-4.5.0-devel_2024-11-24/site-library/RcppParallel/include/tbb/concurrent_hash_map.h:291:31: required from here
291 | && as_atomic(my_table[new_seg]).compare_and_swap(is_allocating, NULL) == NULL )
| ~~~~~~~~~^~~~~~~~~~~~~~~~~~~
/home/biocbuild/R/R-4.5.0-devel_2024-11-24/site-library/RcppParallel/include/tbb/atomic.h:544:12: warning: casting ‘tbb::interface5::internal::hash_map_base::bucket*’ to ‘tbb::atomic<tbb::interface5::internal::hash_map_base::bucket*>&’ does not use ‘constexpr tbb::atomic<T*>::atomic(T*) [with T = tbb::interface5::internal::hash_map_base::bucket]’ [-Wcast-user-defined]
544 | return (atomic<T>&)t;
| ^~~~~~~~~~~~~
/opt/ohpc/pub/compiler/gcc/14.2.0/bin/aarch64-unknown-linux-gnu-gcc -I"/home/biocbuild/R/R/include" -DNDEBUG -I'/home/biocbuild/R/R-4.5.0-devel_2024-11-24/site-library/Rcpp/include' -I'/home/biocbuild/R/R-4.5.0-devel_2024-11-24/site-library/RcppArmadillo/include' -I'/home/biocbuild/R/R-4.5.0-devel_2024-11-24/site-library/RcppParallel/include' -I/usr/local/include -fPIC -g -O2 -Wall -Werror=format-security -c init.c -o init.o
/opt/ohpc/pub/compiler/gcc/14.2.0/bin/aarch64-unknown-linux-gnu-g++ -std=gnu++11 -shared -L/home/biocbuild/R/R/lib -L/usr/local/lib -o diffuStats.so RcppExports.o diffuse_parallel.o init.o -L/home/biocbuild/R/R/lib -lR
installing to /home/biocbuild/R/R-4.5.0-devel_2024-11-24/site-library/00LOCK-diffuStats/00new/diffuStats/libs
** R
** data
*** moving datasets to lazyload DB
** inst
** byte-compile and prepare package for lazy loading
** help
*** installing help indices
** building package indices
** installing vignettes
** testing if installed package can be loaded from temporary location
** checking absolute paths in shared objects and dynamic libraries
** testing if installed package can be loaded from final location
** testing if installed package keeps a record of temporary installation path
* DONE (diffuStats)
diffuStats.Rcheck/tests/testthat.Rout
R Under development (unstable) (2024-11-24 r87369) -- "Unsuffered Consequences"
Copyright (C) 2024 The R Foundation for Statistical Computing
Platform: aarch64-unknown-linux-gnu
R is free software and comes with ABSOLUTELY NO WARRANTY.
You are welcome to redistribute it under certain conditions.
Type 'license()' or 'licence()' for distribution details.
R is a collaborative project with many contributors.
Type 'contributors()' for more information and
'citation()' on how to cite R or R packages in publications.
Type 'demo()' for some demos, 'help()' for on-line help, or
'help.start()' for an HTML browser interface to help.
Type 'q()' to quit R.
> library(testthat)
> library(diffuStats)
>
> test_check("diffuStats")
[ FAIL 0 | WARN 14 | SKIP 0 | PASS 216 ]
[ FAIL 0 | WARN 14 | SKIP 0 | PASS 216 ]
>
> proc.time()
user system elapsed
39.082 1.032 15.730
diffuStats.Rcheck/diffuStats-Ex.timings
| name | user | system | elapsed | |
| checks | 0.222 | 0.004 | 0.230 | |
| connect_undirected_graph | 0.080 | 0.000 | 0.079 | |
| diffuse | 1.697 | 0.113 | 1.717 | |
| diffuse_mc | 0.483 | 0.008 | 0.449 | |
| diffuse_raw | 0.052 | 0.000 | 0.052 | |
| generate_graph | 0.013 | 0.000 | 0.014 | |
| generate_input | 0.039 | 0.000 | 0.040 | |
| is_kernel | 0.039 | 0.000 | 0.039 | |
| kernels | 0.067 | 0.000 | 0.068 | |
| largest_cc | 0.053 | 0.000 | 0.053 | |
| metric_auc | 0.067 | 0.000 | 0.067 | |
| moments | 0.033 | 0.004 | 0.037 | |
| named.list | 0 | 0 | 0 | |
| perf | 0.272 | 0.000 | 0.272 | |
| perf_eval | 0.101 | 0.000 | 0.101 | |
| perf_wilcox | 0.048 | 0.000 | 0.048 | |
| scores2colours | 0.002 | 0.000 | 0.001 | |
| scores2shapes | 0.001 | 0.000 | 0.000 | |
| to_list | 0.036 | 0.000 | 0.036 | |
| to_x_from_list | 0.026 | 0.000 | 0.027 | |
| which_format | 0.026 | 0.000 | 0.026 | |