| Back to Multiple platform build/check report for BioC 3.21: simplified long |
|
This page was generated on 2025-08-18 11:41 -0400 (Mon, 18 Aug 2025).
| Hostname | OS | Arch (*) | R version | Installed pkgs |
|---|---|---|---|---|
| nebbiolo1 | Linux (Ubuntu 24.04.3 LTS) | x86_64 | 4.5.1 (2025-06-13) -- "Great Square Root" | 4824 |
| palomino7 | Windows Server 2022 Datacenter | x64 | 4.5.1 (2025-06-13 ucrt) -- "Great Square Root" | 4566 |
| merida1 | macOS 12.7.5 Monterey | x86_64 | 4.5.1 RC (2025-06-05 r88288) -- "Great Square Root" | 4604 |
| kjohnson1 | macOS 13.6.6 Ventura | arm64 | 4.5.1 Patched (2025-06-14 r88325) -- "Great Square Root" | 4545 |
| kunpeng2 | Linux (openEuler 24.03 LTS) | aarch64 | R Under development (unstable) (2025-02-19 r87757) -- "Unsuffered Consequences" | 4579 |
| Click on any hostname to see more info about the system (e.g. compilers) (*) as reported by 'uname -p', except on Windows and Mac OS X | ||||
| Package 584/2341 | Hostname | OS / Arch | INSTALL | BUILD | CHECK | BUILD BIN | ||||||||
| diffuStats 1.28.0 (landing page) Sergio Picart-Armada
| nebbiolo1 | Linux (Ubuntu 24.04.3 LTS) / x86_64 | OK | OK | OK | |||||||||
| palomino7 | Windows Server 2022 Datacenter / x64 | OK | OK | OK | OK | |||||||||
| merida1 | macOS 12.7.5 Monterey / x86_64 | OK | OK | OK | OK | |||||||||
| kjohnson1 | macOS 13.6.6 Ventura / arm64 | OK | OK | OK | OK | |||||||||
| kunpeng2 | Linux (openEuler 24.03 LTS) / aarch64 | OK | ERROR | skipped | ||||||||||
|
To the developers/maintainers of the diffuStats package: - Allow up to 24 hours (and sometimes 48 hours) for your latest push to git@git.bioconductor.org:packages/diffuStats.git to reflect on this report. See Troubleshooting Build Report for more information. - Use the following Renviron settings to reproduce errors and warnings. - If 'R CMD check' started to fail recently on the Linux builder(s) over a missing dependency, add the missing dependency to 'Suggests:' in your DESCRIPTION file. See Renviron.bioc for more information. |
| Package: diffuStats |
| Version: 1.28.0 |
| Command: E:\biocbuild\bbs-3.21-bioc\R\bin\R.exe CMD check --no-multiarch --install=check:diffuStats.install-out.txt --library=E:\biocbuild\bbs-3.21-bioc\R\library --no-vignettes --timings diffuStats_1.28.0.tar.gz |
| StartedAt: 2025-08-15 01:34:20 -0400 (Fri, 15 Aug 2025) |
| EndedAt: 2025-08-15 01:36:09 -0400 (Fri, 15 Aug 2025) |
| EllapsedTime: 109.3 seconds |
| RetCode: 0 |
| Status: OK |
| CheckDir: diffuStats.Rcheck |
| Warnings: 0 |
##############################################################################
##############################################################################
###
### Running command:
###
### E:\biocbuild\bbs-3.21-bioc\R\bin\R.exe CMD check --no-multiarch --install=check:diffuStats.install-out.txt --library=E:\biocbuild\bbs-3.21-bioc\R\library --no-vignettes --timings diffuStats_1.28.0.tar.gz
###
##############################################################################
##############################################################################
* using log directory 'E:/biocbuild/bbs-3.21-bioc/meat/diffuStats.Rcheck'
* using R version 4.5.1 (2025-06-13 ucrt)
* using platform: x86_64-w64-mingw32
* R was compiled by
gcc.exe (GCC) 14.2.0
GNU Fortran (GCC) 14.2.0
* running under: Windows Server 2022 x64 (build 20348)
* using session charset: UTF-8
* using option '--no-vignettes'
* checking for file 'diffuStats/DESCRIPTION' ... OK
* checking extension type ... Package
* this is package 'diffuStats' version '1.28.0'
* package encoding: UTF-8
* checking package namespace information ... OK
* checking package dependencies ... OK
* checking if this is a source package ... OK
* checking if there is a namespace ... OK
* checking for hidden files and directories ... OK
* checking for portable file names ... OK
* checking whether package 'diffuStats' can be installed ... OK
* used C compiler: 'gcc.exe (GCC) 14.2.0'
* used C++ compiler: 'G__~1.EXE (GCC) 14.2.0'
* checking C++ specification ... NOTE
Specified C++11: please drop specification unless essential
* checking installed package size ... OK
* checking package directory ... OK
* checking 'build' directory ... OK
* checking DESCRIPTION meta-information ... OK
* checking top-level files ... OK
* checking for left-over files ... OK
* checking index information ... OK
* checking package subdirectories ... OK
* checking code files for non-ASCII characters ... OK
* checking R files for syntax errors ... OK
* checking whether the package can be loaded ... OK
* checking whether the package can be loaded with stated dependencies ... OK
* checking whether the package can be unloaded cleanly ... OK
* checking whether the namespace can be loaded with stated dependencies ... OK
* checking whether the namespace can be unloaded cleanly ... OK
* checking dependencies in R code ... OK
* checking S3 generic/method consistency ... OK
* checking replacement functions ... OK
* checking foreign function calls ... OK
* checking R code for possible problems ... OK
* checking Rd files ... OK
* checking Rd metadata ... OK
* checking Rd cross-references ... OK
* checking for missing documentation entries ... OK
* checking for code/documentation mismatches ... OK
* checking Rd \usage sections ... OK
* checking Rd contents ... OK
* checking for unstated dependencies in examples ... OK
* checking contents of 'data' directory ... OK
* checking data for non-ASCII characters ... OK
* checking LazyData ... OK
* checking data for ASCII and uncompressed saves ... OK
* checking line endings in C/C++/Fortran sources/headers ... OK
* checking line endings in Makefiles ... OK
* checking compilation flags in Makevars ... OK
* checking for GNU extensions in Makefiles ... INFO
GNU make is a SystemRequirements.
* checking for portable use of $(BLAS_LIBS) and $(LAPACK_LIBS) ... OK
* checking use of PKG_*FLAGS in Makefiles ... OK
* checking compiled code ... NOTE
Note: information on .o files for x64 is not available
File 'E:/biocbuild/bbs-3.21-bioc/R/library/diffuStats/libs/x64/diffuStats.dll':
Found '_exit', possibly from '_exit' (C)
Found 'abort', possibly from 'abort' (C), 'runtime' (Fortran)
Found 'exit', possibly from 'exit' (C), 'stop' (Fortran)
Compiled code should not call entry points which might terminate R nor
write to stdout/stderr instead of to the console, nor use Fortran I/O
nor system RNGs nor [v]sprintf. The detected symbols are linked into
the code but might come from libraries and not actually be called.
See 'Writing portable packages' in the 'Writing R Extensions' manual.
* checking sizes of PDF files under 'inst/doc' ... OK
* checking files in 'vignettes' ... OK
* checking examples ... OK
* checking for unstated dependencies in 'tests' ... OK
* checking tests ...
Running 'testthat.R'
OK
* checking for unstated dependencies in vignettes ... OK
* checking package vignettes ... OK
* checking running R code from vignettes ... SKIPPED
* checking re-building of vignette outputs ... SKIPPED
* checking PDF version of manual ... OK
* DONE
Status: 2 NOTEs
See
'E:/biocbuild/bbs-3.21-bioc/meat/diffuStats.Rcheck/00check.log'
for details.
diffuStats.Rcheck/00install.out
##############################################################################
##############################################################################
###
### Running command:
###
### E:\biocbuild\bbs-3.21-bioc\R\bin\R.exe CMD INSTALL diffuStats
###
##############################################################################
##############################################################################
* installing to library 'E:/biocbuild/bbs-3.21-bioc/R/library'
* installing *source* package 'diffuStats' ...
** this is package 'diffuStats' version '1.28.0'
** using staged installation
** libs
using C compiler: 'gcc.exe (GCC) 14.2.0'
using C++ compiler: 'G__~1.EXE (GCC) 14.2.0'
using C++11
g++ -std=gnu++11 -I"E:/biocbuild/bbs-3.21-bioc/R/include" -DNDEBUG -I'E:/biocbuild/bbs-3.21-bioc/R/library/Rcpp/include' -I'E:/biocbuild/bbs-3.21-bioc/R/library/RcppArmadillo/include' -I'E:/biocbuild/bbs-3.21-bioc/R/library/RcppParallel/include' -I"C:/rtools45/x86_64-w64-mingw32.static.posix/include" -DRCPP_PARALLEL_USE_TBB=1 -O2 -Wall -mfpmath=sse -msse2 -mstackrealign -c RcppExports.cpp -o RcppExports.o
g++ -std=gnu++11 -I"E:/biocbuild/bbs-3.21-bioc/R/include" -DNDEBUG -I'E:/biocbuild/bbs-3.21-bioc/R/library/Rcpp/include' -I'E:/biocbuild/bbs-3.21-bioc/R/library/RcppArmadillo/include' -I'E:/biocbuild/bbs-3.21-bioc/R/library/RcppParallel/include' -I"C:/rtools45/x86_64-w64-mingw32.static.posix/include" -DRCPP_PARALLEL_USE_TBB=1 -O2 -Wall -mfpmath=sse -msse2 -mstackrealign -c diffuse_parallel.cpp -o diffuse_parallel.o
diffuse_parallel.cpp: In function 'arma::sp_mat sparsify2(const arma::mat&, int, const arma::sp_mat&)':
diffuse_parallel.cpp:54:21: warning: comparison of integer expressions of different signedness: 'int' and 'arma::uword' {aka 'unsigned int'} [-Wsign-compare]
54 | for (int i = 0; i < pos.size(); ++i) {
| ~~^~~~~~~~~~~~
In file included from E:/biocbuild/bbs-3.21-bioc/R/library/RcppParallel/include/tbb/tbb.h:32,
from E:/biocbuild/bbs-3.21-bioc/R/library/RcppParallel/include/RcppParallel/TBB.h:10,
from E:/biocbuild/bbs-3.21-bioc/R/library/RcppParallel/include/RcppParallel.h:24,
from diffuse_parallel.cpp:108:
E:/biocbuild/bbs-3.21-bioc/R/library/RcppParallel/include/tbb/atomic.h: In instantiation of 'tbb::atomic<T>& tbb::internal::as_atomic(T&) [with T = long unsigned int]':
E:/biocbuild/bbs-3.21-bioc/R/library/RcppParallel/include/tbb/tbb_thread.h:251:29: required from here
251 | return as_atomic(location.my_id).compare_and_swap(value.my_id, comparand.my_id);
| ~~~~~~~~~^~~~~~~~~~~~~~~~
E:/biocbuild/bbs-3.21-bioc/R/library/RcppParallel/include/tbb/atomic.h:544:12: warning: casting 'long unsigned int' to 'tbb::atomic<long unsigned int>&' does not use 'constexpr tbb::atomic<long unsigned int>::atomic(long unsigned int)' [-Wcast-user-defined]
544 | return (atomic<T>&)t;
| ^~~~~~~~~~~~~
E:/biocbuild/bbs-3.21-bioc/R/library/RcppParallel/include/tbb/atomic.h: In instantiation of 'tbb::atomic<T>& tbb::internal::as_atomic(T&) [with T = tbb::interface5::internal::hash_map_base::bucket*]':
E:/biocbuild/bbs-3.21-bioc/R/library/RcppParallel/include/tbb/concurrent_hash_map.h:291:31: required from here
291 | && as_atomic(my_table[new_seg]).compare_and_swap(is_allocating, NULL) == NULL )
| ~~~~~~~~~^~~~~~~~~~~~~~~~~~~
E:/biocbuild/bbs-3.21-bioc/R/library/RcppParallel/include/tbb/atomic.h:544:12: warning: casting 'tbb::interface5::internal::hash_map_base::bucket*' to 'tbb::atomic<tbb::interface5::internal::hash_map_base::bucket*>&' does not use 'constexpr tbb::atomic<T*>::atomic(T*) [with T = tbb::interface5::internal::hash_map_base::bucket]' [-Wcast-user-defined]
544 | return (atomic<T>&)t;
| ^~~~~~~~~~~~~
gcc -I"E:/biocbuild/bbs-3.21-bioc/R/include" -DNDEBUG -I'E:/biocbuild/bbs-3.21-bioc/R/library/Rcpp/include' -I'E:/biocbuild/bbs-3.21-bioc/R/library/RcppArmadillo/include' -I'E:/biocbuild/bbs-3.21-bioc/R/library/RcppParallel/include' -I"C:/rtools45/x86_64-w64-mingw32.static.posix/include" -O2 -Wall -std=gnu2x -mfpmath=sse -msse2 -mstackrealign -c init.c -o init.o
g++ -shared -s -static-libgcc -o diffuStats.dll tmp.def RcppExports.o diffuse_parallel.o init.o -LE:/biocbuild/bbs-3.21-bioc/R/library/RcppParallel/libs/x64 -lRcppParallel -LE:/biocbuild/bbs-3.21-bioc/R/library/RcppParallel/lib/x64 -ltbb -ltbbmalloc -LC:/rtools45/x86_64-w64-mingw32.static.posix/lib/x64 -LC:/rtools45/x86_64-w64-mingw32.static.posix/lib -LE:/biocbuild/bbs-3.21-bioc/R/bin/x64 -lR
installing to E:/biocbuild/bbs-3.21-bioc/R/library/00LOCK-diffuStats/00new/diffuStats/libs/x64
** R
** data
*** moving datasets to lazyload DB
** inst
** byte-compile and prepare package for lazy loading
** help
*** installing help indices
** building package indices
** installing vignettes
** testing if installed package can be loaded from temporary location
** testing if installed package can be loaded from final location
** testing if installed package keeps a record of temporary installation path
* DONE (diffuStats)
diffuStats.Rcheck/tests/testthat.Rout
R version 4.5.1 (2025-06-13 ucrt) -- "Great Square Root"
Copyright (C) 2025 The R Foundation for Statistical Computing
Platform: x86_64-w64-mingw32/x64
R is free software and comes with ABSOLUTELY NO WARRANTY.
You are welcome to redistribute it under certain conditions.
Type 'license()' or 'licence()' for distribution details.
R is a collaborative project with many contributors.
Type 'contributors()' for more information and
'citation()' on how to cite R or R packages in publications.
Type 'demo()' for some demos, 'help()' for on-line help, or
'help.start()' for an HTML browser interface to help.
Type 'q()' to quit R.
> library(testthat)
> library(diffuStats)
>
> test_check("diffuStats")
[ FAIL 0 | WARN 14 | SKIP 0 | PASS 216 ]
[ FAIL 0 | WARN 14 | SKIP 0 | PASS 216 ]
>
> proc.time()
user system elapsed
22.56 1.17 13.21
diffuStats.Rcheck/diffuStats-Ex.timings
| name | user | system | elapsed | |
| checks | 0.17 | 0.05 | 0.22 | |
| connect_undirected_graph | 0.07 | 0.00 | 0.07 | |
| diffuse | 1.76 | 0.14 | 1.65 | |
| diffuse_mc | 0.38 | 0.01 | 0.35 | |
| diffuse_raw | 0.08 | 0.00 | 0.07 | |
| generate_graph | 0.01 | 0.00 | 0.02 | |
| generate_input | 0.03 | 0.00 | 0.03 | |
| is_kernel | 0.05 | 0.02 | 0.06 | |
| kernels | 0.08 | 0.01 | 0.10 | |
| largest_cc | 0.06 | 0.00 | 0.06 | |
| metric_auc | 0.06 | 0.00 | 0.06 | |
| moments | 0.03 | 0.03 | 0.07 | |
| named.list | 0 | 0 | 0 | |
| perf | 0.30 | 0.02 | 0.31 | |
| perf_eval | 0.14 | 0.00 | 0.14 | |
| perf_wilcox | 0.06 | 0.00 | 0.06 | |
| scores2colours | 0 | 0 | 0 | |
| scores2shapes | 0 | 0 | 0 | |
| to_list | 0.04 | 0.01 | 0.04 | |
| to_x_from_list | 0.03 | 0.00 | 0.03 | |
| which_format | 0.03 | 0.00 | 0.04 | |