Back to Multiple platform build/check report for BioC 3.21:   simplified   long
AB[C]DEFGHIJKLMNOPQRSTUVWXYZ

This page was generated on 2025-02-11 11:43 -0500 (Tue, 11 Feb 2025).

HostnameOSArch (*)R versionInstalled pkgs
nebbiolo1Linux (Ubuntu 24.04.1 LTS)x86_64R Under development (unstable) (2025-01-20 r87609) -- "Unsuffered Consequences" 4719
palomino7Windows Server 2022 Datacenterx64R Under development (unstable) (2025-01-21 r87610 ucrt) -- "Unsuffered Consequences" 4480
lconwaymacOS 12.7.1 Montereyx86_64R Under development (unstable) (2025-01-22 r87618) -- "Unsuffered Consequences" 4491
kjohnson3macOS 13.7.1 Venturaarm64R Under development (unstable) (2025-01-20 r87609) -- "Unsuffered Consequences" 4444
Click on any hostname to see more info about the system (e.g. compilers)      (*) as reported by 'uname -p', except on Windows and Mac OS X

Package 385/2295HostnameOS / ArchINSTALLBUILDCHECKBUILD BIN
cn.mops 1.53.0  (landing page)
Gundula Povysil
Snapshot Date: 2025-02-10 13:40 -0500 (Mon, 10 Feb 2025)
git_url: https://git.bioconductor.org/packages/cn.mops
git_branch: devel
git_last_commit: f3ed325
git_last_commit_date: 2025-01-01 13:36:05 -0500 (Wed, 01 Jan 2025)
nebbiolo1Linux (Ubuntu 24.04.1 LTS) / x86_64  OK    OK    OK  UNNEEDED, same version is already published
palomino7Windows Server 2022 Datacenter / x64  OK    OK    OK    OK  UNNEEDED, same version is already published
lconwaymacOS 12.7.1 Monterey / x86_64  OK    OK    OK    OK  UNNEEDED, same version is already published
kjohnson3macOS 13.7.1 Ventura / arm64  OK    OK    OK    OK  UNNEEDED, same version is already published


CHECK results for cn.mops on kjohnson3

To the developers/maintainers of the cn.mops package:
- Allow up to 24 hours (and sometimes 48 hours) for your latest push to git@git.bioconductor.org:packages/cn.mops.git to reflect on this report. See Troubleshooting Build Report for more information.
- Use the following Renviron settings to reproduce errors and warnings.
- If 'R CMD check' started to fail recently on the Linux builder(s) over a missing dependency, add the missing dependency to 'Suggests:' in your DESCRIPTION file. See Renviron.bioc for more information.

raw results


Summary

Package: cn.mops
Version: 1.53.0
Command: /Library/Frameworks/R.framework/Resources/bin/R CMD check --install=check:cn.mops.install-out.txt --library=/Library/Frameworks/R.framework/Resources/library --no-vignettes --timings cn.mops_1.53.0.tar.gz
StartedAt: 2025-02-10 18:35:12 -0500 (Mon, 10 Feb 2025)
EndedAt: 2025-02-10 18:36:23 -0500 (Mon, 10 Feb 2025)
EllapsedTime: 71.0 seconds
RetCode: 0
Status:   OK  
CheckDir: cn.mops.Rcheck
Warnings: 0

Command output

##############################################################################
##############################################################################
###
### Running command:
###
###   /Library/Frameworks/R.framework/Resources/bin/R CMD check --install=check:cn.mops.install-out.txt --library=/Library/Frameworks/R.framework/Resources/library --no-vignettes --timings cn.mops_1.53.0.tar.gz
###
##############################################################################
##############################################################################


* using log directory ‘/Users/biocbuild/bbs-3.21-bioc/meat/cn.mops.Rcheck’
* using R Under development (unstable) (2025-01-20 r87609)
* using platform: aarch64-apple-darwin20
* R was compiled by
    Apple clang version 14.0.0 (clang-1400.0.29.202)
    GNU Fortran (GCC) 14.2.0
* running under: macOS Ventura 13.7.1
* using session charset: UTF-8
* using option ‘--no-vignettes’
* checking for file ‘cn.mops/DESCRIPTION’ ... OK
* checking extension type ... Package
* this is package ‘cn.mops’ version ‘1.53.0’
* checking package namespace information ... OK
* checking package dependencies ... OK
* checking if this is a source package ... OK
* checking if there is a namespace ... OK
* checking for hidden files and directories ... OK
* checking for portable file names ... OK
* checking for sufficient/correct file permissions ... OK
* checking whether package ‘cn.mops’ can be installed ... OK
* used C compiler: ‘Apple clang version 15.0.0 (clang-1500.1.0.2.5)’
* used C++ compiler: ‘Apple clang version 15.0.0 (clang-1500.1.0.2.5)’
* used SDK: ‘MacOSX11.3.sdk’
* checking installed package size ... OK
* checking package directory ... OK
* checking ‘build’ directory ... OK
* checking DESCRIPTION meta-information ... OK
* checking top-level files ... OK
* checking for left-over files ... OK
* checking index information ... OK
* checking package subdirectories ... OK
* checking code files for non-ASCII characters ... OK
* checking R files for syntax errors ... OK
* checking whether the package can be loaded ... OK
* checking whether the package can be loaded with stated dependencies ... OK
* checking whether the package can be unloaded cleanly ... OK
* checking whether the namespace can be loaded with stated dependencies ... OK
* checking whether the namespace can be unloaded cleanly ... OK
* checking whether startup messages can be suppressed ... OK
* checking dependencies in R code ... OK
* checking S3 generic/method consistency ... OK
* checking replacement functions ... OK
* checking foreign function calls ... OK
* checking R code for possible problems ... OK
* checking Rd files ... OK
* checking Rd metadata ... OK
* checking Rd cross-references ... OK
* checking for missing documentation entries ... OK
* checking for code/documentation mismatches ... OK
* checking Rd \usage sections ... OK
* checking Rd contents ... OK
* checking for unstated dependencies in examples ... OK
* checking contents of ‘data’ directory ... OK
* checking data for non-ASCII characters ... OK
* checking data for ASCII and uncompressed saves ... OK
* checking line endings in C/C++/Fortran sources/headers ... OK
* checking compiled code ... NOTE
Note: information on .o files is not available
* checking sizes of PDF files under ‘inst/doc’ ... OK
* checking files in ‘vignettes’ ... OK
* checking examples ... OK
Examples with CPU (user + system) or elapsed time > 5s
                  user system elapsed
referencecn.mops 2.615  0.019   5.991
cn.mops          1.862  0.068   5.833
* checking for unstated dependencies in vignettes ... OK
* checking package vignettes ... OK
* checking running R code from vignettes ... SKIPPED
* checking re-building of vignette outputs ... SKIPPED
* checking PDF version of manual ... OK
* DONE

Status: 1 NOTE
See
  ‘/Users/biocbuild/bbs-3.21-bioc/meat/cn.mops.Rcheck/00check.log’
for details.


Installation output

cn.mops.Rcheck/00install.out

##############################################################################
##############################################################################
###
### Running command:
###
###   /Library/Frameworks/R.framework/Resources/bin/R CMD INSTALL cn.mops
###
##############################################################################
##############################################################################


* installing to library ‘/Library/Frameworks/R.framework/Versions/4.5-arm64/Resources/library’
* installing *source* package ‘cn.mops’ ...
** this is package ‘cn.mops’ version ‘1.53.0’
** using staged installation
** libs
using C compiler: ‘Apple clang version 15.0.0 (clang-1500.1.0.2.5)’
using C++ compiler: ‘Apple clang version 15.0.0 (clang-1500.1.0.2.5)’
using SDK: ‘MacOSX11.3.sdk’
clang -arch arm64 -I"/Library/Frameworks/R.framework/Resources/include" -DNDEBUG   -I/opt/R/arm64/include    -fPIC  -falign-functions=64 -Wall -g -O2  -c R_init_cnmops.c -o R_init_cnmops.o
clang++ -arch arm64 -std=gnu++17 -I"/Library/Frameworks/R.framework/Resources/include" -DNDEBUG   -I/opt/R/arm64/include    -fPIC  -falign-functions=64 -Wall -g -O2  -DR_NO_REMAP -c cnmops.cpp -o cnmops.o
clang++ -arch arm64 -std=gnu++17 -I"/Library/Frameworks/R.framework/Resources/include" -DNDEBUG   -I/opt/R/arm64/include    -fPIC  -falign-functions=64 -Wall -g -O2  -DR_NO_REMAP -c segment.cpp -o segment.o
segment.cpp:59:20: warning: variable 'globalSd' set but not used [-Wunused-but-set-variable]
        double globalMean,globalSd,diff,M2,globalVariance;
                          ^
segment.cpp:60:9: warning: variable 'oldStatistic' set but not used [-Wunused-but-set-variable]
        double oldStatistic, meanLeft,meanRight,varLeft,varRight;
               ^
segment.cpp:61:31: warning: variable 'maxStatistic' set but not used [-Wunused-but-set-variable]
        double newStatistic,meanDiff,maxStatistic,DOF,a,b,eps1;
                                     ^
segment.cpp:62:40: warning: variable 'maxIdx' set but not used [-Wunused-but-set-variable]
        double newPValue, maxPValue,oldPValue,maxIdx;
                                              ^
segment.cpp:64:9: warning: unused variable 'Rf_beta' [-Wunused-variable]
        double beta,nn;
               ^
/Library/Frameworks/R.framework/Resources/include/Rmath.h:211:15: note: expanded from macro 'beta'
#define beta            Rf_beta
                        ^
5 warnings generated.
clang++ -arch arm64 -std=gnu++17 -dynamiclib -Wl,-headerpad_max_install_names -undefined dynamic_lookup -L/Library/Frameworks/R.framework/Resources/lib -L/opt/R/arm64/lib -o cn.mops.so R_init_cnmops.o cnmops.o segment.o -F/Library/Frameworks/R.framework/.. -framework R -Wl,-framework -Wl,CoreFoundation
installing to /Library/Frameworks/R.framework/Versions/4.5-arm64/Resources/library/00LOCK-cn.mops/00new/cn.mops/libs
** R
** data
** inst
** byte-compile and prepare package for lazy loading
** help
*** installing help indices
** building package indices
** installing vignettes
** testing if installed package can be loaded from temporary location
** checking absolute paths in shared objects and dynamic libraries
** testing if installed package can be loaded from final location
** testing if installed package keeps a record of temporary installation path
* DONE (cn.mops)

Tests output


Example timings

cn.mops.Rcheck/cn.mops-Ex.timings

nameusersystemelapsed
CNVDetectionResult000
calcFractionalCopyNumbers-CNVDetectionResult-method1.9370.0181.959
calcFractionalCopyNumbers1.8640.0101.882
calcIntegerCopyNumbers-CNVDetectionResult-method0.1180.0010.120
calcIntegerCopyNumbers0.1150.0020.117
cn.mops1.8620.0685.833
cnvr-CNVDetectionResult-method0.0650.0020.070
cnvr0.0660.0030.069
cnvs-CNVDetectionResult-method0.0650.0010.067
cnvs0.0620.0020.064
exomecn.mops0.7030.0090.733
getReadCountsFromBAM0.1250.0091.868
getSegmentReadCountsFromBAM0.0830.0061.775
gr-CNVDetectionResult-method0.0640.0020.067
gr0.0650.0020.067
haplocn.mops0.2820.0143.624
individualCall-CNVDetectionResult-method0.0700.0020.071
individualCall0.0700.0020.075
iniCall-CNVDetectionResult-method0.0690.0010.071
iniCall0.0660.0020.069
integerCopyNumber-CNVDetectionResult-method0.0720.0030.076
integerCopyNumber0.0700.0030.075
localAssessments-CNVDetectionResult-method0.0680.0020.069
localAssessments0.0740.0020.075
makeRobustCNVR0.1090.0010.110
normalizeChromosomes0.0560.0070.064
normalizeGenome0.2070.0090.222
normalizedData-CNVDetectionResult-method0.0670.0030.070
normalizedData0.0690.0030.072
params-CNVDetectionResult-method0.0650.0040.069
params0.0630.0050.071
posteriorProbs-CNVDetectionResult-method0.0650.0010.067
posteriorProbs0.0650.0010.070
referencecn.mops2.6150.0195.991
sampleNames-CNVDetectionResult-method0.0670.0040.070
sampleNames0.0640.0010.065
segment0.0050.0000.006
segmentation-CNVDetectionResult-method0.0630.0020.065
segmentation0.0660.0020.068
segplot-CNVDetectionResult-method0.2460.0020.248
segplot0.2510.0030.260
singlecn.mops0.2130.0020.215