Back to Multiple platform build/check report for BioC 3.21:   simplified   long
AB[C]DEFGHIJKLMNOPQRSTUVWXYZ

This page was generated on 2025-02-11 11:39 -0500 (Tue, 11 Feb 2025).

HostnameOSArch (*)R versionInstalled pkgs
nebbiolo1Linux (Ubuntu 24.04.1 LTS)x86_64R Under development (unstable) (2025-01-20 r87609) -- "Unsuffered Consequences" 4719
palomino7Windows Server 2022 Datacenterx64R Under development (unstable) (2025-01-21 r87610 ucrt) -- "Unsuffered Consequences" 4480
lconwaymacOS 12.7.1 Montereyx86_64R Under development (unstable) (2025-01-22 r87618) -- "Unsuffered Consequences" 4491
kjohnson3macOS 13.7.1 Venturaarm64R Under development (unstable) (2025-01-20 r87609) -- "Unsuffered Consequences" 4444
Click on any hostname to see more info about the system (e.g. compilers)      (*) as reported by 'uname -p', except on Windows and Mac OS X

Package 385/2295HostnameOS / ArchINSTALLBUILDCHECKBUILD BIN
cn.mops 1.53.0  (landing page)
Gundula Povysil
Snapshot Date: 2025-02-10 13:40 -0500 (Mon, 10 Feb 2025)
git_url: https://git.bioconductor.org/packages/cn.mops
git_branch: devel
git_last_commit: f3ed325
git_last_commit_date: 2025-01-01 13:36:05 -0500 (Wed, 01 Jan 2025)
nebbiolo1Linux (Ubuntu 24.04.1 LTS) / x86_64  OK    OK    OK  UNNEEDED, same version is already published
palomino7Windows Server 2022 Datacenter / x64  OK    OK    OK    OK  UNNEEDED, same version is already published
lconwaymacOS 12.7.1 Monterey / x86_64  OK    OK    OK    OK  UNNEEDED, same version is already published
kjohnson3macOS 13.7.1 Ventura / arm64  OK    OK    OK    OK  UNNEEDED, same version is already published


CHECK results for cn.mops on nebbiolo1

To the developers/maintainers of the cn.mops package:
- Allow up to 24 hours (and sometimes 48 hours) for your latest push to git@git.bioconductor.org:packages/cn.mops.git to reflect on this report. See Troubleshooting Build Report for more information.
- Use the following Renviron settings to reproduce errors and warnings.
- If 'R CMD check' started to fail recently on the Linux builder(s) over a missing dependency, add the missing dependency to 'Suggests:' in your DESCRIPTION file. See Renviron.bioc for more information.

raw results


Summary

Package: cn.mops
Version: 1.53.0
Command: /home/biocbuild/bbs-3.21-bioc/R/bin/R CMD check --install=check:cn.mops.install-out.txt --library=/home/biocbuild/bbs-3.21-bioc/R/site-library --timings cn.mops_1.53.0.tar.gz
StartedAt: 2025-02-10 21:12:10 -0500 (Mon, 10 Feb 2025)
EndedAt: 2025-02-10 21:15:26 -0500 (Mon, 10 Feb 2025)
EllapsedTime: 195.3 seconds
RetCode: 0
Status:   OK  
CheckDir: cn.mops.Rcheck
Warnings: 0

Command output

##############################################################################
##############################################################################
###
### Running command:
###
###   /home/biocbuild/bbs-3.21-bioc/R/bin/R CMD check --install=check:cn.mops.install-out.txt --library=/home/biocbuild/bbs-3.21-bioc/R/site-library --timings cn.mops_1.53.0.tar.gz
###
##############################################################################
##############################################################################


* using log directory ‘/home/biocbuild/bbs-3.21-bioc/meat/cn.mops.Rcheck’
* using R Under development (unstable) (2025-01-20 r87609)
* using platform: x86_64-pc-linux-gnu
* R was compiled by
    gcc (Ubuntu 13.3.0-6ubuntu2~24.04) 13.3.0
    GNU Fortran (Ubuntu 13.3.0-6ubuntu2~24.04) 13.3.0
* running under: Ubuntu 24.04.1 LTS
* using session charset: UTF-8
* checking for file ‘cn.mops/DESCRIPTION’ ... OK
* checking extension type ... Package
* this is package ‘cn.mops’ version ‘1.53.0’
* checking package namespace information ... OK
* checking package dependencies ... OK
* checking if this is a source package ... OK
* checking if there is a namespace ... OK
* checking for hidden files and directories ... OK
* checking for portable file names ... OK
* checking for sufficient/correct file permissions ... OK
* checking whether package ‘cn.mops’ can be installed ... OK
* used C compiler: ‘gcc (Ubuntu 13.3.0-6ubuntu2~24.04) 13.3.0’
* used C++ compiler: ‘g++ (Ubuntu 13.3.0-6ubuntu2~24.04) 13.3.0’
* checking installed package size ... OK
* checking package directory ... OK
* checking ‘build’ directory ... OK
* checking DESCRIPTION meta-information ... OK
* checking top-level files ... OK
* checking for left-over files ... OK
* checking index information ... OK
* checking package subdirectories ... OK
* checking code files for non-ASCII characters ... OK
* checking R files for syntax errors ... OK
* checking whether the package can be loaded ... OK
* checking whether the package can be loaded with stated dependencies ... OK
* checking whether the package can be unloaded cleanly ... OK
* checking whether the namespace can be loaded with stated dependencies ... OK
* checking whether the namespace can be unloaded cleanly ... OK
* checking loading without being on the library search path ... OK
* checking whether startup messages can be suppressed ... OK
* checking dependencies in R code ... OK
* checking S3 generic/method consistency ... OK
* checking replacement functions ... OK
* checking foreign function calls ... OK
* checking R code for possible problems ... OK
* checking Rd files ... OK
* checking Rd metadata ... OK
* checking Rd cross-references ... OK
* checking for missing documentation entries ... OK
* checking for code/documentation mismatches ... OK
* checking Rd \usage sections ... OK
* checking Rd contents ... OK
* checking for unstated dependencies in examples ... OK
* checking contents of ‘data’ directory ... OK
* checking data for non-ASCII characters ... OK
* checking data for ASCII and uncompressed saves ... OK
* checking line endings in C/C++/Fortran sources/headers ... OK
* checking compiled code ... NOTE
Note: information on .o files is not available
* checking files in ‘vignettes’ ... OK
* checking examples ... OK
Examples with CPU (user + system) or elapsed time > 5s
                                                     user system elapsed
referencecn.mops                                    7.021  0.034  15.248
cn.mops                                             5.279  0.059  15.901
calcFractionalCopyNumbers-CNVDetectionResult-method 5.309  0.021   5.332
calcFractionalCopyNumbers                           5.147  0.011   5.158
haplocn.mops                                        1.046  0.106   9.712
* checking for unstated dependencies in vignettes ... OK
* checking package vignettes ... OK
* checking re-building of vignette outputs ... OK
* checking PDF version of manual ... OK
* DONE

Status: 1 NOTE
See
  ‘/home/biocbuild/bbs-3.21-bioc/meat/cn.mops.Rcheck/00check.log’
for details.


Installation output

cn.mops.Rcheck/00install.out

##############################################################################
##############################################################################
###
### Running command:
###
###   /home/biocbuild/bbs-3.21-bioc/R/bin/R CMD INSTALL cn.mops
###
##############################################################################
##############################################################################


* installing to library ‘/home/biocbuild/bbs-3.21-bioc/R/site-library’
* installing *source* package ‘cn.mops’ ...
** this is package ‘cn.mops’ version ‘1.53.0’
** using staged installation
** libs
using C compiler: ‘gcc (Ubuntu 13.3.0-6ubuntu2~24.04) 13.3.0’
using C++ compiler: ‘g++ (Ubuntu 13.3.0-6ubuntu2~24.04) 13.3.0’
gcc -I"/home/biocbuild/bbs-3.21-bioc/R/include" -DNDEBUG   -I/usr/local/include    -fpic  -g -O2  -c R_init_cnmops.c -o R_init_cnmops.o
g++ -std=gnu++17 -I"/home/biocbuild/bbs-3.21-bioc/R/include" -DNDEBUG   -I/usr/local/include    -fpic  -g -O2  -DR_NO_REMAP -c cnmops.cpp -o cnmops.o
g++ -std=gnu++17 -I"/home/biocbuild/bbs-3.21-bioc/R/include" -DNDEBUG   -I/usr/local/include    -fpic  -g -O2  -DR_NO_REMAP -c segment.cpp -o segment.o
g++ -std=gnu++17 -shared -L/home/biocbuild/bbs-3.21-bioc/R/lib -L/usr/local/lib -o cn.mops.so R_init_cnmops.o cnmops.o segment.o -L/home/biocbuild/bbs-3.21-bioc/R/lib -lR
installing to /home/biocbuild/bbs-3.21-bioc/R/site-library/00LOCK-cn.mops/00new/cn.mops/libs
** R
** data
** inst
** byte-compile and prepare package for lazy loading
** help
*** installing help indices
** building package indices
** installing vignettes
** testing if installed package can be loaded from temporary location
** checking absolute paths in shared objects and dynamic libraries
** testing if installed package can be loaded from final location
** testing if installed package keeps a record of temporary installation path
* DONE (cn.mops)

Tests output


Example timings

cn.mops.Rcheck/cn.mops-Ex.timings

nameusersystemelapsed
CNVDetectionResult0.0020.0000.001
calcFractionalCopyNumbers-CNVDetectionResult-method5.3090.0215.332
calcFractionalCopyNumbers5.1470.0115.158
calcIntegerCopyNumbers-CNVDetectionResult-method0.3720.0040.376
calcIntegerCopyNumbers0.3560.0040.359
cn.mops 5.279 0.05915.901
cnvr-CNVDetectionResult-method0.2080.0010.209
cnvr0.2060.0020.208
cnvs-CNVDetectionResult-method0.2080.0020.209
cnvs0.1940.0000.194
exomecn.mops2.1500.0072.157
getReadCountsFromBAM0.4110.0064.887
getSegmentReadCountsFromBAM0.3040.0024.577
gr-CNVDetectionResult-method0.2530.1220.375
gr0.2360.0350.271
haplocn.mops1.0460.1069.712
individualCall-CNVDetectionResult-method0.2470.0490.296
individualCall0.2140.0060.220
iniCall-CNVDetectionResult-method0.2060.0080.214
iniCall0.2100.0010.211
integerCopyNumber-CNVDetectionResult-method0.2130.0100.224
integerCopyNumber0.2160.0060.222
localAssessments-CNVDetectionResult-method0.2010.0000.202
localAssessments0.2120.0020.215
makeRobustCNVR0.3550.0140.369
normalizeChromosomes0.1450.0230.169
normalizeGenome0.4660.2220.689
normalizedData-CNVDetectionResult-method0.2050.0110.216
normalizedData0.2070.0040.211
params-CNVDetectionResult-method0.1960.0120.209
params0.1880.0140.202
posteriorProbs-CNVDetectionResult-method0.1990.0040.202
posteriorProbs0.1820.0040.186
referencecn.mops 7.021 0.03415.248
sampleNames-CNVDetectionResult-method0.2110.0040.214
sampleNames0.1990.0030.201
segment0.0170.0010.018
segmentation-CNVDetectionResult-method0.2020.0050.207
segmentation0.2010.0040.206
segplot-CNVDetectionResult-method0.8260.0040.830
segplot0.8640.0030.867
singlecn.mops0.6100.0030.612