Back to Multiple platform build/check report for BioC 3.21: simplified long |
|
This page was generated on 2025-02-15 11:42 -0500 (Sat, 15 Feb 2025).
Hostname | OS | Arch (*) | R version | Installed pkgs |
---|---|---|---|---|
nebbiolo1 | Linux (Ubuntu 24.04.1 LTS) | x86_64 | R Under development (unstable) (2025-01-20 r87609) -- "Unsuffered Consequences" | 4720 |
palomino7 | Windows Server 2022 Datacenter | x64 | R Under development (unstable) (2025-01-21 r87610 ucrt) -- "Unsuffered Consequences" | 4482 |
lconway | macOS 12.7.1 Monterey | x86_64 | R Under development (unstable) (2025-01-22 r87618) -- "Unsuffered Consequences" | 4493 |
kjohnson3 | macOS 13.7.1 Ventura | arm64 | R Under development (unstable) (2025-01-20 r87609) -- "Unsuffered Consequences" | 4446 |
Click on any hostname to see more info about the system (e.g. compilers) (*) as reported by 'uname -p', except on Windows and Mac OS X |
Package 380/2295 | Hostname | OS / Arch | INSTALL | BUILD | CHECK | BUILD BIN | ||||||||
clustifyr 1.19.0 (landing page) Rui Fu
| nebbiolo1 | Linux (Ubuntu 24.04.1 LTS) / x86_64 | OK | OK | OK | ![]() | ||||||||
palomino7 | Windows Server 2022 Datacenter / x64 | OK | OK | OK | OK | ![]() | ||||||||
lconway | macOS 12.7.1 Monterey / x86_64 | OK | OK | OK | OK | ![]() | ||||||||
kjohnson3 | macOS 13.7.1 Ventura / arm64 | OK | OK | OK | OK | ![]() | ||||||||
To the developers/maintainers of the clustifyr package: - Allow up to 24 hours (and sometimes 48 hours) for your latest push to git@git.bioconductor.org:packages/clustifyr.git to reflect on this report. See Troubleshooting Build Report for more information. - Use the following Renviron settings to reproduce errors and warnings. - If 'R CMD check' started to fail recently on the Linux builder(s) over a missing dependency, add the missing dependency to 'Suggests:' in your DESCRIPTION file. See Renviron.bioc for more information. |
Package: clustifyr |
Version: 1.19.0 |
Command: /Library/Frameworks/R.framework/Resources/bin/R CMD check --install=check:clustifyr.install-out.txt --library=/Library/Frameworks/R.framework/Resources/library --no-vignettes --timings clustifyr_1.19.0.tar.gz |
StartedAt: 2025-02-14 19:29:52 -0500 (Fri, 14 Feb 2025) |
EndedAt: 2025-02-14 19:41:55 -0500 (Fri, 14 Feb 2025) |
EllapsedTime: 723.1 seconds |
RetCode: 0 |
Status: OK |
CheckDir: clustifyr.Rcheck |
Warnings: 0 |
############################################################################## ############################################################################## ### ### Running command: ### ### /Library/Frameworks/R.framework/Resources/bin/R CMD check --install=check:clustifyr.install-out.txt --library=/Library/Frameworks/R.framework/Resources/library --no-vignettes --timings clustifyr_1.19.0.tar.gz ### ############################################################################## ############################################################################## * using log directory ‘/Users/biocbuild/bbs-3.21-bioc/meat/clustifyr.Rcheck’ * using R Under development (unstable) (2025-01-22 r87618) * using platform: x86_64-apple-darwin20 * R was compiled by Apple clang version 14.0.0 (clang-1400.0.29.202) GNU Fortran (GCC) 14.2.0 * running under: macOS Monterey 12.7.6 * using session charset: UTF-8 * using option ‘--no-vignettes’ * checking for file ‘clustifyr/DESCRIPTION’ ... OK * this is package ‘clustifyr’ version ‘1.19.0’ * package encoding: UTF-8 * checking package namespace information ... OK * checking package dependencies ... OK * checking if this is a source package ... OK * checking if there is a namespace ... OK * checking for hidden files and directories ... OK * checking for portable file names ... OK * checking for sufficient/correct file permissions ... OK * checking whether package ‘clustifyr’ can be installed ... OK * checking installed package size ... OK * checking package directory ... OK * checking ‘build’ directory ... OK * checking DESCRIPTION meta-information ... NOTE License stub is invalid DCF. * checking top-level files ... OK * checking for left-over files ... OK * checking index information ... OK * checking package subdirectories ... OK * checking code files for non-ASCII characters ... OK * checking R files for syntax errors ... OK * checking whether the package can be loaded ... OK * checking whether the package can be loaded with stated dependencies ... OK * checking whether the package can be unloaded cleanly ... OK * checking whether the namespace can be loaded with stated dependencies ... OK * checking whether the namespace can be unloaded cleanly ... OK * checking dependencies in R code ... OK * checking S3 generic/method consistency ... OK * checking replacement functions ... OK * checking foreign function calls ... OK * checking R code for possible problems ... OK * checking Rd files ... OK * checking Rd metadata ... OK * checking Rd cross-references ... OK * checking for missing documentation entries ... OK * checking for code/documentation mismatches ... OK * checking Rd \usage sections ... OK * checking Rd contents ... OK * checking for unstated dependencies in examples ... OK * checking contents of ‘data’ directory ... OK * checking data for non-ASCII characters ... OK * checking LazyData ... OK * checking data for ASCII and uncompressed saves ... OK * checking files in ‘vignettes’ ... OK * checking examples ... OK Examples with CPU (user + system) or elapsed time > 5s user system elapsed plot_pathway_gsea 17.592 0.130 17.824 calculate_pathway_gsea 14.546 0.113 14.749 * checking for unstated dependencies in ‘tests’ ... OK * checking tests ... Running ‘testthat.R’ OK * checking for unstated dependencies in vignettes ... OK * checking package vignettes ... OK * checking running R code from vignettes ... SKIPPED * checking re-building of vignette outputs ... SKIPPED * checking PDF version of manual ... OK * DONE Status: 1 NOTE See ‘/Users/biocbuild/bbs-3.21-bioc/meat/clustifyr.Rcheck/00check.log’ for details.
clustifyr.Rcheck/00install.out
############################################################################## ############################################################################## ### ### Running command: ### ### /Library/Frameworks/R.framework/Resources/bin/R CMD INSTALL clustifyr ### ############################################################################## ############################################################################## * installing to library ‘/Library/Frameworks/R.framework/Versions/4.5-x86_64/Resources/library’ * installing *source* package ‘clustifyr’ ... ** this is package ‘clustifyr’ version ‘1.19.0’ ** using staged installation ** R ** data *** moving datasets to lazyload DB ** inst ** byte-compile and prepare package for lazy loading ** help *** installing help indices *** copying figures ** building package indices ** installing vignettes ** testing if installed package can be loaded from temporary location ** testing if installed package can be loaded from final location ** testing if installed package keeps a record of temporary installation path * DONE (clustifyr)
clustifyr.Rcheck/tests/testthat.Rout
R Under development (unstable) (2025-01-22 r87618) -- "Unsuffered Consequences" Copyright (C) 2025 The R Foundation for Statistical Computing Platform: x86_64-apple-darwin20 R is free software and comes with ABSOLUTELY NO WARRANTY. You are welcome to redistribute it under certain conditions. Type 'license()' or 'licence()' for distribution details. R is a collaborative project with many contributors. Type 'contributors()' for more information and 'citation()' on how to cite R or R packages in publications. Type 'demo()' for some demos, 'help()' for on-line help, or 'help.start()' for an HTML browser interface to help. Type 'q()' to quit R. > library(testthat) > library(clustifyr) > > test_check("clustifyr") [ FAIL 0 | WARN 0 | SKIP 0 | PASS 183 ] > > proc.time() user system elapsed 437.161 6.721 446.171
clustifyr.Rcheck/clustifyr-Ex.timings
name | user | system | elapsed | |
append_genes | 0.694 | 0.012 | 0.711 | |
assess_rank_bias | 0.000 | 0.000 | 0.001 | |
average_clusters | 0.051 | 0.008 | 0.059 | |
binarize_expr | 0.043 | 0.003 | 0.046 | |
build_atlas | 0.062 | 0.018 | 0.079 | |
calc_distance | 0.004 | 0.000 | 0.005 | |
calculate_pathway_gsea | 14.546 | 0.113 | 14.749 | |
call_consensus | 0.202 | 0.010 | 0.213 | |
call_to_metadata | 0.191 | 0.167 | 0.368 | |
check_raw_counts | 0.746 | 0.036 | 0.787 | |
clustify | 1.939 | 0.076 | 2.027 | |
clustify_lists | 0.057 | 0.007 | 0.064 | |
clustify_nudge | 1.011 | 0.034 | 1.053 | |
clustifyr_methods | 0.000 | 0.000 | 0.001 | |
collapse_to_cluster | 1.314 | 0.064 | 1.389 | |
compare_lists | 0.114 | 0.004 | 0.119 | |
cor_to_call | 0.082 | 0.004 | 0.087 | |
cor_to_call_rank | 0.062 | 0.002 | 0.065 | |
cor_to_call_topn | 0.064 | 0.001 | 0.066 | |
downsample_matrix | 0.013 | 0.000 | 0.014 | |
feature_select_PCA | 0.011 | 0.003 | 0.014 | |
file_marker_parse | 0.002 | 0.001 | 0.004 | |
find_rank_bias | 0.032 | 0.003 | 0.034 | |
gene_pct_markerm | 0.309 | 0.004 | 0.315 | |
get_ucsc_reference | 0 | 0 | 0 | |
get_vargenes | 0.000 | 0.001 | 0.001 | |
gmt_to_list | 0.038 | 0.003 | 0.041 | |
insert_meta_object | 0.255 | 0.016 | 0.273 | |
make_comb_ref | 0.016 | 0.002 | 0.018 | |
marker_select | 0.026 | 0.007 | 0.033 | |
matrixize_markers | 0.029 | 0.009 | 0.038 | |
object_data | 0.351 | 0.020 | 0.374 | |
object_ref | 0.310 | 0.107 | 0.420 | |
overcluster | 1.658 | 0.090 | 1.757 | |
overcluster_test | 1.829 | 0.069 | 1.911 | |
parse_loc_object | 0.235 | 0.013 | 0.252 | |
plot_best_call | 0.515 | 0.022 | 0.539 | |
plot_cor | 0.705 | 0.050 | 0.762 | |
plot_cor_heatmap | 1.006 | 0.042 | 1.059 | |
plot_dims | 0.236 | 0.005 | 0.242 | |
plot_gene | 0.429 | 0.008 | 0.440 | |
plot_pathway_gsea | 17.592 | 0.130 | 17.824 | |
plot_rank_bias | 0 | 0 | 0 | |
pos_neg_marker | 0.007 | 0.000 | 0.008 | |
pos_neg_select | 0.065 | 0.002 | 0.067 | |
query_rank_bias | 0.043 | 0.002 | 0.044 | |
ref_feature_select | 0.034 | 0.001 | 0.035 | |
ref_marker_select | 0.176 | 0.001 | 0.178 | |
reverse_marker_matrix | 0.005 | 0.003 | 0.008 | |
run_clustifyr_app | 0 | 0 | 0 | |
seurat_meta | 0.233 | 0.004 | 0.238 | |
seurat_ref | 0.298 | 0.020 | 0.319 | |
write_meta | 0.304 | 0.005 | 0.312 | |