Back to Multiple platform build/check report for BioC 3.21: simplified long |
|
This page was generated on 2025-02-15 11:39 -0500 (Sat, 15 Feb 2025).
Hostname | OS | Arch (*) | R version | Installed pkgs |
---|---|---|---|---|
nebbiolo1 | Linux (Ubuntu 24.04.1 LTS) | x86_64 | R Under development (unstable) (2025-01-20 r87609) -- "Unsuffered Consequences" | 4720 |
palomino7 | Windows Server 2022 Datacenter | x64 | R Under development (unstable) (2025-01-21 r87610 ucrt) -- "Unsuffered Consequences" | 4482 |
lconway | macOS 12.7.1 Monterey | x86_64 | R Under development (unstable) (2025-01-22 r87618) -- "Unsuffered Consequences" | 4493 |
kjohnson3 | macOS 13.7.1 Ventura | arm64 | R Under development (unstable) (2025-01-20 r87609) -- "Unsuffered Consequences" | 4446 |
Click on any hostname to see more info about the system (e.g. compilers) (*) as reported by 'uname -p', except on Windows and Mac OS X |
Package 380/2295 | Hostname | OS / Arch | INSTALL | BUILD | CHECK | BUILD BIN | ||||||||
clustifyr 1.19.0 (landing page) Rui Fu
| nebbiolo1 | Linux (Ubuntu 24.04.1 LTS) / x86_64 | OK | OK | OK | ![]() | ||||||||
palomino7 | Windows Server 2022 Datacenter / x64 | OK | OK | OK | OK | ![]() | ||||||||
lconway | macOS 12.7.1 Monterey / x86_64 | OK | OK | OK | OK | ![]() | ||||||||
kjohnson3 | macOS 13.7.1 Ventura / arm64 | OK | OK | OK | OK | ![]() | ||||||||
To the developers/maintainers of the clustifyr package: - Allow up to 24 hours (and sometimes 48 hours) for your latest push to git@git.bioconductor.org:packages/clustifyr.git to reflect on this report. See Troubleshooting Build Report for more information. - Use the following Renviron settings to reproduce errors and warnings. - If 'R CMD check' started to fail recently on the Linux builder(s) over a missing dependency, add the missing dependency to 'Suggests:' in your DESCRIPTION file. See Renviron.bioc for more information. |
Package: clustifyr |
Version: 1.19.0 |
Command: /home/biocbuild/bbs-3.21-bioc/R/bin/R CMD check --install=check:clustifyr.install-out.txt --library=/home/biocbuild/bbs-3.21-bioc/R/site-library --timings clustifyr_1.19.0.tar.gz |
StartedAt: 2025-02-14 20:47:15 -0500 (Fri, 14 Feb 2025) |
EndedAt: 2025-02-14 20:58:45 -0500 (Fri, 14 Feb 2025) |
EllapsedTime: 690.0 seconds |
RetCode: 0 |
Status: OK |
CheckDir: clustifyr.Rcheck |
Warnings: 0 |
############################################################################## ############################################################################## ### ### Running command: ### ### /home/biocbuild/bbs-3.21-bioc/R/bin/R CMD check --install=check:clustifyr.install-out.txt --library=/home/biocbuild/bbs-3.21-bioc/R/site-library --timings clustifyr_1.19.0.tar.gz ### ############################################################################## ############################################################################## * using log directory ‘/home/biocbuild/bbs-3.21-bioc/meat/clustifyr.Rcheck’ * using R Under development (unstable) (2025-01-20 r87609) * using platform: x86_64-pc-linux-gnu * R was compiled by gcc (Ubuntu 13.3.0-6ubuntu2~24.04) 13.3.0 GNU Fortran (Ubuntu 13.3.0-6ubuntu2~24.04) 13.3.0 * running under: Ubuntu 24.04.2 LTS * using session charset: UTF-8 * checking for file ‘clustifyr/DESCRIPTION’ ... OK * this is package ‘clustifyr’ version ‘1.19.0’ * package encoding: UTF-8 * checking package namespace information ... OK * checking package dependencies ... OK * checking if this is a source package ... OK * checking if there is a namespace ... OK * checking for hidden files and directories ... OK * checking for portable file names ... OK * checking for sufficient/correct file permissions ... OK * checking whether package ‘clustifyr’ can be installed ... OK * checking installed package size ... OK * checking package directory ... OK * checking ‘build’ directory ... OK * checking DESCRIPTION meta-information ... NOTE License stub is invalid DCF. * checking top-level files ... OK * checking for left-over files ... OK * checking index information ... OK * checking package subdirectories ... OK * checking code files for non-ASCII characters ... OK * checking R files for syntax errors ... OK * checking whether the package can be loaded ... OK * checking whether the package can be loaded with stated dependencies ... OK * checking whether the package can be unloaded cleanly ... OK * checking whether the namespace can be loaded with stated dependencies ... OK * checking whether the namespace can be unloaded cleanly ... OK * checking loading without being on the library search path ... OK * checking dependencies in R code ... OK * checking S3 generic/method consistency ... OK * checking replacement functions ... OK * checking foreign function calls ... OK * checking R code for possible problems ... OK * checking Rd files ... OK * checking Rd metadata ... OK * checking Rd cross-references ... OK * checking for missing documentation entries ... OK * checking for code/documentation mismatches ... OK * checking Rd \usage sections ... OK * checking Rd contents ... OK * checking for unstated dependencies in examples ... OK * checking contents of ‘data’ directory ... OK * checking data for non-ASCII characters ... OK * checking LazyData ... OK * checking data for ASCII and uncompressed saves ... OK * checking files in ‘vignettes’ ... OK * checking examples ... OK Examples with CPU (user + system) or elapsed time > 5s user system elapsed plot_pathway_gsea 16.819 0.191 17.010 calculate_pathway_gsea 13.777 0.289 14.067 * checking for unstated dependencies in ‘tests’ ... OK * checking tests ... Running ‘testthat.R’ OK * checking for unstated dependencies in vignettes ... OK * checking package vignettes ... OK * checking re-building of vignette outputs ... OK * checking PDF version of manual ... OK * DONE Status: 1 NOTE See ‘/home/biocbuild/bbs-3.21-bioc/meat/clustifyr.Rcheck/00check.log’ for details.
clustifyr.Rcheck/00install.out
############################################################################## ############################################################################## ### ### Running command: ### ### /home/biocbuild/bbs-3.21-bioc/R/bin/R CMD INSTALL clustifyr ### ############################################################################## ############################################################################## * installing to library ‘/home/biocbuild/bbs-3.21-bioc/R/site-library’ * installing *source* package ‘clustifyr’ ... ** this is package ‘clustifyr’ version ‘1.19.0’ ** using staged installation ** R ** data *** moving datasets to lazyload DB ** inst ** byte-compile and prepare package for lazy loading ** help *** installing help indices *** copying figures ** building package indices ** installing vignettes ** testing if installed package can be loaded from temporary location ** testing if installed package can be loaded from final location ** testing if installed package keeps a record of temporary installation path * DONE (clustifyr)
clustifyr.Rcheck/tests/testthat.Rout
R Under development (unstable) (2025-01-20 r87609) -- "Unsuffered Consequences" Copyright (C) 2025 The R Foundation for Statistical Computing Platform: x86_64-pc-linux-gnu R is free software and comes with ABSOLUTELY NO WARRANTY. You are welcome to redistribute it under certain conditions. Type 'license()' or 'licence()' for distribution details. R is a collaborative project with many contributors. Type 'contributors()' for more information and 'citation()' on how to cite R or R packages in publications. Type 'demo()' for some demos, 'help()' for on-line help, or 'help.start()' for an HTML browser interface to help. Type 'q()' to quit R. > library(testthat) > library(clustifyr) > > test_check("clustifyr") [ FAIL 0 | WARN 0 | SKIP 0 | PASS 183 ] > > proc.time() user system elapsed 412.212 5.913 418.133
clustifyr.Rcheck/clustifyr-Ex.timings
name | user | system | elapsed | |
append_genes | 0.104 | 0.007 | 0.111 | |
assess_rank_bias | 0.000 | 0.000 | 0.001 | |
average_clusters | 0.658 | 0.010 | 0.668 | |
binarize_expr | 0.037 | 0.004 | 0.041 | |
build_atlas | 0.054 | 0.012 | 0.066 | |
calc_distance | 0.004 | 0.001 | 0.005 | |
calculate_pathway_gsea | 13.777 | 0.289 | 14.067 | |
call_consensus | 0.187 | 0.024 | 0.211 | |
call_to_metadata | 0.125 | 0.185 | 0.310 | |
check_raw_counts | 0.714 | 0.039 | 0.753 | |
clustify | 1.178 | 0.048 | 1.226 | |
clustify_lists | 0.759 | 0.004 | 0.763 | |
clustify_nudge | 0.801 | 0.022 | 0.824 | |
clustifyr_methods | 0 | 0 | 0 | |
collapse_to_cluster | 0.597 | 0.029 | 0.626 | |
compare_lists | 0.128 | 0.006 | 0.134 | |
cor_to_call | 0.051 | 0.000 | 0.052 | |
cor_to_call_rank | 0.077 | 0.009 | 0.086 | |
cor_to_call_topn | 0.055 | 0.002 | 0.057 | |
downsample_matrix | 0.011 | 0.000 | 0.011 | |
feature_select_PCA | 0.007 | 0.002 | 0.009 | |
file_marker_parse | 0.001 | 0.001 | 0.002 | |
find_rank_bias | 0.027 | 0.002 | 0.029 | |
gene_pct_markerm | 0.239 | 0.002 | 0.241 | |
get_ucsc_reference | 0.000 | 0.001 | 0.000 | |
get_vargenes | 0 | 0 | 0 | |
gmt_to_list | 0.037 | 0.000 | 0.037 | |
insert_meta_object | 0.208 | 0.012 | 0.220 | |
make_comb_ref | 0.013 | 0.001 | 0.014 | |
marker_select | 0.013 | 0.001 | 0.014 | |
matrixize_markers | 0.027 | 0.005 | 0.032 | |
object_data | 0.287 | 0.017 | 0.303 | |
object_ref | 0.245 | 0.114 | 0.359 | |
overcluster | 1.496 | 0.053 | 1.549 | |
overcluster_test | 1.095 | 0.018 | 1.113 | |
parse_loc_object | 0.200 | 0.022 | 0.222 | |
plot_best_call | 0.504 | 0.013 | 0.516 | |
plot_cor | 0.577 | 0.004 | 0.581 | |
plot_cor_heatmap | 0.788 | 0.009 | 0.798 | |
plot_dims | 0.237 | 0.000 | 0.237 | |
plot_gene | 0.428 | 0.035 | 0.463 | |
plot_pathway_gsea | 16.819 | 0.191 | 17.010 | |
plot_rank_bias | 0 | 0 | 0 | |
pos_neg_marker | 0.007 | 0.000 | 0.008 | |
pos_neg_select | 0.058 | 0.003 | 0.063 | |
query_rank_bias | 0.032 | 0.002 | 0.034 | |
ref_feature_select | 0.024 | 0.003 | 0.027 | |
ref_marker_select | 0.151 | 0.000 | 0.151 | |
reverse_marker_matrix | 0.003 | 0.003 | 0.006 | |
run_clustifyr_app | 0.001 | 0.000 | 0.000 | |
seurat_meta | 0.221 | 0.008 | 0.229 | |
seurat_ref | 0.233 | 0.001 | 0.235 | |
write_meta | 0.266 | 0.012 | 0.278 | |