Back to Multiple platform build/check report for BioC 3.21:   simplified   long
AB[C]DEFGHIJKLMNOPQRSTUVWXYZ

This page was generated on 2025-02-15 11:42 -0500 (Sat, 15 Feb 2025).

HostnameOSArch (*)R versionInstalled pkgs
nebbiolo1Linux (Ubuntu 24.04.1 LTS)x86_64R Under development (unstable) (2025-01-20 r87609) -- "Unsuffered Consequences" 4720
palomino7Windows Server 2022 Datacenterx64R Under development (unstable) (2025-01-21 r87610 ucrt) -- "Unsuffered Consequences" 4482
lconwaymacOS 12.7.1 Montereyx86_64R Under development (unstable) (2025-01-22 r87618) -- "Unsuffered Consequences" 4493
kjohnson3macOS 13.7.1 Venturaarm64R Under development (unstable) (2025-01-20 r87609) -- "Unsuffered Consequences" 4446
Click on any hostname to see more info about the system (e.g. compilers)      (*) as reported by 'uname -p', except on Windows and Mac OS X

Package 299/2295HostnameOS / ArchINSTALLBUILDCHECKBUILD BIN
cellmigRation 1.15.0  (landing page)
Waldir Leoncio
Snapshot Date: 2025-02-14 13:40 -0500 (Fri, 14 Feb 2025)
git_url: https://git.bioconductor.org/packages/cellmigRation
git_branch: devel
git_last_commit: 16757c8
git_last_commit_date: 2024-10-29 10:58:18 -0500 (Tue, 29 Oct 2024)
nebbiolo1Linux (Ubuntu 24.04.1 LTS) / x86_64  OK    OK    OK  UNNEEDED, same version is already published
palomino7Windows Server 2022 Datacenter / x64  OK    OK    OK    OK  UNNEEDED, same version is already published
lconwaymacOS 12.7.1 Monterey / x86_64  OK    OK    OK    OK  UNNEEDED, same version is already published
kjohnson3macOS 13.7.1 Ventura / arm64  OK    OK    OK    OK  UNNEEDED, same version is already published


CHECK results for cellmigRation on lconway

To the developers/maintainers of the cellmigRation package:
- Allow up to 24 hours (and sometimes 48 hours) for your latest push to git@git.bioconductor.org:packages/cellmigRation.git to reflect on this report. See Troubleshooting Build Report for more information.
- Use the following Renviron settings to reproduce errors and warnings.
- If 'R CMD check' started to fail recently on the Linux builder(s) over a missing dependency, add the missing dependency to 'Suggests:' in your DESCRIPTION file. See Renviron.bioc for more information.

raw results


Summary

Package: cellmigRation
Version: 1.15.0
Command: /Library/Frameworks/R.framework/Resources/bin/R CMD check --install=check:cellmigRation.install-out.txt --library=/Library/Frameworks/R.framework/Resources/library --no-vignettes --timings cellmigRation_1.15.0.tar.gz
StartedAt: 2025-02-14 19:19:34 -0500 (Fri, 14 Feb 2025)
EndedAt: 2025-02-14 19:21:55 -0500 (Fri, 14 Feb 2025)
EllapsedTime: 140.9 seconds
RetCode: 0
Status:   OK  
CheckDir: cellmigRation.Rcheck
Warnings: 0

Command output

##############################################################################
##############################################################################
###
### Running command:
###
###   /Library/Frameworks/R.framework/Resources/bin/R CMD check --install=check:cellmigRation.install-out.txt --library=/Library/Frameworks/R.framework/Resources/library --no-vignettes --timings cellmigRation_1.15.0.tar.gz
###
##############################################################################
##############################################################################


* using log directory ‘/Users/biocbuild/bbs-3.21-bioc/meat/cellmigRation.Rcheck’
* using R Under development (unstable) (2025-01-22 r87618)
* using platform: x86_64-apple-darwin20
* R was compiled by
    Apple clang version 14.0.0 (clang-1400.0.29.202)
    GNU Fortran (GCC) 14.2.0
* running under: macOS Monterey 12.7.6
* using session charset: UTF-8
* using option ‘--no-vignettes’
* checking for file ‘cellmigRation/DESCRIPTION’ ... OK
* checking extension type ... Package
* this is package ‘cellmigRation’ version ‘1.15.0’
* package encoding: UTF-8
* checking package namespace information ... OK
* checking package dependencies ... OK
* checking if this is a source package ... OK
* checking if there is a namespace ... OK
* checking for hidden files and directories ... OK
* checking for portable file names ... OK
* checking for sufficient/correct file permissions ... OK
* checking whether package ‘cellmigRation’ can be installed ... OK
* checking installed package size ... OK
* checking package directory ... OK
* checking ‘build’ directory ... OK
* checking DESCRIPTION meta-information ... OK
* checking top-level files ... OK
* checking for left-over files ... OK
* checking index information ... OK
* checking package subdirectories ... OK
* checking code files for non-ASCII characters ... OK
* checking R files for syntax errors ... OK
* checking whether the package can be loaded ... OK
* checking whether the package can be loaded with stated dependencies ... OK
* checking whether the package can be unloaded cleanly ... OK
* checking whether the namespace can be loaded with stated dependencies ... OK
* checking whether the namespace can be unloaded cleanly ... OK
* checking dependencies in R code ... OK
* checking S3 generic/method consistency ... OK
* checking replacement functions ... OK
* checking foreign function calls ... OK
* checking R code for possible problems ... OK
* checking Rd files ... OK
* checking Rd metadata ... OK
* checking Rd cross-references ... OK
* checking for missing documentation entries ... OK
* checking for code/documentation mismatches ... OK
* checking Rd \usage sections ... NOTE
Documented arguments not in \usage in Rd file 'fixDA.Rd':
  ‘object’

Documented arguments not in \usage in Rd file 'fixFM1.Rd':
  ‘object’

Documented arguments not in \usage in Rd file 'fixFM2.Rd':
  ‘object’

Documented arguments not in \usage in Rd file 'fixFM3.Rd':
  ‘object’

Documented arguments not in \usage in Rd file 'fixFM4.Rd':
  ‘object’

Documented arguments not in \usage in Rd file 'fixFM5.Rd':
  ‘object’

Documented arguments not in \usage in Rd file 'fixFM6.Rd':
  ‘object’

Documented arguments not in \usage in Rd file 'fixID2.Rd':
  ‘TimeInterval’

Documented arguments not in \usage in Rd file 'fixID3.Rd':
  ‘TimeInterval’

Documented arguments not in \usage in Rd file 'fixID4.Rd':
  ‘TimeInterval’

Documented arguments not in \usage in Rd file 'fixMSD.Rd':
  ‘object’

Documented arguments not in \usage in Rd file 'fixPER1.Rd':
  ‘x’

Documented arguments not in \usage in Rd file 'fixPER2.Rd':
  ‘x’

Documented arguments not in \usage in Rd file 'innerBondRaster.Rd':
  ‘i’

Functions with \usage entries need to have the appropriate \alias
entries, and all their arguments documented.
The \usage entries must correspond to syntactically valid R code.
See chapter ‘Writing R documentation files’ in the ‘Writing R
Extensions’ manual.
* checking Rd contents ... OK
* checking for unstated dependencies in examples ... OK
* checking contents of ‘data’ directory ... OK
* checking data for non-ASCII characters ... OK
* checking data for ASCII and uncompressed saves ... OK
* checking files in ‘vignettes’ ... OK
* checking examples ... OK
* checking for unstated dependencies in ‘tests’ ... OK
* checking tests ...
  Running ‘runTests.R’
 OK
* checking for unstated dependencies in vignettes ... OK
* checking package vignettes ... OK
* checking running R code from vignettes ... SKIPPED
* checking re-building of vignette outputs ... SKIPPED
* checking PDF version of manual ... OK
* DONE

Status: 1 NOTE
See
  ‘/Users/biocbuild/bbs-3.21-bioc/meat/cellmigRation.Rcheck/00check.log’
for details.


Installation output

cellmigRation.Rcheck/00install.out

##############################################################################
##############################################################################
###
### Running command:
###
###   /Library/Frameworks/R.framework/Resources/bin/R CMD INSTALL cellmigRation
###
##############################################################################
##############################################################################


* installing to library ‘/Library/Frameworks/R.framework/Versions/4.5-x86_64/Resources/library’
* installing *source* package ‘cellmigRation’ ...
** this is package ‘cellmigRation’ version ‘1.15.0’
** using staged installation
** R
** data
** inst
** byte-compile and prepare package for lazy loading
** help
*** installing help indices
** building package indices
** installing vignettes
** testing if installed package can be loaded from temporary location
** testing if installed package can be loaded from final location
** testing if installed package keeps a record of temporary installation path
* DONE (cellmigRation)

Tests output

cellmigRation.Rcheck/tests/runTests.Rout


R Under development (unstable) (2025-01-22 r87618) -- "Unsuffered Consequences"
Copyright (C) 2025 The R Foundation for Statistical Computing
Platform: x86_64-apple-darwin20

R is free software and comes with ABSOLUTELY NO WARRANTY.
You are welcome to redistribute it under certain conditions.
Type 'license()' or 'licence()' for distribution details.

R is a collaborative project with many contributors.
Type 'contributors()' for more information and
'citation()' on how to cite R or R packages in publications.

Type 'demo()' for some demos, 'help()' for on-line help, or
'help.start()' for an HTML browser interface to help.
Type 'q()' to quit R.

> BiocGenerics:::testPackage("cellmigRation")


RUNIT TEST PROTOCOL -- Fri Feb 14 19:21:43 2025 
*********************************************** 
Number of test functions: 7 
Number of errors: 0 
Number of failures: 0 

 
1 Test Suite : 
cellmigRation RUnit Tests - 7 test functions, 0 errors, 0 failures
Number of test functions: 7 
Number of errors: 0 
Number of failures: 0 
> 
> proc.time()
   user  system elapsed 
  3.069   0.336   3.418 

Example timings

cellmigRation.Rcheck/cellmigRation-Ex.timings

nameusersystemelapsed
AddDimension0.0010.0010.002
CellMig-class0.0220.0020.025
CellMigPCA1.5220.0321.565
CellMigPCAclust0.0070.0020.009
CellMigPCAclustALL0.9570.0451.007
CellTracker0.0150.0040.019
CellTrackerMainLoop0.0050.0080.023
CentroidArray0.0130.0030.015
CentroidValidation0.4850.0220.521
ComputeTracksStats0.0200.0030.022
DetectRadii0.0040.0010.004
DiAutoCor1.3770.0161.397
DiRatio0.0170.0010.020
DiRatioPlot0.0320.0130.049
EstimateDiameterRange0.0140.0020.017
FMI0.5040.0050.509
FianlizeOptiParams0.0000.0000.001
FilterTrackedCells0.0030.0000.003
FinRes0.7020.0130.719
ForwardMigration1.0480.0091.060
GenAllCombos0.0020.0000.003
LinearConv20.0160.0010.018
LoadTiff0.0010.0010.001
MSD1.5430.0181.569
MakeHypercube0.0010.0010.002
MigrationStats0.0010.0010.001
NextOdd0.0010.0010.001
NonParallel4OptimizeParams0.0010.0000.001
NonParallelTrackLoop0.0010.0000.000
OptimizeParams0.0150.0030.017
OptimizeParamsMainLoop0.0050.0110.028
Parallel4OptimizeParams0.0010.0000.001
ParallelTrackLoop0.0010.0000.001
PerAndSpeed0.3020.0270.339
PlotTracksSeparately0.0070.0010.008
PostProcessTracking0.0010.0000.001
Prep4OptimizeParams0.1330.0070.140
ThreeConditions0.0090.0030.011
TrackCellsDataset0.0090.0020.010
TrajectoryDataset0.0190.0010.020
ValidateTrackingArgs0.0010.0000.000
VeAutoCor1.1610.0211.186
VisualizeCntr0.0020.0010.003
VisualizeImg0.0050.0010.007
VisualizeStackCentroids0.0460.0070.054
WSADataset0.0050.0020.007
aggregateFR0.7260.0070.738
aggregateTrackedCells0.0180.0040.023
bpass0.0660.0030.069
circshift0.0010.0000.000
cntrd0.7990.0150.819
fixDA0.0010.0000.000
fixExpName0.0010.0000.001
fixFM1000
fixFM20.0000.0010.000
fixFM3000
fixFM40.0010.0000.000
fixFM50.0000.0000.001
fixFM6000
fixID10.0000.0010.001
fixMSD0.0010.0000.000
fixPER10.0010.0000.001
fixPER2000
fixPER30.0000.0000.001
getAvailableAggrMetrics1.1220.0091.137
getCellImages0.2820.8131.102
getCellMigSlot0.3460.5330.883
getCellTrackMeta0.0090.0020.011
getCellTrackStats0.0140.0030.017
getCellTracks0.0100.0030.013
getCellsMeta0.0080.0020.010
getCellsStats0.0120.0030.014
getDACtable2.1200.0212.149
getDiRatio0.0190.0020.021
getFMItable0.5200.0050.527
getForMigtable0.8440.0070.854
getImageCentroids0.0150.0030.018
getImageStacks0.0420.0060.048
getMSDtable3.6680.0353.722
getOptimizedParameters0.0110.0020.012
getOptimizedParams0.0120.0020.014
getPerAndSpeed0.3050.0260.341
getPopulationStats0.0100.0010.011
getProcessedImages0.2760.9301.215
getProcessingStatus0.0100.0020.012
getResults0.6270.0130.646
getTracks0.0090.0010.011
getVACtable1.0920.0081.105
initializeTrackParams0.0010.0000.000
innerBondRaster0.0010.0000.001
internalPermutation0.0010.0000.002
matfix0.0020.0010.001
nontrivialBondTracking0.0010.0000.001
pkfnd0.6820.0120.699
plot3DAllTracks000
plot3DTracks0.0010.0000.000
plotAllTracks0.0170.0040.021
plotSampleTracks0.0130.0030.016
preProcCellMig0.0050.0020.006
rmPreProcessing0.0920.0020.094
runTrackingPermutation0.0020.0000.001
setAnalyticParams0.0100.0010.011
setCellMigSlot0.0190.0020.020
setCellTracks0.0100.0020.011
setCellsMeta0.0110.0020.014
setExpName0.0200.0020.022
setOptimizedParams0.0100.0020.011
setProcessedImages0.0090.0020.011
setProcessingStatus0.0110.0020.012
setTrackedCellsMeta0.0100.0010.012
setTrackedCentroids0.0100.0020.013
setTrackedPositions0.0200.0050.025
setTrackingStats0.0110.0030.014
sinkAway0.0010.0000.001
subNetworkTracking0.0010.0000.001
track0.0070.0010.008
trackHypercubeBuild0.0010.0010.001
trackSlideProcessing0.0010.0000.001
trackSlideWrapUp0.0000.0000.001
trivialBondRaster0.0020.0000.002
trivialBondTracking0.0010.0010.001
visualizeCellTracks0.0480.0080.057
visualizeTrcks0.0290.0020.031
warnMessage0.0010.0000.001
wsaPreProcessing0.0520.0010.054