Back to Multiple platform build/check report for BioC 3.21:   simplified   long
AB[C]DEFGHIJKLMNOPQRSTUVWXYZ

This page was generated on 2025-02-11 11:43 -0500 (Tue, 11 Feb 2025).

HostnameOSArch (*)R versionInstalled pkgs
nebbiolo1Linux (Ubuntu 24.04.1 LTS)x86_64R Under development (unstable) (2025-01-20 r87609) -- "Unsuffered Consequences" 4719
palomino7Windows Server 2022 Datacenterx64R Under development (unstable) (2025-01-21 r87610 ucrt) -- "Unsuffered Consequences" 4480
lconwaymacOS 12.7.1 Montereyx86_64R Under development (unstable) (2025-01-22 r87618) -- "Unsuffered Consequences" 4491
kjohnson3macOS 13.7.1 Venturaarm64R Under development (unstable) (2025-01-20 r87609) -- "Unsuffered Consequences" 4444
Click on any hostname to see more info about the system (e.g. compilers)      (*) as reported by 'uname -p', except on Windows and Mac OS X

Package 299/2295HostnameOS / ArchINSTALLBUILDCHECKBUILD BIN
cellmigRation 1.15.0  (landing page)
Waldir Leoncio
Snapshot Date: 2025-02-10 13:40 -0500 (Mon, 10 Feb 2025)
git_url: https://git.bioconductor.org/packages/cellmigRation
git_branch: devel
git_last_commit: 16757c8
git_last_commit_date: 2024-10-29 10:58:18 -0500 (Tue, 29 Oct 2024)
nebbiolo1Linux (Ubuntu 24.04.1 LTS) / x86_64  OK    OK    OK  UNNEEDED, same version is already published
palomino7Windows Server 2022 Datacenter / x64  OK    OK    OK    OK  UNNEEDED, same version is already published
lconwaymacOS 12.7.1 Monterey / x86_64  OK    OK    OK    OK  UNNEEDED, same version is already published
kjohnson3macOS 13.7.1 Ventura / arm64  OK    OK    OK    OK  UNNEEDED, same version is already published


CHECK results for cellmigRation on kjohnson3

To the developers/maintainers of the cellmigRation package:
- Allow up to 24 hours (and sometimes 48 hours) for your latest push to git@git.bioconductor.org:packages/cellmigRation.git to reflect on this report. See Troubleshooting Build Report for more information.
- Use the following Renviron settings to reproduce errors and warnings.
- If 'R CMD check' started to fail recently on the Linux builder(s) over a missing dependency, add the missing dependency to 'Suggests:' in your DESCRIPTION file. See Renviron.bioc for more information.

raw results


Summary

Package: cellmigRation
Version: 1.15.0
Command: /Library/Frameworks/R.framework/Resources/bin/R CMD check --install=check:cellmigRation.install-out.txt --library=/Library/Frameworks/R.framework/Resources/library --no-vignettes --timings cellmigRation_1.15.0.tar.gz
StartedAt: 2025-02-10 18:27:01 -0500 (Mon, 10 Feb 2025)
EndedAt: 2025-02-10 18:27:48 -0500 (Mon, 10 Feb 2025)
EllapsedTime: 46.6 seconds
RetCode: 0
Status:   OK  
CheckDir: cellmigRation.Rcheck
Warnings: 0

Command output

##############################################################################
##############################################################################
###
### Running command:
###
###   /Library/Frameworks/R.framework/Resources/bin/R CMD check --install=check:cellmigRation.install-out.txt --library=/Library/Frameworks/R.framework/Resources/library --no-vignettes --timings cellmigRation_1.15.0.tar.gz
###
##############################################################################
##############################################################################


* using log directory ‘/Users/biocbuild/bbs-3.21-bioc/meat/cellmigRation.Rcheck’
* using R Under development (unstable) (2025-01-20 r87609)
* using platform: aarch64-apple-darwin20
* R was compiled by
    Apple clang version 14.0.0 (clang-1400.0.29.202)
    GNU Fortran (GCC) 14.2.0
* running under: macOS Ventura 13.7.1
* using session charset: UTF-8
* using option ‘--no-vignettes’
* checking for file ‘cellmigRation/DESCRIPTION’ ... OK
* checking extension type ... Package
* this is package ‘cellmigRation’ version ‘1.15.0’
* package encoding: UTF-8
* checking package namespace information ... OK
* checking package dependencies ... OK
* checking if this is a source package ... OK
* checking if there is a namespace ... OK
* checking for hidden files and directories ... OK
* checking for portable file names ... OK
* checking for sufficient/correct file permissions ... OK
* checking whether package ‘cellmigRation’ can be installed ... OK
* checking installed package size ... OK
* checking package directory ... OK
* checking ‘build’ directory ... OK
* checking DESCRIPTION meta-information ... OK
* checking top-level files ... OK
* checking for left-over files ... OK
* checking index information ... OK
* checking package subdirectories ... OK
* checking code files for non-ASCII characters ... OK
* checking R files for syntax errors ... OK
* checking whether the package can be loaded ... OK
* checking whether the package can be loaded with stated dependencies ... OK
* checking whether the package can be unloaded cleanly ... OK
* checking whether the namespace can be loaded with stated dependencies ... OK
* checking whether the namespace can be unloaded cleanly ... OK
* checking dependencies in R code ... OK
* checking S3 generic/method consistency ... OK
* checking replacement functions ... OK
* checking foreign function calls ... OK
* checking R code for possible problems ... OK
* checking Rd files ... OK
* checking Rd metadata ... OK
* checking Rd cross-references ... OK
* checking for missing documentation entries ... OK
* checking for code/documentation mismatches ... OK
* checking Rd \usage sections ... NOTE
Documented arguments not in \usage in Rd file 'fixDA.Rd':
  ‘object’

Documented arguments not in \usage in Rd file 'fixFM1.Rd':
  ‘object’

Documented arguments not in \usage in Rd file 'fixFM2.Rd':
  ‘object’

Documented arguments not in \usage in Rd file 'fixFM3.Rd':
  ‘object’

Documented arguments not in \usage in Rd file 'fixFM4.Rd':
  ‘object’

Documented arguments not in \usage in Rd file 'fixFM5.Rd':
  ‘object’

Documented arguments not in \usage in Rd file 'fixFM6.Rd':
  ‘object’

Documented arguments not in \usage in Rd file 'fixID2.Rd':
  ‘TimeInterval’

Documented arguments not in \usage in Rd file 'fixID3.Rd':
  ‘TimeInterval’

Documented arguments not in \usage in Rd file 'fixID4.Rd':
  ‘TimeInterval’

Documented arguments not in \usage in Rd file 'fixMSD.Rd':
  ‘object’

Documented arguments not in \usage in Rd file 'fixPER1.Rd':
  ‘x’

Documented arguments not in \usage in Rd file 'fixPER2.Rd':
  ‘x’

Documented arguments not in \usage in Rd file 'innerBondRaster.Rd':
  ‘i’

Functions with \usage entries need to have the appropriate \alias
entries, and all their arguments documented.
The \usage entries must correspond to syntactically valid R code.
See chapter ‘Writing R documentation files’ in the ‘Writing R
Extensions’ manual.
* checking Rd contents ... OK
* checking for unstated dependencies in examples ... OK
* checking contents of ‘data’ directory ... OK
* checking data for non-ASCII characters ... OK
* checking data for ASCII and uncompressed saves ... OK
* checking files in ‘vignettes’ ... OK
* checking examples ... OK
* checking for unstated dependencies in ‘tests’ ... OK
* checking tests ...
  Running ‘runTests.R’
 OK
* checking for unstated dependencies in vignettes ... OK
* checking package vignettes ... OK
* checking running R code from vignettes ... SKIPPED
* checking re-building of vignette outputs ... SKIPPED
* checking PDF version of manual ... OK
* DONE

Status: 1 NOTE
See
  ‘/Users/biocbuild/bbs-3.21-bioc/meat/cellmigRation.Rcheck/00check.log’
for details.


Installation output

cellmigRation.Rcheck/00install.out

##############################################################################
##############################################################################
###
### Running command:
###
###   /Library/Frameworks/R.framework/Resources/bin/R CMD INSTALL cellmigRation
###
##############################################################################
##############################################################################


* installing to library ‘/Library/Frameworks/R.framework/Versions/4.5-arm64/Resources/library’
* installing *source* package ‘cellmigRation’ ...
** this is package ‘cellmigRation’ version ‘1.15.0’
** using staged installation
** R
** data
** inst
** byte-compile and prepare package for lazy loading
** help
*** installing help indices
** building package indices
** installing vignettes
** testing if installed package can be loaded from temporary location
** testing if installed package can be loaded from final location
** testing if installed package keeps a record of temporary installation path
* DONE (cellmigRation)

Tests output

cellmigRation.Rcheck/tests/runTests.Rout


R Under development (unstable) (2025-01-20 r87609) -- "Unsuffered Consequences"
Copyright (C) 2025 The R Foundation for Statistical Computing
Platform: aarch64-apple-darwin20

R is free software and comes with ABSOLUTELY NO WARRANTY.
You are welcome to redistribute it under certain conditions.
Type 'license()' or 'licence()' for distribution details.

R is a collaborative project with many contributors.
Type 'contributors()' for more information and
'citation()' on how to cite R or R packages in publications.

Type 'demo()' for some demos, 'help()' for on-line help, or
'help.start()' for an HTML browser interface to help.
Type 'q()' to quit R.

> BiocGenerics:::testPackage("cellmigRation")


RUNIT TEST PROTOCOL -- Mon Feb 10 18:27:43 2025 
*********************************************** 
Number of test functions: 7 
Number of errors: 0 
Number of failures: 0 

 
1 Test Suite : 
cellmigRation RUnit Tests - 7 test functions, 0 errors, 0 failures
Number of test functions: 7 
Number of errors: 0 
Number of failures: 0 
> 
> proc.time()
   user  system elapsed 
  1.075   0.121   1.222 

Example timings

cellmigRation.Rcheck/cellmigRation-Ex.timings

nameusersystemelapsed
AddDimension0.0000.0000.001
CellMig-class0.0130.0020.015
CellMigPCA0.4640.0100.478
CellMigPCAclust0.0040.0010.004
CellMigPCAclustALL0.3080.0150.355
CellTracker0.0070.0010.009
CellTrackerMainLoop0.0020.0030.006
CentroidArray0.0080.0010.008
CentroidValidation0.1540.0070.164
ComputeTracksStats0.0100.0010.011
DetectRadii0.0010.0000.001
DiAutoCor0.4160.0080.434
DiRatio0.0060.0010.007
DiRatioPlot0.0120.0040.016
EstimateDiameterRange0.0060.0010.006
FMI0.1490.0020.152
FianlizeOptiParams0.0000.0000.001
FilterTrackedCells0.0010.0000.001
FinRes0.2050.0050.226
ForwardMigration0.2970.0040.316
GenAllCombos0.0010.0000.002
LinearConv20.0060.0010.007
LoadTiff0.0010.0000.000
MSD0.4460.0080.486
MakeHypercube0.0000.0010.001
MigrationStats0.0010.0000.000
NextOdd000
NonParallel4OptimizeParams000
NonParallelTrackLoop000
OptimizeParams0.0060.0010.008
OptimizeParamsMainLoop0.0020.0040.005
Parallel4OptimizeParams0.0000.0000.001
ParallelTrackLoop000
PerAndSpeed0.0900.0090.112
PlotTracksSeparately0.0040.0010.005
PostProcessTracking000
Prep4OptimizeParams0.0440.0110.059
ThreeConditions0.0050.0020.006
TrackCellsDataset0.0060.0010.009
TrajectoryDataset0.0110.0010.012
ValidateTrackingArgs0.0010.0000.000
VeAutoCor0.3390.0140.360
VisualizeCntr0.0010.0010.001
VisualizeImg0.0010.0000.002
VisualizeStackCentroids0.0200.0020.023
WSADataset0.0030.0000.004
aggregateFR0.2010.0040.204
aggregateTrackedCells0.0080.0020.010
bpass0.0270.0010.028
circshift0.0000.0000.001
cntrd0.2320.0100.244
fixDA000
fixExpName000
fixFM1000
fixFM20.0000.0010.000
fixFM3000
fixFM4000
fixFM5000
fixFM6000
fixID1000
fixMSD0.0000.0000.001
fixPER10.0000.0010.000
fixPER2000
fixPER30.0000.0000.001
getAvailableAggrMetrics0.2950.0030.298
getCellImages0.0800.2730.357
getCellMigSlot0.1240.1640.288
getCellTrackMeta0.0060.0010.007
getCellTrackStats0.0070.0010.008
getCellTracks0.0070.0010.007
getCellsMeta0.0070.0000.007
getCellsStats0.0140.0010.015
getDACtable0.6140.0080.623
getDiRatio0.0070.0010.008
getFMItable0.1470.0020.152
getForMigtable0.2950.0030.303
getImageCentroids0.0090.0010.009
getImageStacks0.0200.0030.023
getMSDtable1.0650.0161.114
getOptimizedParameters0.0070.0010.008
getOptimizedParams0.0070.0010.008
getPerAndSpeed0.0880.0100.101
getPopulationStats0.0070.0010.009
getProcessedImages0.0770.2950.373
getProcessingStatus0.0070.0010.008
getResults0.2040.0070.211
getTracks0.0070.0010.008
getVACtable0.3280.0050.333
initializeTrackParams000
innerBondRaster0.0000.0000.001
internalPermutation000
matfix000
nontrivialBondTracking0.0010.0000.001
pkfnd0.2280.0070.247
plot3DAllTracks000
plot3DTracks000
plotAllTracks0.0070.0010.009
plotSampleTracks0.0060.0010.007
preProcCellMig0.0030.0010.003
rmPreProcessing0.0300.0010.031
runTrackingPermutation0.0010.0000.001
setAnalyticParams0.0070.0010.008
setCellMigSlot0.0110.0010.012
setCellTracks0.0060.0010.007
setCellsMeta0.0060.0010.009
setExpName0.0110.0010.012
setOptimizedParams0.0070.0010.016
setProcessedImages0.0070.0010.008
setProcessingStatus0.0060.0010.007
setTrackedCellsMeta0.0070.0010.010
setTrackedCentroids0.0070.0010.008
setTrackedPositions0.0060.0000.008
setTrackingStats0.0060.0000.007
sinkAway000
subNetworkTracking0.0000.0000.001
track0.0140.0070.021
trackHypercubeBuild0.0000.0000.001
trackSlideProcessing000
trackSlideWrapUp0.0000.0010.000
trivialBondRaster0.0010.0000.000
trivialBondTracking0.0000.0000.001
visualizeCellTracks0.0210.0030.028
visualizeTrcks0.0150.0010.018
warnMessage000
wsaPreProcessing0.0170.0000.018