Back to Multiple platform build/check report for BioC 3.21:   simplified   long
ABCDEFGHIJKLMNOPQR[S]TUVWXYZ

This page was generated on 2025-02-15 11:43 -0500 (Sat, 15 Feb 2025).

HostnameOSArch (*)R versionInstalled pkgs
nebbiolo1Linux (Ubuntu 24.04.1 LTS)x86_64R Under development (unstable) (2025-01-20 r87609) -- "Unsuffered Consequences" 4720
palomino7Windows Server 2022 Datacenterx64R Under development (unstable) (2025-01-21 r87610 ucrt) -- "Unsuffered Consequences" 4482
lconwaymacOS 12.7.1 Montereyx86_64R Under development (unstable) (2025-01-22 r87618) -- "Unsuffered Consequences" 4493
kjohnson3macOS 13.7.1 Venturaarm64R Under development (unstable) (2025-01-20 r87609) -- "Unsuffered Consequences" 4446
Click on any hostname to see more info about the system (e.g. compilers)      (*) as reported by 'uname -p', except on Windows and Mac OS X

Package 2024/2295HostnameOS / ArchINSTALLBUILDCHECKBUILD BIN
SpatialOmicsOverlay 1.7.0  (landing page)
Maddy Griswold
Snapshot Date: 2025-02-14 13:40 -0500 (Fri, 14 Feb 2025)
git_url: https://git.bioconductor.org/packages/SpatialOmicsOverlay
git_branch: devel
git_last_commit: 7476c4f
git_last_commit_date: 2024-10-29 11:19:48 -0500 (Tue, 29 Oct 2024)
nebbiolo1Linux (Ubuntu 24.04.1 LTS) / x86_64  OK    OK    OK  UNNEEDED, same version is already published
palomino7Windows Server 2022 Datacenter / x64  OK    OK    OK    OK  UNNEEDED, same version is already published
lconwaymacOS 12.7.1 Monterey / x86_64  OK    OK    OK    OK  UNNEEDED, same version is already published
kjohnson3macOS 13.7.1 Ventura / arm64  OK    OK    OK    OK  UNNEEDED, same version is already published


CHECK results for SpatialOmicsOverlay on lconway

To the developers/maintainers of the SpatialOmicsOverlay package:
- Allow up to 24 hours (and sometimes 48 hours) for your latest push to git@git.bioconductor.org:packages/SpatialOmicsOverlay.git to reflect on this report. See Troubleshooting Build Report for more information.
- Use the following Renviron settings to reproduce errors and warnings.
- If 'R CMD check' started to fail recently on the Linux builder(s) over a missing dependency, add the missing dependency to 'Suggests:' in your DESCRIPTION file. See Renviron.bioc for more information.

raw results


Summary

Package: SpatialOmicsOverlay
Version: 1.7.0
Command: /Library/Frameworks/R.framework/Resources/bin/R CMD check --install=check:SpatialOmicsOverlay.install-out.txt --library=/Library/Frameworks/R.framework/Resources/library --no-vignettes --timings SpatialOmicsOverlay_1.7.0.tar.gz
StartedAt: 2025-02-14 23:20:56 -0500 (Fri, 14 Feb 2025)
EndedAt: 2025-02-14 23:29:06 -0500 (Fri, 14 Feb 2025)
EllapsedTime: 490.4 seconds
RetCode: 0
Status:   OK  
CheckDir: SpatialOmicsOverlay.Rcheck
Warnings: 0

Command output

##############################################################################
##############################################################################
###
### Running command:
###
###   /Library/Frameworks/R.framework/Resources/bin/R CMD check --install=check:SpatialOmicsOverlay.install-out.txt --library=/Library/Frameworks/R.framework/Resources/library --no-vignettes --timings SpatialOmicsOverlay_1.7.0.tar.gz
###
##############################################################################
##############################################################################


* using log directory ‘/Users/biocbuild/bbs-3.21-bioc/meat/SpatialOmicsOverlay.Rcheck’
* using R Under development (unstable) (2025-01-22 r87618)
* using platform: x86_64-apple-darwin20
* R was compiled by
    Apple clang version 14.0.0 (clang-1400.0.29.202)
    GNU Fortran (GCC) 14.2.0
* running under: macOS Monterey 12.7.6
* using session charset: UTF-8
* using option ‘--no-vignettes’
* checking for file ‘SpatialOmicsOverlay/DESCRIPTION’ ... OK
* this is package ‘SpatialOmicsOverlay’ version ‘1.7.0’
* package encoding: UTF-8
* checking package namespace information ... OK
* checking package dependencies ... OK
* checking if this is a source package ... OK
* checking if there is a namespace ... OK
* checking for hidden files and directories ... OK
* checking for portable file names ... OK
* checking for sufficient/correct file permissions ... OK
* checking whether package ‘SpatialOmicsOverlay’ can be installed ... OK
* checking installed package size ... OK
* checking package directory ... OK
* checking ‘build’ directory ... OK
* checking DESCRIPTION meta-information ... NOTE
License components which are templates and need '+ file LICENSE':
  MIT
* checking top-level files ... NOTE
File
  LICENSE
is not mentioned in the DESCRIPTION file.
* checking for left-over files ... OK
* checking index information ... OK
* checking package subdirectories ... OK
* checking code files for non-ASCII characters ... OK
* checking R files for syntax errors ... OK
* checking whether the package can be loaded ... OK
* checking whether the package can be loaded with stated dependencies ... OK
* checking whether the package can be unloaded cleanly ... OK
* checking whether the namespace can be loaded with stated dependencies ... OK
* checking whether the namespace can be unloaded cleanly ... OK
* checking dependencies in R code ... OK
* checking S3 generic/method consistency ... OK
* checking replacement functions ... OK
* checking foreign function calls ... OK
* checking R code for possible problems ... NOTE
plotSpatialOverlay: no visible binding for global variable ‘xcoor’
plotSpatialOverlay: no visible binding for global variable ‘ycoor’
plotSpatialOverlay: no visible binding for global variable ‘sampleID’
plotSpatialOverlay: no visible binding for global variable ‘Target’
scaleBarPrinting: no visible binding for global variable ‘X’
scaleBarPrinting: no visible binding for global variable ‘Y’
Undefined global functions or variables:
  Target X Y sampleID xcoor ycoor
* checking Rd files ... OK
* checking Rd metadata ... OK
* checking Rd cross-references ... OK
* checking for missing documentation entries ... OK
* checking for code/documentation mismatches ... OK
* checking Rd \usage sections ... OK
* checking Rd contents ... OK
* checking for unstated dependencies in examples ... OK
* checking files in ‘vignettes’ ... OK
* checking examples ... OK
Examples with CPU (user + system) or elapsed time > 5s
                          user system elapsed
add4ChannelImage        16.177  1.367  13.108
readSpatialOverlay      11.958  0.919  12.204
addImageOmeTiff         11.507  1.076  11.031
cropSamples             10.848  1.176  11.024
changeImageColoring     10.809  1.106  10.381
changeColoringIntensity 10.979  0.927  10.143
cropTissue              10.330  0.950  10.514
recolor                 10.125  0.848   9.374
flipX                    9.502  1.033   9.824
flipY                    9.397  0.784   9.325
createMask               7.821  0.410   8.286
* checking for unstated dependencies in ‘tests’ ... OK
* checking tests ...
  Running ‘testthat.R’
 OK
* checking for unstated dependencies in vignettes ... OK
* checking package vignettes ... OK
* checking running R code from vignettes ... SKIPPED
* checking re-building of vignette outputs ... SKIPPED
* checking PDF version of manual ... OK
* DONE

Status: 3 NOTEs
See
  ‘/Users/biocbuild/bbs-3.21-bioc/meat/SpatialOmicsOverlay.Rcheck/00check.log’
for details.


Installation output

SpatialOmicsOverlay.Rcheck/00install.out

##############################################################################
##############################################################################
###
### Running command:
###
###   /Library/Frameworks/R.framework/Resources/bin/R CMD INSTALL SpatialOmicsOverlay
###
##############################################################################
##############################################################################


* installing to library ‘/Library/Frameworks/R.framework/Versions/4.5-x86_64/Resources/library’
* installing *source* package ‘SpatialOmicsOverlay’ ...
** this is package ‘SpatialOmicsOverlay’ version ‘1.7.0’
** using staged installation
** R
** inst
** byte-compile and prepare package for lazy loading
** help
*** installing help indices
** building package indices
** installing vignettes
** testing if installed package can be loaded from temporary location
** testing if installed package can be loaded from final location
** testing if installed package keeps a record of temporary installation path
* DONE (SpatialOmicsOverlay)

Tests output

SpatialOmicsOverlay.Rcheck/tests/testthat.Rout


R Under development (unstable) (2025-01-22 r87618) -- "Unsuffered Consequences"
Copyright (C) 2025 The R Foundation for Statistical Computing
Platform: x86_64-apple-darwin20

R is free software and comes with ABSOLUTELY NO WARRANTY.
You are welcome to redistribute it under certain conditions.
Type 'license()' or 'licence()' for distribution details.

R is a collaborative project with many contributors.
Type 'contributors()' for more information and
'citation()' on how to cite R or R packages in publications.

Type 'demo()' for some demos, 'help()' for on-line help, or
'help.start()' for an HTML browser interface to help.
Type 'q()' to quit R.

> library(testthat)
> library(vdiffr)
> 
> options( java.parameters = "-Xmx4g" )
> library( "RBioFormats" )
BioFormats library version 7.3.0
> 
> library(SpatialOmicsOverlay)
> 
> # #run tests
> test_check("SpatialOmicsOverlay")
Loading required package: Biobase
Loading required package: BiocGenerics
Loading required package: generics

Attaching package: 'generics'

The following objects are masked from 'package:base':

    as.difftime, as.factor, as.ordered, intersect, is.element, setdiff,
    setequal, union


Attaching package: 'BiocGenerics'

The following objects are masked from 'package:stats':

    IQR, mad, sd, var, xtabs

The following objects are masked from 'package:base':

    Filter, Find, Map, Position, Reduce, anyDuplicated, aperm, append,
    as.data.frame, basename, cbind, colnames, dirname, do.call,
    duplicated, eval, evalq, get, grep, grepl, is.unsorted, lapply,
    mapply, match, mget, order, paste, pmax, pmax.int, pmin, pmin.int,
    rank, rbind, rownames, sapply, saveRDS, table, tapply, unique,
    unsplit, which.max, which.min

Welcome to Bioconductor

    Vignettes contain introductory material; view with
    'browseVignettes()'. To cite Bioconductor, see
    'citation("Biobase")', and for packages 'citation("pkgname")'.

Loading required package: NanoStringNCTools
Loading required package: S4Vectors
Loading required package: stats4

Attaching package: 'S4Vectors'

The following object is masked from 'package:utils':

    findMatches

The following objects are masked from 'package:base':

    I, expand.grid, unname

Loading required package: ggplot2
Extracting XML
Parsing XML - scan metadata
Parsing XML - overlay data
Generating Coordinates
Extracting XML
Parsing XML - scan metadata
Parsing XML - overlay data
Generating Coordinates
Calculating and scaling coordinates
Calculating and scaling coordinates
[ FAIL 0 | WARN 3 | SKIP 0 | PASS 422 ]

[ FAIL 0 | WARN 3 | SKIP 0 | PASS 422 ]
> 
> 
> 
> proc.time()
   user  system elapsed 
151.059  12.277 154.046 

Example timings

SpatialOmicsOverlay.Rcheck/SpatialOmicsOverlay-Ex.timings

nameusersystemelapsed
add4ChannelImage16.177 1.36713.108
addImageOmeTiff11.507 1.07611.031
addPlottingFactor0.4610.0160.481
bookendStr0.0010.0000.002
changeColoringIntensity10.979 0.92710.143
changeImageColoring10.809 1.10610.381
checkValidRes2.3020.3632.156
createCoordFile3.0420.0823.144
createMask7.8210.4108.286
cropSamples10.848 1.17611.024
cropTissue10.330 0.95010.514
downloadMouseBrainImage0.1830.0200.203
flipX9.5021.0339.824
flipY9.3970.7849.325
fluorLegend2.2830.2512.547
moveCoords0.1810.0060.189
parseOverlayAttrs2.8560.4322.878
parseScanMetadata2.7800.3402.675
plotSpatialOverlay1.1480.1581.311
readLabWorksheet0.0030.0010.003
readSpatialOverlay11.958 0.91912.204
recolor10.125 0.848 9.374
removeSample0.2380.0060.245
xmlExtraction2.5410.2292.515