| Back to Multiple platform build/check report for BioC 3.21: simplified long | 
 | 
This page was generated on 2025-04-22 13:18 -0400 (Tue, 22 Apr 2025).
| Hostname | OS | Arch (*) | R version | Installed pkgs | 
|---|---|---|---|---|
| nebbiolo1 | Linux (Ubuntu 24.04.1 LTS) | x86_64 | 4.5.0 RC (2025-04-04 r88126) -- "How About a Twenty-Six" | 4831 | 
| palomino7 | Windows Server 2022 Datacenter | x64 | 4.5.0 RC (2025-04-04 r88126 ucrt) -- "How About a Twenty-Six" | 4573 | 
| lconway | macOS 12.7.1 Monterey | x86_64 | 4.5.0 RC (2025-04-04 r88126) -- "How About a Twenty-Six" | 4599 | 
| kjohnson3 | macOS 13.7.1 Ventura | arm64 | 4.5.0 RC (2025-04-04 r88126) -- "How About a Twenty-Six" | 4553 | 
| kunpeng2 | Linux (openEuler 24.03 LTS) | aarch64 | R Under development (unstable) (2025-02-19 r87757) -- "Unsuffered Consequences" | 4570 | 
| Click on any hostname to see more info about the system (e.g. compilers) (*) as reported by 'uname -p', except on Windows and Mac OS X | ||||
| Package 2063/2341 | Hostname | OS / Arch | INSTALL | BUILD | CHECK | BUILD BIN | ||||||||
| SpatialOmicsOverlay 1.8.0  (landing page) Maddy Griswold 
 | nebbiolo1 | Linux (Ubuntu 24.04.1 LTS) / x86_64 | OK | OK | OK |  | ||||||||
| palomino7 | Windows Server 2022 Datacenter / x64 | OK | OK | OK | OK |  | ||||||||
| lconway | macOS 12.7.1 Monterey / x86_64 | OK | OK | OK | OK |  | ||||||||
| kjohnson3 | macOS 13.7.1 Ventura / arm64 | OK | OK | OK | OK |  | ||||||||
| kunpeng2 | Linux (openEuler 24.03 LTS) / aarch64 | OK | TIMEOUT | skipped | ||||||||||
| To the developers/maintainers of the SpatialOmicsOverlay package: - Allow up to 24 hours (and sometimes 48 hours) for your latest push to git@git.bioconductor.org:packages/SpatialOmicsOverlay.git to reflect on this report. See Troubleshooting Build Report for more information. - Use the following Renviron settings to reproduce errors and warnings. - If 'R CMD check' started to fail recently on the Linux builder(s) over a missing dependency, add the missing dependency to 'Suggests:' in your DESCRIPTION file. See Renviron.bioc for more information. | 
| Package: SpatialOmicsOverlay | 
| Version: 1.8.0 | 
| Command: /Library/Frameworks/R.framework/Resources/bin/R CMD check --install=check:SpatialOmicsOverlay.install-out.txt --library=/Library/Frameworks/R.framework/Resources/library --no-vignettes --timings SpatialOmicsOverlay_1.8.0.tar.gz | 
| StartedAt: 2025-04-21 21:51:12 -0400 (Mon, 21 Apr 2025) | 
| EndedAt: 2025-04-21 21:54:13 -0400 (Mon, 21 Apr 2025) | 
| EllapsedTime: 181.1 seconds | 
| RetCode: 0 | 
| Status: OK | 
| CheckDir: SpatialOmicsOverlay.Rcheck | 
| Warnings: 0 | 
##############################################################################
##############################################################################
###
### Running command:
###
###   /Library/Frameworks/R.framework/Resources/bin/R CMD check --install=check:SpatialOmicsOverlay.install-out.txt --library=/Library/Frameworks/R.framework/Resources/library --no-vignettes --timings SpatialOmicsOverlay_1.8.0.tar.gz
###
##############################################################################
##############################################################################
* using log directory ‘/Users/biocbuild/bbs-3.21-bioc/meat/SpatialOmicsOverlay.Rcheck’
* using R version 4.5.0 RC (2025-04-04 r88126)
* using platform: aarch64-apple-darwin20
* R was compiled by
    Apple clang version 14.0.0 (clang-1400.0.29.202)
    GNU Fortran (GCC) 14.2.0
* running under: macOS Ventura 13.7.1
* using session charset: UTF-8
* using option ‘--no-vignettes’
* checking for file ‘SpatialOmicsOverlay/DESCRIPTION’ ... OK
* this is package ‘SpatialOmicsOverlay’ version ‘1.8.0’
* package encoding: UTF-8
* checking package namespace information ... OK
* checking package dependencies ... OK
* checking if this is a source package ... OK
* checking if there is a namespace ... OK
* checking for hidden files and directories ... OK
* checking for portable file names ... OK
* checking for sufficient/correct file permissions ... OK
* checking whether package ‘SpatialOmicsOverlay’ can be installed ... OK
* checking installed package size ... OK
* checking package directory ... OK
* checking ‘build’ directory ... OK
* checking DESCRIPTION meta-information ... NOTE
License components which are templates and need '+ file LICENSE':
  MIT
* checking top-level files ... NOTE
File
  LICENSE
is not mentioned in the DESCRIPTION file.
* checking for left-over files ... OK
* checking index information ... OK
* checking package subdirectories ... OK
* checking code files for non-ASCII characters ... OK
* checking R files for syntax errors ... OK
* checking whether the package can be loaded ... OK
* checking whether the package can be loaded with stated dependencies ... OK
* checking whether the package can be unloaded cleanly ... OK
* checking whether the namespace can be loaded with stated dependencies ... OK
* checking whether the namespace can be unloaded cleanly ... OK
* checking dependencies in R code ... OK
* checking S3 generic/method consistency ... OK
* checking replacement functions ... OK
* checking foreign function calls ... OK
* checking R code for possible problems ... NOTE
plotSpatialOverlay: no visible binding for global variable ‘xcoor’
plotSpatialOverlay: no visible binding for global variable ‘ycoor’
plotSpatialOverlay: no visible binding for global variable ‘sampleID’
plotSpatialOverlay: no visible binding for global variable ‘Target’
scaleBarPrinting: no visible binding for global variable ‘X’
scaleBarPrinting: no visible binding for global variable ‘Y’
Undefined global functions or variables:
  Target X Y sampleID xcoor ycoor
* checking Rd files ... OK
* checking Rd metadata ... OK
* checking Rd cross-references ... OK
* checking for missing documentation entries ... OK
* checking for code/documentation mismatches ... OK
* checking Rd \usage sections ... OK
* checking Rd contents ... OK
* checking for unstated dependencies in examples ... OK
* checking files in ‘vignettes’ ... OK
* checking examples ... OK
Examples with CPU (user + system) or elapsed time > 5s
                         user system elapsed
add4ChannelImage        7.127  0.585   5.409
cropSamples             4.877  0.500   4.808
addImageOmeTiff         4.793  0.378   4.425
readSpatialOverlay      4.788  0.371   4.855
changeColoringIntensity 4.573  0.478   4.214
* checking for unstated dependencies in ‘tests’ ... OK
* checking tests ...
  Running ‘testthat.R’
 OK
* checking for unstated dependencies in vignettes ... OK
* checking package vignettes ... OK
* checking running R code from vignettes ... SKIPPED
* checking re-building of vignette outputs ... SKIPPED
* checking PDF version of manual ... OK
* DONE
Status: 3 NOTEs
See
  ‘/Users/biocbuild/bbs-3.21-bioc/meat/SpatialOmicsOverlay.Rcheck/00check.log’
for details.
SpatialOmicsOverlay.Rcheck/00install.out
############################################################################## ############################################################################## ### ### Running command: ### ### /Library/Frameworks/R.framework/Resources/bin/R CMD INSTALL SpatialOmicsOverlay ### ############################################################################## ############################################################################## * installing to library ‘/Library/Frameworks/R.framework/Versions/4.5-arm64/Resources/library’ * installing *source* package ‘SpatialOmicsOverlay’ ... ** this is package ‘SpatialOmicsOverlay’ version ‘1.8.0’ ** using staged installation ** R ** inst ** byte-compile and prepare package for lazy loading ** help *** installing help indices ** building package indices ** installing vignettes ** testing if installed package can be loaded from temporary location ** testing if installed package can be loaded from final location ** testing if installed package keeps a record of temporary installation path * DONE (SpatialOmicsOverlay)
SpatialOmicsOverlay.Rcheck/tests/testthat.Rout
R version 4.5.0 RC (2025-04-04 r88126) -- "How About a Twenty-Six"
Copyright (C) 2025 The R Foundation for Statistical Computing
Platform: aarch64-apple-darwin20
R is free software and comes with ABSOLUTELY NO WARRANTY.
You are welcome to redistribute it under certain conditions.
Type 'license()' or 'licence()' for distribution details.
R is a collaborative project with many contributors.
Type 'contributors()' for more information and
'citation()' on how to cite R or R packages in publications.
Type 'demo()' for some demos, 'help()' for on-line help, or
'help.start()' for an HTML browser interface to help.
Type 'q()' to quit R.
> library(testthat)
> library(vdiffr)
> 
> options( java.parameters = "-Xmx4g" )
> library( "RBioFormats" )
BioFormats library version 7.3.0
> 
> library(SpatialOmicsOverlay)
> 
> # #run tests
> test_check("SpatialOmicsOverlay")
Loading required package: Biobase
Loading required package: BiocGenerics
Loading required package: generics
Attaching package: 'generics'
The following objects are masked from 'package:base':
    as.difftime, as.factor, as.ordered, intersect, is.element, setdiff,
    setequal, union
Attaching package: 'BiocGenerics'
The following objects are masked from 'package:stats':
    IQR, mad, sd, var, xtabs
The following objects are masked from 'package:base':
    Filter, Find, Map, Position, Reduce, anyDuplicated, aperm, append,
    as.data.frame, basename, cbind, colnames, dirname, do.call,
    duplicated, eval, evalq, get, grep, grepl, is.unsorted, lapply,
    mapply, match, mget, order, paste, pmax, pmax.int, pmin, pmin.int,
    rank, rbind, rownames, sapply, saveRDS, table, tapply, unique,
    unsplit, which.max, which.min
Welcome to Bioconductor
    Vignettes contain introductory material; view with
    'browseVignettes()'. To cite Bioconductor, see
    'citation("Biobase")', and for packages 'citation("pkgname")'.
Loading required package: NanoStringNCTools
Loading required package: S4Vectors
Loading required package: stats4
Attaching package: 'S4Vectors'
The following object is masked from 'package:utils':
    findMatches
The following objects are masked from 'package:base':
    I, expand.grid, unname
Loading required package: ggplot2
Extracting XML
Parsing XML - scan metadata
Parsing XML - overlay data
Generating Coordinates
Extracting XML
Parsing XML - scan metadata
Parsing XML - overlay data
Generating Coordinates
Calculating and scaling coordinates
Calculating and scaling coordinates
[ FAIL 0 | WARN 3 | SKIP 0 | PASS 422 ]
[ FAIL 0 | WARN 3 | SKIP 0 | PASS 422 ]
> 
> 
> 
> proc.time()
   user  system elapsed 
 52.765   4.789  53.695 
SpatialOmicsOverlay.Rcheck/SpatialOmicsOverlay-Ex.timings
| name | user | system | elapsed | |
| add4ChannelImage | 7.127 | 0.585 | 5.409 | |
| addImageOmeTiff | 4.793 | 0.378 | 4.425 | |
| addPlottingFactor | 0.184 | 0.006 | 0.192 | |
| bookendStr | 0.000 | 0.001 | 0.001 | |
| changeColoringIntensity | 4.573 | 0.478 | 4.214 | |
| changeImageColoring | 4.298 | 0.370 | 4.079 | |
| checkValidRes | 1.020 | 0.124 | 0.938 | |
| createCoordFile | 1.285 | 0.047 | 1.340 | |
| createMask | 2.925 | 0.124 | 3.062 | |
| cropSamples | 4.877 | 0.500 | 4.808 | |
| cropTissue | 3.944 | 0.323 | 3.853 | |
| downloadMouseBrainImage | 0.049 | 0.004 | 0.053 | |
| flipX | 3.914 | 0.361 | 3.820 | |
| flipY | 3.842 | 0.407 | 3.818 | |
| fluorLegend | 0.613 | 0.072 | 0.688 | |
| moveCoords | 0.082 | 0.006 | 0.088 | |
| parseOverlayAttrs | 1.170 | 0.107 | 1.108 | |
| parseScanMetadata | 1.270 | 0.139 | 1.113 | |
| plotSpatialOverlay | 0.766 | 0.092 | 0.860 | |
| readLabWorksheet | 0.001 | 0.000 | 0.001 | |
| readSpatialOverlay | 4.788 | 0.371 | 4.855 | |
| recolor | 3.900 | 0.398 | 3.789 | |
| removeSample | 0.090 | 0.004 | 0.094 | |
| xmlExtraction | 1.097 | 0.093 | 1.061 | |