Back to Multiple platform build/check report for BioC 3.21:   simplified   long
ABCDEFGHIJKLMNOPQR[S]TUVWXYZ

This page was generated on 2025-10-09 11:39 -0400 (Thu, 09 Oct 2025).

HostnameOSArch (*)R versionInstalled pkgs
nebbiolo1Linux (Ubuntu 24.04.3 LTS)x86_644.5.1 (2025-06-13) -- "Great Square Root" 4832
merida1macOS 12.7.5 Montereyx86_644.5.1 RC (2025-06-05 r88288) -- "Great Square Root" 4613
kjohnson1macOS 13.6.6 Venturaarm644.5.1 Patched (2025-06-14 r88325) -- "Great Square Root" 4554
kunpeng2Linux (openEuler 24.03 LTS)aarch64R Under development (unstable) (2025-02-19 r87757) -- "Unsuffered Consequences" 4585
Click on any hostname to see more info about the system (e.g. compilers)      (*) as reported by 'uname -p', except on Windows and Mac OS X

Package 2057/2341HostnameOS / ArchINSTALLBUILDCHECKBUILD BIN
SpatialDecon 1.18.0  (landing page)
Maddy Griswold
Snapshot Date: 2025-10-06 13:40 -0400 (Mon, 06 Oct 2025)
git_url: https://git.bioconductor.org/packages/SpatialDecon
git_branch: RELEASE_3_21
git_last_commit: 8fa5b25
git_last_commit_date: 2025-04-15 12:11:46 -0400 (Tue, 15 Apr 2025)
nebbiolo1Linux (Ubuntu 24.04.3 LTS) / x86_64  OK    OK    OK  UNNEEDED, same version is already published
merida1macOS 12.7.5 Monterey / x86_64  OK    OK    OK    OK  UNNEEDED, same version is already published
kjohnson1macOS 13.6.6 Ventura / arm64  OK    OK    OK    OK  UNNEEDED, same version is already published
kunpeng2Linux (openEuler 24.03 LTS) / aarch64  OK    OK    NA  


CHECK results for SpatialDecon on merida1

To the developers/maintainers of the SpatialDecon package:
- Allow up to 24 hours (and sometimes 48 hours) for your latest push to git@git.bioconductor.org:packages/SpatialDecon.git to reflect on this report. See Troubleshooting Build Report for more information.
- Use the following Renviron settings to reproduce errors and warnings.
- If 'R CMD check' started to fail recently on the Linux builder(s) over a missing dependency, add the missing dependency to 'Suggests:' in your DESCRIPTION file. See Renviron.bioc for more information.

raw results


Summary

Package: SpatialDecon
Version: 1.18.0
Command: /Library/Frameworks/R.framework/Resources/bin/R CMD check --install=check:SpatialDecon.install-out.txt --library=/Library/Frameworks/R.framework/Resources/library --no-vignettes --timings SpatialDecon_1.18.0.tar.gz
StartedAt: 2025-10-07 10:36:40 -0400 (Tue, 07 Oct 2025)
EndedAt: 2025-10-07 11:00:23 -0400 (Tue, 07 Oct 2025)
EllapsedTime: 1422.2 seconds
RetCode: 0
Status:   OK  
CheckDir: SpatialDecon.Rcheck
Warnings: 0

Command output

##############################################################################
##############################################################################
###
### Running command:
###
###   /Library/Frameworks/R.framework/Resources/bin/R CMD check --install=check:SpatialDecon.install-out.txt --library=/Library/Frameworks/R.framework/Resources/library --no-vignettes --timings SpatialDecon_1.18.0.tar.gz
###
##############################################################################
##############################################################################


* using log directory ‘/Users/biocbuild/bbs-3.21-bioc/meat/SpatialDecon.Rcheck’
* using R version 4.5.1 RC (2025-06-05 r88288)
* using platform: x86_64-apple-darwin20
* R was compiled by
    Apple clang version 14.0.0 (clang-1400.0.29.202)
    GNU Fortran (GCC) 14.2.0
* running under: macOS Monterey 12.7.6
* using session charset: UTF-8
* using option ‘--no-vignettes’
* checking for file ‘SpatialDecon/DESCRIPTION’ ... OK
* this is package ‘SpatialDecon’ version ‘1.18.0’
* package encoding: UTF-8
* checking package namespace information ... OK
* checking package dependencies ... OK
* checking if this is a source package ... OK
* checking if there is a namespace ... OK
* checking for hidden files and directories ... OK
* checking for portable file names ... OK
* checking for sufficient/correct file permissions ... OK
* checking whether package ‘SpatialDecon’ can be installed ... OK
* checking installed package size ... OK
* checking package directory ... OK
* checking ‘build’ directory ... OK
* checking DESCRIPTION meta-information ... NOTE
License stub is invalid DCF.
* checking top-level files ... OK
* checking for left-over files ... OK
* checking index information ... OK
* checking package subdirectories ... OK
* checking code files for non-ASCII characters ... OK
* checking R files for syntax errors ... OK
* checking whether the package can be loaded ... OK
* checking whether the package can be loaded with stated dependencies ... OK
* checking whether the package can be unloaded cleanly ... OK
* checking whether the namespace can be loaded with stated dependencies ... OK
* checking whether the namespace can be unloaded cleanly ... OK
* checking dependencies in R code ... OK
* checking S3 generic/method consistency ... OK
* checking replacement functions ... OK
* checking foreign function calls ... OK
* checking R code for possible problems ... NOTE
download_profile_matrix: no visible binding for global variable
  ‘profile_matrix’
Undefined global functions or variables:
  profile_matrix
* checking Rd files ... OK
* checking Rd metadata ... OK
* checking Rd cross-references ... OK
* checking for missing documentation entries ... OK
* checking for code/documentation mismatches ... OK
* checking Rd \usage sections ... OK
* checking Rd contents ... OK
* checking for unstated dependencies in examples ... OK
* checking contents of ‘data’ directory ... OK
* checking data for non-ASCII characters ... OK
* checking LazyData ... OK
* checking data for ASCII and uncompressed saves ... OK
* checking files in ‘vignettes’ ... OK
* checking examples ... OK
Examples with CPU (user + system) or elapsed time > 5s
                           user system elapsed
runCollapseCellTypes    190.495  5.062 203.677
runReverseDecon         188.080  4.889 204.003
runspatialdecon          97.264  1.817 102.958
runErrorModel            36.527  0.238  38.824
runMergeTumorIntoX       36.295  0.191  38.044
reverseDecon             17.371  0.443  18.072
spatialdecon              7.628  0.555   8.522
SpatialDecon-package      7.831  0.273   8.191
download_profile_matrix   0.812  1.801   9.134
* checking for unstated dependencies in ‘tests’ ... OK
* checking tests ...
  Running ‘testthat.R’
 OK
* checking for unstated dependencies in vignettes ... OK
* checking package vignettes ... OK
* checking running R code from vignettes ... SKIPPED
* checking re-building of vignette outputs ... SKIPPED
* checking PDF version of manual ... OK
* DONE

Status: 2 NOTEs
See
  ‘/Users/biocbuild/bbs-3.21-bioc/meat/SpatialDecon.Rcheck/00check.log’
for details.


Installation output

SpatialDecon.Rcheck/00install.out

##############################################################################
##############################################################################
###
### Running command:
###
###   /Library/Frameworks/R.framework/Resources/bin/R CMD INSTALL SpatialDecon
###
##############################################################################
##############################################################################


* installing to library ‘/Library/Frameworks/R.framework/Versions/4.5-x86_64/Resources/library’
* installing *source* package ‘SpatialDecon’ ...
** this is package ‘SpatialDecon’ version ‘1.18.0’
** using staged installation
** R
** data
*** moving datasets to lazyload DB
** byte-compile and prepare package for lazy loading
** help
*** installing help indices
** building package indices
** installing vignettes
** testing if installed package can be loaded from temporary location
** testing if installed package can be loaded from final location
** testing if installed package keeps a record of temporary installation path
* DONE (SpatialDecon)

Tests output

SpatialDecon.Rcheck/tests/testthat.Rout


R version 4.5.1 RC (2025-06-05 r88288) -- "Great Square Root"
Copyright (C) 2025 The R Foundation for Statistical Computing
Platform: x86_64-apple-darwin20

R is free software and comes with ABSOLUTELY NO WARRANTY.
You are welcome to redistribute it under certain conditions.
Type 'license()' or 'licence()' for distribution details.

R is a collaborative project with many contributors.
Type 'contributors()' for more information and
'citation()' on how to cite R or R packages in publications.

Type 'demo()' for some demos, 'help()' for on-line help, or
'help.start()' for an HTML browser interface to help.
Type 'q()' to quit R.

> library(testthat)
> library(SpatialDecon)
> 
> test_check("SpatialDecon")
[1] "Creating Atlas"
[1] "1 / 4 : B"
[1] "2 / 4 : C"
[1] "3 / 4 : A"
[1] "4 / 4 : D"
[ FAIL 0 | WARN 0 | SKIP 0 | PASS 96 ]
> 
> proc.time()
   user  system elapsed 
402.789  12.485 432.944 

Example timings

SpatialDecon.Rcheck/SpatialDecon-Ex.timings

nameusersystemelapsed
SpatialDecon-package7.8310.2738.191
TIL_barplot2.5430.0602.623
collapseCellTypes3.0410.0553.128
create_profile_matrix0.2680.0430.314
derive_GeoMx_background0.0040.0030.007
download_profile_matrix0.8121.8019.134
florets2.5830.0692.760
mergeTumorIntoX0.0200.0050.026
reverseDecon17.371 0.44318.072
runCollapseCellTypes190.495 5.062203.677
runErrorModel36.527 0.23838.824
runMergeTumorIntoX36.295 0.19138.044
runReverseDecon188.080 4.889204.003
runspatialdecon 97.264 1.817102.958
spatialdecon7.6280.5558.522