| Back to Multiple platform build/check report for BioC 3.21: simplified long |
|
This page was generated on 2025-10-16 11:40 -0400 (Thu, 16 Oct 2025).
| Hostname | OS | Arch (*) | R version | Installed pkgs |
|---|---|---|---|---|
| nebbiolo1 | Linux (Ubuntu 24.04.3 LTS) | x86_64 | 4.5.1 (2025-06-13) -- "Great Square Root" | 4833 |
| merida1 | macOS 12.7.6 Monterey | x86_64 | 4.5.1 RC (2025-06-05 r88288) -- "Great Square Root" | 4614 |
| kjohnson1 | macOS 13.7.5 Ventura | arm64 | 4.5.1 Patched (2025-06-14 r88325) -- "Great Square Root" | 4555 |
| kunpeng2 | Linux (openEuler 24.03 LTS) | aarch64 | R Under development (unstable) (2025-02-19 r87757) -- "Unsuffered Consequences" | 4586 |
| Click on any hostname to see more info about the system (e.g. compilers) (*) as reported by 'uname -p', except on Windows and Mac OS X | ||||
| Package 2057/2341 | Hostname | OS / Arch | INSTALL | BUILD | CHECK | BUILD BIN | ||||||||
| SpatialDecon 1.18.0 (landing page) Maddy Griswold
| nebbiolo1 | Linux (Ubuntu 24.04.3 LTS) / x86_64 | OK | OK | OK | |||||||||
| merida1 | macOS 12.7.6 Monterey / x86_64 | OK | OK | OK | OK | |||||||||
| kjohnson1 | macOS 13.7.5 Ventura / arm64 | OK | OK | OK | OK | |||||||||
| kunpeng2 | Linux (openEuler 24.03 LTS) / aarch64 | OK | OK | OK | ||||||||||
|
To the developers/maintainers of the SpatialDecon package: - Allow up to 24 hours (and sometimes 48 hours) for your latest push to git@git.bioconductor.org:packages/SpatialDecon.git to reflect on this report. See Troubleshooting Build Report for more information. - Use the following Renviron settings to reproduce errors and warnings. - If 'R CMD check' started to fail recently on the Linux builder(s) over a missing dependency, add the missing dependency to 'Suggests:' in your DESCRIPTION file. See Renviron.bioc for more information. |
| Package: SpatialDecon |
| Version: 1.18.0 |
| Command: /Library/Frameworks/R.framework/Resources/bin/R CMD check --install=check:SpatialDecon.install-out.txt --library=/Library/Frameworks/R.framework/Resources/library --no-vignettes --timings SpatialDecon_1.18.0.tar.gz |
| StartedAt: 2025-10-15 13:34:38 -0400 (Wed, 15 Oct 2025) |
| EndedAt: 2025-10-15 13:45:31 -0400 (Wed, 15 Oct 2025) |
| EllapsedTime: 653.4 seconds |
| RetCode: 0 |
| Status: OK |
| CheckDir: SpatialDecon.Rcheck |
| Warnings: 0 |
##############################################################################
##############################################################################
###
### Running command:
###
### /Library/Frameworks/R.framework/Resources/bin/R CMD check --install=check:SpatialDecon.install-out.txt --library=/Library/Frameworks/R.framework/Resources/library --no-vignettes --timings SpatialDecon_1.18.0.tar.gz
###
##############################################################################
##############################################################################
* using log directory ‘/Users/biocbuild/bbs-3.21-bioc/meat/SpatialDecon.Rcheck’
* using R version 4.5.1 Patched (2025-06-14 r88325)
* using platform: aarch64-apple-darwin20
* R was compiled by
Apple clang version 16.0.0 (clang-1600.0.26.6)
GNU Fortran (GCC) 14.2.0
* running under: macOS Ventura 13.7.5
* using session charset: UTF-8
* using option ‘--no-vignettes’
* checking for file ‘SpatialDecon/DESCRIPTION’ ... OK
* this is package ‘SpatialDecon’ version ‘1.18.0’
* package encoding: UTF-8
* checking package namespace information ... OK
* checking package dependencies ... OK
* checking if this is a source package ... OK
* checking if there is a namespace ... OK
* checking for hidden files and directories ... OK
* checking for portable file names ... OK
* checking for sufficient/correct file permissions ... OK
* checking whether package ‘SpatialDecon’ can be installed ... OK
* checking installed package size ... OK
* checking package directory ... OK
* checking ‘build’ directory ... OK
* checking DESCRIPTION meta-information ... NOTE
License stub is invalid DCF.
* checking top-level files ... OK
* checking for left-over files ... OK
* checking index information ... OK
* checking package subdirectories ... OK
* checking code files for non-ASCII characters ... OK
* checking R files for syntax errors ... OK
* checking whether the package can be loaded ... OK
* checking whether the package can be loaded with stated dependencies ... OK
* checking whether the package can be unloaded cleanly ... OK
* checking whether the namespace can be loaded with stated dependencies ... OK
* checking whether the namespace can be unloaded cleanly ... OK
* checking dependencies in R code ... OK
* checking S3 generic/method consistency ... OK
* checking replacement functions ... OK
* checking foreign function calls ... OK
* checking R code for possible problems ... NOTE
download_profile_matrix: no visible binding for global variable
‘profile_matrix’
Undefined global functions or variables:
profile_matrix
* checking Rd files ... OK
* checking Rd metadata ... OK
* checking Rd cross-references ... OK
* checking for missing documentation entries ... OK
* checking for code/documentation mismatches ... OK
* checking Rd \usage sections ... OK
* checking Rd contents ... OK
* checking for unstated dependencies in examples ... OK
* checking contents of ‘data’ directory ... OK
* checking data for non-ASCII characters ... OK
* checking LazyData ... OK
* checking data for ASCII and uncompressed saves ... OK
* checking files in ‘vignettes’ ... OK
* checking examples ... OK
Examples with CPU (user + system) or elapsed time > 5s
user system elapsed
runReverseDecon 76.518 4.473 81.883
runCollapseCellTypes 74.751 4.712 80.320
runspatialdecon 57.709 2.943 62.339
runMergeTumorIntoX 15.337 0.220 15.991
runErrorModel 14.493 0.244 15.052
reverseDecon 6.539 0.441 7.039
SpatialDecon-package 5.366 0.125 5.540
spatialdecon 5.099 0.256 5.363
* checking for unstated dependencies in ‘tests’ ... OK
* checking tests ...
Running ‘testthat.R’
OK
* checking for unstated dependencies in vignettes ... OK
* checking package vignettes ... OK
* checking running R code from vignettes ... SKIPPED
* checking re-building of vignette outputs ... SKIPPED
* checking PDF version of manual ... OK
* DONE
Status: 2 NOTEs
See
‘/Users/biocbuild/bbs-3.21-bioc/meat/SpatialDecon.Rcheck/00check.log’
for details.
SpatialDecon.Rcheck/00install.out
############################################################################## ############################################################################## ### ### Running command: ### ### /Library/Frameworks/R.framework/Resources/bin/R CMD INSTALL SpatialDecon ### ############################################################################## ############################################################################## * installing to library ‘/Library/Frameworks/R.framework/Versions/4.5-arm64/Resources/library’ * installing *source* package ‘SpatialDecon’ ... ** this is package ‘SpatialDecon’ version ‘1.18.0’ ** using staged installation ** R ** data *** moving datasets to lazyload DB ** byte-compile and prepare package for lazy loading ** help *** installing help indices ** building package indices ** installing vignettes ** testing if installed package can be loaded from temporary location ** testing if installed package can be loaded from final location ** testing if installed package keeps a record of temporary installation path * DONE (SpatialDecon)
SpatialDecon.Rcheck/tests/testthat.Rout
R version 4.5.1 Patched (2025-06-14 r88325) -- "Great Square Root"
Copyright (C) 2025 The R Foundation for Statistical Computing
Platform: aarch64-apple-darwin20
R is free software and comes with ABSOLUTELY NO WARRANTY.
You are welcome to redistribute it under certain conditions.
Type 'license()' or 'licence()' for distribution details.
R is a collaborative project with many contributors.
Type 'contributors()' for more information and
'citation()' on how to cite R or R packages in publications.
Type 'demo()' for some demos, 'help()' for on-line help, or
'help.start()' for an HTML browser interface to help.
Type 'q()' to quit R.
> library(testthat)
> library(SpatialDecon)
>
> test_check("SpatialDecon")
[1] "Creating Atlas"
[1] "1 / 4 : B"
[1] "2 / 4 : C"
[1] "3 / 4 : A"
[1] "4 / 4 : D"
[ FAIL 0 | WARN 0 | SKIP 0 | PASS 96 ]
>
> proc.time()
user system elapsed
163.702 8.790 174.808
SpatialDecon.Rcheck/SpatialDecon-Ex.timings
| name | user | system | elapsed | |
| SpatialDecon-package | 5.366 | 0.125 | 5.540 | |
| TIL_barplot | 1.558 | 0.052 | 1.623 | |
| collapseCellTypes | 1.537 | 0.052 | 1.597 | |
| create_profile_matrix | 0.887 | 0.043 | 0.940 | |
| derive_GeoMx_background | 0.003 | 0.002 | 0.006 | |
| download_profile_matrix | 0.272 | 0.418 | 2.236 | |
| florets | 1.334 | 0.086 | 1.438 | |
| mergeTumorIntoX | 0.013 | 0.004 | 0.016 | |
| reverseDecon | 6.539 | 0.441 | 7.039 | |
| runCollapseCellTypes | 74.751 | 4.712 | 80.320 | |
| runErrorModel | 14.493 | 0.244 | 15.052 | |
| runMergeTumorIntoX | 15.337 | 0.220 | 15.991 | |
| runReverseDecon | 76.518 | 4.473 | 81.883 | |
| runspatialdecon | 57.709 | 2.943 | 62.339 | |
| spatialdecon | 5.099 | 0.256 | 5.363 | |