| Back to Multiple platform build/check report for BioC 3.21: simplified long |
|
This page was generated on 2025-10-13 11:39 -0400 (Mon, 13 Oct 2025).
| Hostname | OS | Arch (*) | R version | Installed pkgs |
|---|---|---|---|---|
| nebbiolo1 | Linux (Ubuntu 24.04.3 LTS) | x86_64 | 4.5.1 (2025-06-13) -- "Great Square Root" | 4833 |
| merida1 | macOS 12.7.5 Monterey | x86_64 | 4.5.1 RC (2025-06-05 r88288) -- "Great Square Root" | 4614 |
| kjohnson1 | macOS 13.6.6 Ventura | arm64 | 4.5.1 Patched (2025-06-14 r88325) -- "Great Square Root" | 4555 |
| kunpeng2 | Linux (openEuler 24.03 LTS) | aarch64 | R Under development (unstable) (2025-02-19 r87757) -- "Unsuffered Consequences" | 4586 |
| Click on any hostname to see more info about the system (e.g. compilers) (*) as reported by 'uname -p', except on Windows and Mac OS X | ||||
| Package 1358/2341 | Hostname | OS / Arch | INSTALL | BUILD | CHECK | BUILD BIN | ||||||||
| MsBackendMetaboLights 1.2.0 (landing page) Johannes Rainer
| nebbiolo1 | Linux (Ubuntu 24.04.3 LTS) / x86_64 | OK | OK | OK | |||||||||
| merida1 | macOS 12.7.5 Monterey / x86_64 | OK | OK | OK | OK | |||||||||
| kjohnson1 | macOS 13.6.6 Ventura / arm64 | OK | OK | OK | OK | |||||||||
| kunpeng2 | Linux (openEuler 24.03 LTS) / aarch64 | OK | ERROR | skipped | ||||||||||
|
To the developers/maintainers of the MsBackendMetaboLights package: - Allow up to 24 hours (and sometimes 48 hours) for your latest push to git@git.bioconductor.org:packages/MsBackendMetaboLights.git to reflect on this report. See Troubleshooting Build Report for more information. - Use the following Renviron settings to reproduce errors and warnings. - If 'R CMD check' started to fail recently on the Linux builder(s) over a missing dependency, add the missing dependency to 'Suggests:' in your DESCRIPTION file. See Renviron.bioc for more information. |
| Package: MsBackendMetaboLights |
| Version: 1.2.0 |
| Command: /Library/Frameworks/R.framework/Resources/bin/R CMD check --install=check:MsBackendMetaboLights.install-out.txt --library=/Library/Frameworks/R.framework/Resources/library --no-vignettes --timings MsBackendMetaboLights_1.2.0.tar.gz |
| StartedAt: 2025-10-10 07:01:58 -0400 (Fri, 10 Oct 2025) |
| EndedAt: 2025-10-10 07:26:34 -0400 (Fri, 10 Oct 2025) |
| EllapsedTime: 1475.8 seconds |
| RetCode: 0 |
| Status: OK |
| CheckDir: MsBackendMetaboLights.Rcheck |
| Warnings: 0 |
##############################################################################
##############################################################################
###
### Running command:
###
### /Library/Frameworks/R.framework/Resources/bin/R CMD check --install=check:MsBackendMetaboLights.install-out.txt --library=/Library/Frameworks/R.framework/Resources/library --no-vignettes --timings MsBackendMetaboLights_1.2.0.tar.gz
###
##############################################################################
##############################################################################
* using log directory ‘/Users/biocbuild/bbs-3.21-bioc/meat/MsBackendMetaboLights.Rcheck’
* using R version 4.5.1 RC (2025-06-05 r88288)
* using platform: x86_64-apple-darwin20
* R was compiled by
Apple clang version 14.0.0 (clang-1400.0.29.202)
GNU Fortran (GCC) 14.2.0
* running under: macOS Monterey 12.7.6
* using session charset: UTF-8
* using option ‘--no-vignettes’
* checking for file ‘MsBackendMetaboLights/DESCRIPTION’ ... OK
* this is package ‘MsBackendMetaboLights’ version ‘1.2.0’
* package encoding: UTF-8
* checking package namespace information ... OK
* checking package dependencies ... OK
* checking if this is a source package ... OK
* checking if there is a namespace ... OK
* checking for hidden files and directories ... OK
* checking for portable file names ... OK
* checking for sufficient/correct file permissions ... OK
* checking whether package ‘MsBackendMetaboLights’ can be installed ... OK
* checking installed package size ... OK
* checking package directory ... OK
* checking ‘build’ directory ... OK
* checking DESCRIPTION meta-information ... OK
* checking top-level files ... OK
* checking for left-over files ... OK
* checking index information ... OK
* checking package subdirectories ... OK
* checking code files for non-ASCII characters ... OK
* checking R files for syntax errors ... OK
* checking whether the package can be loaded ... OK
* checking whether the package can be loaded with stated dependencies ... OK
* checking whether the package can be unloaded cleanly ... OK
* checking whether the namespace can be loaded with stated dependencies ... OK
* checking whether the namespace can be unloaded cleanly ... OK
* checking dependencies in R code ... OK
* checking S3 generic/method consistency ... OK
* checking replacement functions ... OK
* checking foreign function calls ... OK
* checking R code for possible problems ... OK
* checking Rd files ... OK
* checking Rd metadata ... OK
* checking Rd cross-references ... OK
* checking for missing documentation entries ... OK
* checking for code/documentation mismatches ... OK
* checking Rd \usage sections ... OK
* checking Rd contents ... OK
* checking for unstated dependencies in examples ... OK
* checking files in ‘vignettes’ ... OK
* checking examples ... OK
Examples with CPU (user + system) or elapsed time > 5s
user system elapsed
MsBackendMetaboLights 18.173 2.585 36.136
MetaboLights-utils 0.830 0.065 32.198
* checking for unstated dependencies in ‘tests’ ... OK
* checking tests ...
Running ‘testthat.R’
OK
* checking for unstated dependencies in vignettes ... OK
* checking package vignettes ... OK
* checking running R code from vignettes ... SKIPPED
* checking re-building of vignette outputs ... SKIPPED
* checking PDF version of manual ... OK
* DONE
Status: OK
MsBackendMetaboLights.Rcheck/00install.out
############################################################################## ############################################################################## ### ### Running command: ### ### /Library/Frameworks/R.framework/Resources/bin/R CMD INSTALL MsBackendMetaboLights ### ############################################################################## ############################################################################## * installing to library ‘/Library/Frameworks/R.framework/Versions/4.5-x86_64/Resources/library’ * installing *source* package ‘MsBackendMetaboLights’ ... ** this is package ‘MsBackendMetaboLights’ version ‘1.2.0’ ** using staged installation ** R ** byte-compile and prepare package for lazy loading ** help *** installing help indices *** copying figures ** building package indices ** installing vignettes ** testing if installed package can be loaded from temporary location ** testing if installed package can be loaded from final location ** testing if installed package keeps a record of temporary installation path * DONE (MsBackendMetaboLights)
MsBackendMetaboLights.Rcheck/tests/testthat.Rout
R version 4.5.1 RC (2025-06-05 r88288) -- "Great Square Root"
Copyright (C) 2025 The R Foundation for Statistical Computing
Platform: x86_64-apple-darwin20
R is free software and comes with ABSOLUTELY NO WARRANTY.
You are welcome to redistribute it under certain conditions.
Type 'license()' or 'licence()' for distribution details.
R is a collaborative project with many contributors.
Type 'contributors()' for more information and
'citation()' on how to cite R or R packages in publications.
Type 'demo()' for some demos, 'help()' for on-line help, or
'help.start()' for an HTML browser interface to help.
Type 'q()' to quit R.
> #' MetaboLights ID: MTBLS8735
> #' ftp://ftp.ebi.ac.uk/pub/databases/metabolights/studies/public/MTBLS8735
>
> library(testthat)
> library(MsBackendMetaboLights)
Loading required package: Spectra
Loading required package: S4Vectors
Loading required package: stats4
Loading required package: BiocGenerics
Loading required package: generics
Attaching package: 'generics'
The following objects are masked from 'package:base':
as.difftime, as.factor, as.ordered, intersect, is.element, setdiff,
setequal, union
Attaching package: 'BiocGenerics'
The following objects are masked from 'package:stats':
IQR, mad, sd, var, xtabs
The following objects are masked from 'package:base':
Filter, Find, Map, Position, Reduce, anyDuplicated, aperm, append,
as.data.frame, basename, cbind, colnames, dirname, do.call,
duplicated, eval, evalq, get, grep, grepl, is.unsorted, lapply,
mapply, match, mget, order, paste, pmax, pmax.int, pmin, pmin.int,
rank, rbind, rownames, sapply, saveRDS, table, tapply, unique,
unsplit, which.max, which.min
Attaching package: 'S4Vectors'
The following object is masked from 'package:utils':
findMatches
The following objects are masked from 'package:base':
I, expand.grid, unname
Loading required package: BiocParallel
>
> test_check("MsBackendMetaboLights")
[ FAIL 0 | WARN 0 | SKIP 0 | PASS 74 ]
>
> ## Run tests with the unit test suite defined in the Spectra package to ensure
> ## compliance with the definitions of the MsBackend interface/class.
> be <- backendInitialize(MsBackendMetaboLights(), mtblsId = "MTBLS39",
+ filePattern = "63A.cdf")
Used data files from the assay's column "Raw Spectral Data File" since none were available in column "Derived Spectral Data File".
>
> library(Spectra)
> test_suite <- system.file("test_backends", "test_MsBackend",
+ package = "Spectra")
> res <- test_dir(test_suite, stop_on_failure = TRUE)
✔ | F W S OK | Context
⠏ | 0 | peaks_variables
⠙ | 2 | peaks_variables
⠸ | 4 | peaks_variables
✔ | 4 | peaks_variables [2.8s]
⠏ | 0 | spectra_subsetting
⠋ | 1 | spectra_subsetting
⠦ | 7 | spectra_subsetting
⠹ | 13 | spectra_subsetting
⠇ | 19 | spectra_subsetting
⠼ | 25 | spectra_subsetting
⠋ | 31 | spectra_subsetting
⠦ | 37 | spectra_subsetting
⠹ | 43 | spectra_subsetting
⠇ | 49 | spectra_subsetting
⠼ | 55 | spectra_subsetting
⠋ | 61 | spectra_subsetting
⠦ | 67 | spectra_subsetting
⠹ | 73 | spectra_subsetting
⠇ | 79 | spectra_subsetting
⠼ | 85 | spectra_subsetting
⠋ | 91 | spectra_subsetting
⠦ | 97 | spectra_subsetting
⠹ | 103 | spectra_subsetting
⠇ | 109 | spectra_subsetting
⠼ | 115 | spectra_subsetting
⠋ | 121 | spectra_subsetting
⠦ | 127 | spectra_subsetting
⠹ | 133 | spectra_subsetting
⠇ | 139 | spectra_subsetting
⠼ | 145 | spectra_subsetting
⠋ | 151 | spectra_subsetting
⠦ | 157 | spectra_subsetting
⠹ | 163 | spectra_subsetting
⠇ | 169 | spectra_subsetting
⠼ | 175 | spectra_subsetting
⠋ | 181 | spectra_subsetting
⠦ | 187 | spectra_subsetting
⠹ | 193 | spectra_subsetting
⠇ | 199 | spectra_subsetting
⠼ | 205 | spectra_subsetting
⠋ | 211 | spectra_subsetting
⠦ | 217 | spectra_subsetting
⠹ | 223 | spectra_subsetting
⠇ | 229 | spectra_subsetting
⠼ | 235 | spectra_subsetting
⠋ | 241 | spectra_subsetting
⠦ | 247 | spectra_subsetting
⠹ | 253 | spectra_subsetting
⠇ | 259 | spectra_subsetting
⠼ | 265 | spectra_subsetting
⠋ | 271 | spectra_subsetting
⠦ | 277 | spectra_subsetting
⠹ | 283 | spectra_subsetting
⠇ | 289 | spectra_subsetting
⠼ | 295 | spectra_subsetting
⠋ | 301 | spectra_subsetting
⠦ | 307 | spectra_subsetting
⠹ | 313 | spectra_subsetting
⠇ | 319 | spectra_subsetting
⠼ | 325 | spectra_subsetting
⠋ | 331 | spectra_subsetting
⠦ | 337 | spectra_subsetting
⠹ | 343 | spectra_subsetting
⠇ | 349 | spectra_subsetting
⠼ | 355 | spectra_subsetting
⠋ | 361 | spectra_subsetting
⠦ | 367 | spectra_subsetting
⠹ | 373 | spectra_subsetting
⠇ | 379 | spectra_subsetting
⠼ | 385 | spectra_subsetting
⠋ | 391 | spectra_subsetting
⠦ | 397 | spectra_subsetting
⠹ | 403 | spectra_subsetting
⠇ | 409 | spectra_subsetting
⠼ | 415 | spectra_subsetting
⠋ | 421 | spectra_subsetting
⠦ | 427 | spectra_subsetting
⠹ | 433 | spectra_subsetting
⠇ | 439 | spectra_subsetting
⠼ | 445 | spectra_subsetting
⠋ | 451 | spectra_subsetting
⠦ | 457 | spectra_subsetting
⠹ | 463 | spectra_subsetting
⠇ | 469 | spectra_subsetting
⠼ | 475 | spectra_subsetting
⠋ | 481 | spectra_subsetting
⠦ | 487 | spectra_subsetting
⠹ | 493 | spectra_subsetting
⠇ | 499 | spectra_subsetting
⠼ | 505 | spectra_subsetting
⠋ | 511 | spectra_subsetting
⠦ | 517 | spectra_subsetting
⠹ | 523 | spectra_subsetting
⠇ | 529 | spectra_subsetting
⠼ | 535 | spectra_subsetting
⠋ | 541 | spectra_subsetting
⠦ | 547 | spectra_subsetting
⠹ | 553 | spectra_subsetting
⠇ | 559 | spectra_subsetting
⠼ | 565 | spectra_subsetting
⠋ | 571 | spectra_subsetting
⠦ | 577 | spectra_subsetting
⠹ | 583 | spectra_subsetting
⠇ | 589 | spectra_subsetting
⠼ | 595 | spectra_subsetting
⠋ | 601 | spectra_subsetting
⠦ | 607 | spectra_subsetting
⠹ | 613 | spectra_subsetting
⠇ | 619 | spectra_subsetting
⠼ | 625 | spectra_subsetting
⠋ | 631 | spectra_subsetting
⠦ | 637 | spectra_subsetting
⠹ | 643 | spectra_subsetting
⠇ | 649 | spectra_subsetting
⠼ | 655 | spectra_subsetting
⠋ | 661 | spectra_subsetting
⠦ | 667 | spectra_subsetting
⠹ | 673 | spectra_subsetting
⠇ | 679 | spectra_subsetting
⠼ | 685 | spectra_subsetting
⠋ | 691 | spectra_subsetting
⠦ | 697 | spectra_subsetting
⠹ | 703 | spectra_subsetting
⠇ | 709 | spectra_subsetting
⠼ | 715 | spectra_subsetting
⠋ | 721 | spectra_subsetting
⠦ | 727 | spectra_subsetting
⠹ | 733 | spectra_subsetting
⠇ | 739 | spectra_subsetting
⠼ | 745 | spectra_subsetting
⠋ | 751 | spectra_subsetting
⠦ | 757 | spectra_subsetting
⠹ | 763 | spectra_subsetting
⠇ | 769 | spectra_subsetting
⠼ | 775 | spectra_subsetting
⠋ | 781 | spectra_subsetting
⠦ | 787 | spectra_subsetting
⠹ | 793 | spectra_subsetting
⠇ | 799 | spectra_subsetting
⠼ | 805 | spectra_subsetting
⠋ | 811 | spectra_subsetting
⠦ | 817 | spectra_subsetting
⠹ | 823 | spectra_subsetting
⠇ | 829 | spectra_subsetting
⠼ | 835 | spectra_subsetting
⠋ | 841 | spectra_subsetting
⠦ | 847 | spectra_subsetting
⠹ | 853 | spectra_subsetting
⠇ | 859 | spectra_subsetting
⠼ | 865 | spectra_subsetting
⠋ | 871 | spectra_subsetting
⠦ | 877 | spectra_subsetting
⠹ | 883 | spectra_subsetting
⠇ | 889 | spectra_subsetting
⠼ | 895 | spectra_subsetting
⠋ | 901 | spectra_subsetting
⠦ | 907 | spectra_subsetting
⠹ | 913 | spectra_subsetting
⠇ | 919 | spectra_subsetting
⠼ | 925 | spectra_subsetting
⠋ | 931 | spectra_subsetting
⠦ | 937 | spectra_subsetting
⠹ | 943 | spectra_subsetting
⠇ | 949 | spectra_subsetting
⠼ | 955 | spectra_subsetting
⠋ | 961 | spectra_subsetting
⠦ | 967 | spectra_subsetting
⠹ | 973 | spectra_subsetting
⠇ | 979 | spectra_subsetting
⠼ | 985 | spectra_subsetting
⠋ | 991 | spectra_subsetting
⠦ | 997 | spectra_subsetting
⠹ | 1003 | spectra_subsetting
⠇ | 1009 | spectra_subsetting
⠼ | 1015 | spectra_subsetting
⠋ | 1021 | spectra_subsetting
⠦ | 1027 | spectra_subsetting
⠹ | 1033 | spectra_subsetting
⠇ | 1039 | spectra_subsetting
⠼ | 1045 | spectra_subsetting
⠋ | 1051 | spectra_subsetting
⠦ | 1057 | spectra_subsetting
⠹ | 1063 | spectra_subsetting
⠇ | 1069 | spectra_subsetting
⠼ | 1075 | spectra_subsetting
⠋ | 1081 | spectra_subsetting
⠦ | 1087 | spectra_subsetting
⠹ | 1093 | spectra_subsetting
⠇ | 1099 | spectra_subsetting
⠼ | 1105 | spectra_subsetting
⠋ | 1111 | spectra_subsetting
⠦ | 1117 | spectra_subsetting
⠹ | 1123 | spectra_subsetting
⠇ | 1129 | spectra_subsetting
⠼ | 1135 | spectra_subsetting
⠋ | 1141 | spectra_subsetting
⠦ | 1147 | spectra_subsetting
⠹ | 1153 | spectra_subsetting
⠇ | 1159 | spectra_subsetting
⠙ | 1162 | spectra_subsetting
⠴ | 1166 | spectra_subsetting
⠋ | 1171 | spectra_subsetting
⠸ | 1174 | spectra_subsetting
⠦ | 1177 | spectra_subsetting
⠏ | 1180 | spectra_subsetting
⠴ | 1186 | spectra_subsetting
⠙ | 1192 | spectra_subsetting
⠧ | 1198 | spectra_subsetting
⠸ | 1204 | spectra_subsetting
⠏ | 1210 | spectra_subsetting
⠴ | 1216 | spectra_subsetting
⠙ | 1222 | spectra_subsetting
⠧ | 1228 | spectra_subsetting
⠸ | 1234 | spectra_subsetting
⠏ | 1240 | spectra_subsetting
⠴ | 1246 | spectra_subsetting
⠙ | 1252 | spectra_subsetting
⠧ | 1258 | spectra_subsetting
⠸ | 1264 | spectra_subsetting
⠏ | 1270 | spectra_subsetting
⠴ | 1276 | spectra_subsetting
⠙ | 1282 | spectra_subsetting
⠧ | 1288 | spectra_subsetting
⠸ | 1294 | spectra_subsetting
⠏ | 1300 | spectra_subsetting
⠴ | 1306 | spectra_subsetting
⠙ | 1312 | spectra_subsetting
⠧ | 1318 | spectra_subsetting
⠸ | 1324 | spectra_subsetting
⠏ | 1330 | spectra_subsetting
⠴ | 1336 | spectra_subsetting
⠙ | 1342 | spectra_subsetting
⠧ | 1348 | spectra_subsetting
⠸ | 1354 | spectra_subsetting
⠏ | 1360 | spectra_subsetting
⠴ | 1366 | spectra_subsetting
⠙ | 1372 | spectra_subsetting
⠧ | 1378 | spectra_subsetting
⠸ | 1384 | spectra_subsetting
⠏ | 1390 | spectra_subsetting
⠴ | 1396 | spectra_subsetting
⠙ | 1402 | spectra_subsetting
⠧ | 1408 | spectra_subsetting
⠸ | 1414 | spectra_subsetting
⠏ | 1420 | spectra_subsetting
⠴ | 1426 | spectra_subsetting
⠙ | 1432 | spectra_subsetting
⠧ | 1438 | spectra_subsetting
⠸ | 1444 | spectra_subsetting
⠏ | 1450 | spectra_subsetting
⠴ | 1456 | spectra_subsetting
⠙ | 1462 | spectra_subsetting
⠧ | 1468 | spectra_subsetting
⠸ | 1474 | spectra_subsetting
⠏ | 1480 | spectra_subsetting
⠴ | 1486 | spectra_subsetting
⠙ | 1492 | spectra_subsetting
⠧ | 1498 | spectra_subsetting
⠸ | 1504 | spectra_subsetting
⠏ | 1510 | spectra_subsetting
⠴ | 1516 | spectra_subsetting
⠙ | 1522 | spectra_subsetting
⠧ | 1528 | spectra_subsetting
⠸ | 1534 | spectra_subsetting
⠏ | 1540 | spectra_subsetting
⠴ | 1546 | spectra_subsetting
⠙ | 1552 | spectra_subsetting
⠧ | 1558 | spectra_subsetting
⠸ | 1564 | spectra_subsetting
⠏ | 1570 | spectra_subsetting
⠴ | 1576 | spectra_subsetting
⠙ | 1582 | spectra_subsetting
⠧ | 1588 | spectra_subsetting
⠸ | 1594 | spectra_subsetting
⠏ | 1600 | spectra_subsetting
⠴ | 1606 | spectra_subsetting
⠙ | 1612 | spectra_subsetting
⠧ | 1618 | spectra_subsetting
⠸ | 1624 | spectra_subsetting
⠏ | 1630 | spectra_subsetting
⠴ | 1636 | spectra_subsetting
⠙ | 1642 | spectra_subsetting
⠧ | 1648 | spectra_subsetting
⠸ | 1654 | spectra_subsetting
⠏ | 1660 | spectra_subsetting
⠴ | 1666 | spectra_subsetting
⠙ | 1672 | spectra_subsetting
⠧ | 1678 | spectra_subsetting
⠸ | 1684 | spectra_subsetting
⠏ | 1690 | spectra_subsetting
⠴ | 1696 | spectra_subsetting
⠙ | 1702 | spectra_subsetting
⠧ | 1708 | spectra_subsetting
⠸ | 1714 | spectra_subsetting
⠏ | 1720 | spectra_subsetting
⠴ | 1726 | spectra_subsetting
⠙ | 1732 | spectra_subsetting
⠧ | 1738 | spectra_subsetting
⠸ | 1744 | spectra_subsetting
⠏ | 1750 | spectra_subsetting
⠴ | 1756 | spectra_subsetting
⠙ | 1762 | spectra_subsetting
⠧ | 1768 | spectra_subsetting
⠸ | 1774 | spectra_subsetting
⠏ | 1780 | spectra_subsetting
⠴ | 1786 | spectra_subsetting
⠙ | 1792 | spectra_subsetting
⠧ | 1798 | spectra_subsetting
⠸ | 1804 | spectra_subsetting
⠏ | 1810 | spectra_subsetting
⠴ | 1816 | spectra_subsetting
⠙ | 1822 | spectra_subsetting
⠧ | 1828 | spectra_subsetting
⠸ | 1834 | spectra_subsetting
⠏ | 1840 | spectra_subsetting
⠴ | 1846 | spectra_subsetting
⠙ | 1852 | spectra_subsetting
⠧ | 1858 | spectra_subsetting
⠸ | 1864 | spectra_subsetting
⠏ | 1870 | spectra_subsetting
⠴ | 1876 | spectra_subsetting
⠙ | 1882 | spectra_subsetting
⠧ | 1888 | spectra_subsetting
⠸ | 1894 | spectra_subsetting
⠏ | 1900 | spectra_subsetting
⠴ | 1906 | spectra_subsetting
⠙ | 1912 | spectra_subsetting
⠧ | 1918 | spectra_subsetting
⠸ | 1924 | spectra_subsetting
⠏ | 1930 | spectra_subsetting
⠴ | 1936 | spectra_subsetting
⠙ | 1942 | spectra_subsetting
⠧ | 1948 | spectra_subsetting
⠸ | 1954 | spectra_subsetting
⠏ | 1960 | spectra_subsetting
⠴ | 1966 | spectra_subsetting
⠙ | 1972 | spectra_subsetting
⠧ | 1978 | spectra_subsetting
⠸ | 1984 | spectra_subsetting
⠏ | 1990 | spectra_subsetting
⠴ | 1996 | spectra_subsetting
⠙ | 2002 | spectra_subsetting
⠧ | 2008 | spectra_subsetting
⠸ | 2014 | spectra_subsetting
⠏ | 2020 | spectra_subsetting
⠴ | 2026 | spectra_subsetting
⠙ | 2032 | spectra_subsetting
⠧ | 2038 | spectra_subsetting
⠸ | 2044 | spectra_subsetting
⠏ | 2050 | spectra_subsetting
⠴ | 2056 | spectra_subsetting
⠙ | 2062 | spectra_subsetting
⠧ | 2068 | spectra_subsetting
⠸ | 2074 | spectra_subsetting
⠏ | 2080 | spectra_subsetting
⠴ | 2086 | spectra_subsetting
⠙ | 2092 | spectra_subsetting
⠧ | 2098 | spectra_subsetting
⠸ | 2104 | spectra_subsetting
⠏ | 2110 | spectra_subsetting
⠴ | 2116 | spectra_subsetting
⠙ | 2122 | spectra_subsetting
⠧ | 2128 | spectra_subsetting
⠸ | 2134 | spectra_subsetting
⠏ | 2140 | spectra_subsetting
⠴ | 2146 | spectra_subsetting
⠙ | 2152 | spectra_subsetting
⠧ | 2158 | spectra_subsetting
⠸ | 2164 | spectra_subsetting
⠏ | 2170 | spectra_subsetting
⠴ | 2176 | spectra_subsetting
⠙ | 2182 | spectra_subsetting
⠧ | 2188 | spectra_subsetting
⠸ | 2194 | spectra_subsetting
⠏ | 2200 | spectra_subsetting
⠼ | 2205 | spectra_subsetting
⠇ | 2209 | spectra_subsetting
⠼ | 2215 | spectra_subsetting
⠋ | 2221 | spectra_subsetting
⠦ | 2227 | spectra_subsetting
⠹ | 2233 | spectra_subsetting
⠇ | 2239 | spectra_subsetting
⠼ | 2245 | spectra_subsetting
⠋ | 2251 | spectra_subsetting
⠦ | 2257 | spectra_subsetting
⠹ | 2263 | spectra_subsetting
⠇ | 2269 | spectra_subsetting
⠼ | 2275 | spectra_subsetting
⠋ | 2281 | spectra_subsetting
⠦ | 2287 | spectra_subsetting
⠹ | 2293 | spectra_subsetting
⠇ | 2299 | spectra_subsetting
⠼ | 2305 | spectra_subsetting
⠋ | 2311 | spectra_subsetting
⠦ | 2317 | spectra_subsetting
⠹ | 2323 | spectra_subsetting
⠇ | 2329 | spectra_subsetting
⠼ | 2335 | spectra_subsetting
⠋ | 2341 | spectra_subsetting
⠦ | 2347 | spectra_subsetting
⠹ | 2353 | spectra_subsetting
⠇ | 2359 | spectra_subsetting
⠼ | 2365 | spectra_subsetting
⠋ | 2371 | spectra_subsetting
⠦ | 2377 | spectra_subsetting
⠹ | 2383 | spectra_subsetting
⠇ | 2389 | spectra_subsetting
⠼ | 2395 | spectra_subsetting
⠋ | 2401 | spectra_subsetting
⠦ | 2407 | spectra_subsetting
⠹ | 2413 | spectra_subsetting
⠇ | 2419 | spectra_subsetting
⠼ | 2425 | spectra_subsetting
⠋ | 2431 | spectra_subsetting
⠦ | 2437 | spectra_subsetting
⠹ | 2443 | spectra_subsetting
⠧ | 2448 | spectra_subsetting
⠙ | 2452 | spectra_subsetting
⠧ | 2458 | spectra_subsetting
⠸ | 2464 | spectra_subsetting
⠏ | 2470 | spectra_subsetting
⠴ | 2476 | spectra_subsetting
⠙ | 2482 | spectra_subsetting
⠧ | 2488 | spectra_subsetting
⠸ | 2494 | spectra_subsetting
⠏ | 2500 | spectra_subsetting
⠴ | 2506 | spectra_subsetting
⠙ | 2512 | spectra_subsetting
⠧ | 2518 | spectra_subsetting
⠸ | 2524 | spectra_subsetting
⠏ | 2530 | spectra_subsetting
⠴ | 2536 | spectra_subsetting
⠙ | 2542 | spectra_subsetting
⠧ | 2548 | spectra_subsetting
⠸ | 2554 | spectra_subsetting
⠏ | 2560 | spectra_subsetting
⠴ | 2566 | spectra_subsetting
⠋ | 2571 | spectra_subsetting
⠼ | 2575 | spectra_subsetting
⠋ | 2581 | spectra_subsetting
⠦ | 2587 | spectra_subsetting
⠹ | 2593 | spectra_subsetting
⠇ | 2599 | spectra_subsetting
⠼ | 2605 | spectra_subsetting
⠋ | 2611 | spectra_subsetting
⠦ | 2617 | spectra_subsetting
⠹ | 2623 | spectra_subsetting
⠇ | 2629 | spectra_subsetting
⠼ | 2635 | spectra_subsetting
⠋ | 2641 | spectra_subsetting
⠦ | 2647 | spectra_subsetting
⠋ | 2651 | spectra_subsetting
⠴ | 2656 | spectra_subsetting
⠙ | 2662 | spectra_subsetting
⠧ | 2668 | spectra_subsetting
⠸ | 2674 | spectra_subsetting
⠏ | 2680 | spectra_subsetting
⠴ | 2686 | spectra_subsetting
⠙ | 2692 | spectra_subsetting
⠧ | 2698 | spectra_subsetting
⠸ | 2704 | spectra_subsetting
⠏ | 2710 | spectra_subsetting
⠴ | 2716 | spectra_subsetting
⠙ | 2722 | spectra_subsetting
⠧ | 2728 | spectra_subsetting
⠸ | 2734 | spectra_subsetting
⠏ | 2740 | spectra_subsetting
⠴ | 2746 | spectra_subsetting
⠙ | 2752 | spectra_subsetting
⠧ | 2758 | spectra_subsetting
⠸ | 2764 | spectra_subsetting
⠏ | 2770 | spectra_subsetting
⠴ | 2776 | spectra_subsetting
⠙ | 2782 | spectra_subsetting
⠧ | 2788 | spectra_subsetting
⠸ | 2794 | spectra_subsetting
⠏ | 2800 | spectra_subsetting
⠴ | 2806 | spectra_subsetting
⠙ | 2812 | spectra_subsetting
⠧ | 2818 | spectra_subsetting
⠸ | 2824 | spectra_subsetting
⠏ | 2830 | spectra_subsetting
⠴ | 2836 | spectra_subsetting
⠙ | 2842 | spectra_subsetting
⠧ | 2848 | spectra_subsetting
⠸ | 2854 | spectra_subsetting
⠏ | 2860 | spectra_subsetting
⠴ | 2866 | spectra_subsetting
⠙ | 2872 | spectra_subsetting
⠧ | 2878 | spectra_subsetting
⠸ | 2884 | spectra_subsetting
⠏ | 2890 | spectra_subsetting
⠴ | 2896 | spectra_subsetting
⠙ | 2902 | spectra_subsetting
⠧ | 2908 | spectra_subsetting
⠸ | 2914 | spectra_subsetting
⠏ | 2920 | spectra_subsetting
⠴ | 2926 | spectra_subsetting
⠙ | 2932 | spectra_subsetting
⠧ | 2938 | spectra_subsetting
⠸ | 2944 | spectra_subsetting
⠏ | 2950 | spectra_subsetting
⠴ | 2956 | spectra_subsetting
⠙ | 2962 | spectra_subsetting
⠧ | 2968 | spectra_subsetting
⠸ | 2974 | spectra_subsetting
⠏ | 2980 | spectra_subsetting
⠴ | 2986 | spectra_subsetting
⠙ | 2992 | spectra_subsetting
⠧ | 2998 | spectra_subsetting
⠸ | 3004 | spectra_subsetting
⠏ | 3010 | spectra_subsetting
⠴ | 3016 | spectra_subsetting
⠙ | 3022 | spectra_subsetting
⠧ | 3028 | spectra_subsetting
⠸ | 3034 | spectra_subsetting
⠏ | 3040 | spectra_subsetting
⠴ | 3046 | spectra_subsetting
⠙ | 3052 | spectra_subsetting
⠧ | 3058 | spectra_subsetting
⠸ | 3064 | spectra_subsetting
⠏ | 3070 | spectra_subsetting
⠴ | 3076 | spectra_subsetting
⠙ | 3082 | spectra_subsetting
⠧ | 3088 | spectra_subsetting
⠸ | 3094 | spectra_subsetting
⠏ | 3100 | spectra_subsetting
⠴ | 3106 | spectra_subsetting
⠙ | 3112 | spectra_subsetting
⠧ | 3118 | spectra_subsetting
⠸ | 3124 | spectra_subsetting
⠏ | 3130 | spectra_subsetting
⠴ | 3136 | spectra_subsetting
⠙ | 3142 | spectra_subsetting
⠧ | 3148 | spectra_subsetting
⠸ | 3154 | spectra_subsetting
⠏ | 3160 | spectra_subsetting
⠴ | 3166 | spectra_subsetting
⠙ | 3172 | spectra_subsetting
⠧ | 3178 | spectra_subsetting
⠸ | 3184 | spectra_subsetting
⠏ | 3190 | spectra_subsetting
⠴ | 3196 | spectra_subsetting
⠙ | 3202 | spectra_subsetting
⠧ | 3208 | spectra_subsetting
⠸ | 3214 | spectra_subsetting
⠏ | 3220 | spectra_subsetting
⠴ | 3226 | spectra_subsetting
⠙ | 3232 | spectra_subsetting
⠧ | 3238 | spectra_subsetting
⠸ | 3244 | spectra_subsetting
⠏ | 3250 | spectra_subsetting
⠴ | 3256 | spectra_subsetting
⠙ | 3262 | spectra_subsetting
⠧ | 3268 | spectra_subsetting
⠸ | 3274 | spectra_subsetting
⠧ | 3278 | spectra_subsetting
⠹ | 3283 | spectra_subsetting
⠇ | 3289 | spectra_subsetting
⠼ | 3295 | spectra_subsetting
⠇ | 3299 | spectra_subsetting
⠋ | 3301 | spectra_subsetting
⠸ | 3304 | spectra_subsetting
⠦ | 3307 | spectra_subsetting
⠹ | 3313 | spectra_subsetting
⠇ | 3319 | spectra_subsetting
⠼ | 3325 | spectra_subsetting
⠋ | 3331 | spectra_subsetting
⠸ | 3334 | spectra_subsetting
⠏ | 3340 | spectra_subsetting
⠴ | 3346 | spectra_subsetting
⠙ | 3352 | spectra_subsetting
⠧ | 3358 | spectra_subsetting
⠸ | 3364 | spectra_subsetting
⠏ | 3370 | spectra_subsetting
⠴ | 3376 | spectra_subsetting
⠙ | 3382 | spectra_subsetting
⠧ | 3388 | spectra_subsetting
⠸ | 3394 | spectra_subsetting
⠏ | 3400 | spectra_subsetting
⠴ | 3406 | spectra_subsetting
⠙ | 3412 | spectra_subsetting
⠧ | 3418 | spectra_subsetting
⠸ | 3424 | spectra_subsetting
⠏ | 3430 | spectra_subsetting
⠴ | 3436 | spectra_subsetting
⠙ | 3442 | spectra_subsetting
⠧ | 3448 | spectra_subsetting
⠸ | 3454 | spectra_subsetting
⠏ | 3460 | spectra_subsetting
⠴ | 3466 | spectra_subsetting
⠙ | 3472 | spectra_subsetting
⠧ | 3478 | spectra_subsetting
⠸ | 3484 | spectra_subsetting
⠏ | 3490 | spectra_subsetting
⠴ | 3496 | spectra_subsetting
⠙ | 3502 | spectra_subsetting
⠧ | 3508 | spectra_subsetting
⠸ | 3514 | spectra_subsetting
⠏ | 3520 | spectra_subsetting
⠴ | 3526 | spectra_subsetting
⠙ | 3532 | spectra_subsetting
⠧ | 3538 | spectra_subsetting
⠸ | 3544 | spectra_subsetting
⠏ | 3550 | spectra_subsetting
⠴ | 3556 | spectra_subsetting
⠙ | 3562 | spectra_subsetting
⠧ | 3568 | spectra_subsetting
⠸ | 3574 | spectra_subsetting
⠏ | 3580 | spectra_subsetting
⠴ | 3586 | spectra_subsetting
⠙ | 3592 | spectra_subsetting
⠧ | 3598 | spectra_subsetting
⠸ | 3604 | spectra_subsetting
⠏ | 3610 | spectra_subsetting
⠴ | 3616 | spectra_subsetting
⠙ | 3622 | spectra_subsetting
⠧ | 3628 | spectra_subsetting
⠸ | 3634 | spectra_subsetting
⠏ | 3640 | spectra_subsetting
⠴ | 3646 | spectra_subsetting
⠙ | 3652 | spectra_subsetting
⠧ | 3658 | spectra_subsetting
⠸ | 3664 | spectra_subsetting
⠏ | 3670 | spectra_subsetting
⠴ | 3676 | spectra_subsetting
⠙ | 3682 | spectra_subsetting
⠧ | 3688 | spectra_subsetting
⠸ | 3694 | spectra_subsetting
⠏ | 3700 | spectra_subsetting
⠴ | 3706 | spectra_subsetting
⠙ | 3712 | spectra_subsetting
⠧ | 3718 | spectra_subsetting
⠙ | 3722 | spectra_subsetting
⠦ | 3727 | spectra_subsetting
⠹ | 3733 | spectra_subsetting
⠇ | 3739 | spectra_subsetting
⠼ | 3745 | spectra_subsetting
⠋ | 3751 | spectra_subsetting
⠦ | 3757 | spectra_subsetting
⠙ | 3762 | spectra_subsetting
⠴ | 3766 | spectra_subsetting
⠙ | 3772 | spectra_subsetting
⠧ | 3778 | spectra_subsetting
⠙ | 3782 | spectra_subsetting
⠦ | 3787 | spectra_subsetting
⠹ | 3793 | spectra_subsetting
⠴ | 3796 | spectra_subsetting
⠇ | 3799 | spectra_subsetting
⠼ | 3805 | spectra_subsetting
⠋ | 3811 | spectra_subsetting
⠦ | 3817 | spectra_subsetting
⠹ | 3823 | spectra_subsetting
⠇ | 3829 | spectra_subsetting
⠙ | 3832 | spectra_subsetting
⠼ | 3835 | spectra_subsetting
⠇ | 3839 | spectra_subsetting
⠸ | 3844 | spectra_subsetting
⠏ | 3850 | spectra_subsetting
⠴ | 3856 | spectra_subsetting
⠋ | 3861 | spectra_subsetting
⠼ | 3865 | spectra_subsetting
⠋ | 3871 | spectra_subsetting
⠦ | 3877 | spectra_subsetting
⠹ | 3883 | spectra_subsetting
⠇ | 3889 | spectra_subsetting
⠼ | 3895 | spectra_subsetting
⠋ | 3901 | spectra_subsetting
⠦ | 3907 | spectra_subsetting
⠹ | 3913 | spectra_subsetting
⠇ | 3919 | spectra_subsetting
⠼ | 3925 | spectra_subsetting
⠋ | 3931 | spectra_subsetting
⠦ | 3937 | spectra_subsetting
⠹ | 3943 | spectra_subsetting
⠇ | 3949 | spectra_subsetting
⠼ | 3955 | spectra_subsetting
⠋ | 3961 | spectra_subsetting
⠦ | 3967 | spectra_subsetting
⠹ | 3973 | spectra_subsetting
⠇ | 3979 | spectra_subsetting
⠼ | 3985 | spectra_subsetting
⠋ | 3991 | spectra_subsetting
⠦ | 3997 | spectra_subsetting
⠹ | 4003 | spectra_subsetting
⠇ | 4009 | spectra_subsetting
⠼ | 4015 | spectra_subsetting
⠋ | 4021 | spectra_subsetting
⠦ | 4027 | spectra_subsetting
⠹ | 4033 | spectra_subsetting
⠇ | 4039 | spectra_subsetting
⠼ | 4045 | spectra_subsetting
⠋ | 4051 | spectra_subsetting
⠦ | 4057 | spectra_subsetting
⠹ | 4063 | spectra_subsetting
⠇ | 4069 | spectra_subsetting
⠼ | 4075 | spectra_subsetting
⠋ | 4081 | spectra_subsetting
⠦ | 4087 | spectra_subsetting
⠹ | 4093 | spectra_subsetting
⠇ | 4099 | spectra_subsetting
⠼ | 4105 | spectra_subsetting
⠋ | 4111 | spectra_subsetting
⠦ | 4117 | spectra_subsetting
⠹ | 4123 | spectra_subsetting
⠇ | 4129 | spectra_subsetting
⠼ | 4135 | spectra_subsetting
⠋ | 4141 | spectra_subsetting
⠦ | 4147 | spectra_subsetting
⠹ | 4153 | spectra_subsetting
⠇ | 4159 | spectra_subsetting
⠼ | 4165 | spectra_subsetting
⠋ | 4171 | spectra_subsetting
⠦ | 4177 | spectra_subsetting
⠹ | 4183 | spectra_subsetting
⠇ | 4189 | spectra_subsetting
⠙ | 4192 | spectra_subsetting
⠧ | 4198 | spectra_subsetting
⠸ | 4204 | spectra_subsetting
⠏ | 4210 | spectra_subsetting
⠴ | 4216 | spectra_subsetting
⠙ | 4222 | spectra_subsetting
⠧ | 4228 | spectra_subsetting
⠸ | 4234 | spectra_subsetting
⠏ | 4240 | spectra_subsetting
⠴ | 4246 | spectra_subsetting
⠙ | 4252 | spectra_subsetting
⠧ | 4258 | spectra_subsetting
⠸ | 4264 | spectra_subsetting
⠏ | 4270 | spectra_subsetting
⠴ | 4276 | spectra_subsetting
⠙ | 4282 | spectra_subsetting
⠧ | 4288 | spectra_subsetting
⠸ | 4294 | spectra_subsetting
⠏ | 4300 | spectra_subsetting
⠴ | 4306 | spectra_subsetting
⠙ | 4312 | spectra_subsetting
⠧ | 4318 | spectra_subsetting
⠸ | 4324 | spectra_subsetting
⠏ | 4330 | spectra_subsetting
⠴ | 4336 | spectra_subsetting
⠙ | 4342 | spectra_subsetting
⠧ | 4348 | spectra_subsetting
⠸ | 4354 | spectra_subsetting
⠏ | 4360 | spectra_subsetting
⠴ | 4366 | spectra_subsetting
⠙ | 4372 | spectra_subsetting
⠧ | 4378 | spectra_subsetting
⠸ | 4384 | spectra_subsetting
⠏ | 4390 | spectra_subsetting
⠴ | 4396 | spectra_subsetting
⠙ | 4402 | spectra_subsetting
⠧ | 4408 | spectra_subsetting
⠸ | 4414 | spectra_subsetting
⠏ | 4420 | spectra_subsetting
⠴ | 4426 | spectra_subsetting
⠙ | 4432 | spectra_subsetting
⠧ | 4438 | spectra_subsetting
⠸ | 4444 | spectra_subsetting
⠏ | 4450 | spectra_subsetting
⠴ | 4456 | spectra_subsetting
⠏ | 4460 | spectra_subsetting
⠼ | 4465 | spectra_subsetting
⠋ | 4471 | spectra_subsetting
⠴ | 4476 | spectra_subsetting
⠏ | 4480 | spectra_subsetting
⠴ | 4486 | spectra_subsetting
⠙ | 4492 | spectra_subsetting
⠧ | 4498 | spectra_subsetting
⠸ | 4504 | spectra_subsetting
⠏ | 4510 | spectra_subsetting
⠴ | 4516 | spectra_subsetting
⠙ | 4522 | spectra_subsetting
⠧ | 4528 | spectra_subsetting
⠸ | 4534 | spectra_subsetting
⠏ | 4540 | spectra_subsetting
⠴ | 4546 | spectra_subsetting
⠙ | 4552 | spectra_subsetting
⠧ | 4558 | spectra_subsetting
⠸ | 4564 | spectra_subsetting
⠏ | 4570 | spectra_subsetting
⠴ | 4576 | spectra_subsetting
⠙ | 4582 | spectra_subsetting
⠧ | 4588 | spectra_subsetting
⠸ | 4594 | spectra_subsetting
⠏ | 4600 | spectra_subsetting
⠴ | 4606 | spectra_subsetting
⠙ | 4612 | spectra_subsetting
⠧ | 4618 | spectra_subsetting
⠸ | 4624 | spectra_subsetting
⠏ | 4630 | spectra_subsetting
⠴ | 4636 | spectra_subsetting
⠙ | 4642 | spectra_subsetting
⠧ | 4648 | spectra_subsetting
⠸ | 4654 | spectra_subsetting
⠏ | 4660 | spectra_subsetting
⠴ | 4666 | spectra_subsetting
⠙ | 4672 | spectra_subsetting
⠧ | 4678 | spectra_subsetting
⠸ | 4684 | spectra_subsetting
⠏ | 4690 | spectra_subsetting
⠴ | 4696 | spectra_subsetting
⠙ | 4702 | spectra_subsetting
⠧ | 4708 | spectra_subsetting
⠸ | 4714 | spectra_subsetting
⠏ | 4720 | spectra_subsetting
⠴ | 4726 | spectra_subsetting
⠙ | 4732 | spectra_subsetting
⠧ | 4738 | spectra_subsetting
⠸ | 4744 | spectra_subsetting
⠏ | 4750 | spectra_subsetting
⠴ | 4756 | spectra_subsetting
⠙ | 4762 | spectra_subsetting
⠧ | 4768 | spectra_subsetting
⠸ | 4774 | spectra_subsetting
⠏ | 4780 | spectra_subsetting
⠴ | 4786 | spectra_subsetting
⠙ | 4792 | spectra_subsetting
⠧ | 4798 | spectra_subsetting
⠸ | 4804 | spectra_subsetting
⠏ | 4810 | spectra_subsetting
⠴ | 4816 | spectra_subsetting
⠙ | 4822 | spectra_subsetting
⠧ | 4828 | spectra_subsetting
⠸ | 4834 | spectra_subsetting
⠏ | 4840 | spectra_subsetting
⠴ | 4846 | spectra_subsetting
⠙ | 4852 | spectra_subsetting
⠧ | 4858 | spectra_subsetting
⠸ | 4864 | spectra_subsetting
⠏ | 4870 | spectra_subsetting
⠴ | 4876 | spectra_subsetting
⠙ | 4882 | spectra_subsetting
⠧ | 4888 | spectra_subsetting
⠸ | 4894 | spectra_subsetting
⠏ | 4900 | spectra_subsetting
⠴ | 4906 | spectra_subsetting
⠙ | 4912 | spectra_subsetting
⠧ | 4918 | spectra_subsetting
⠸ | 4924 | spectra_subsetting
⠏ | 4930 | spectra_subsetting
⠴ | 4936 | spectra_subsetting
⠙ | 4942 | spectra_subsetting
⠧ | 4948 | spectra_subsetting
⠸ | 4954 | spectra_subsetting
⠏ | 4960 | spectra_subsetting
⠴ | 4966 | spectra_subsetting
⠙ | 4972 | spectra_subsetting
⠧ | 4978 | spectra_subsetting
⠸ | 4984 | spectra_subsetting
⠏ | 4990 | spectra_subsetting
⠴ | 4996 | spectra_subsetting
⠦ | 4997 | spectra_subsetting
⠧ | 4998 | spectra_subsetting
⠇ | 4999 | spectra_subsetting
⠏ | 5000 | spectra_subsetting
⠋ | 5001 | spectra_subsetting
⠙ | 5002 | spectra_subsetting
⠹ | 5003 | spectra_subsetting
⠸ | 5004 | spectra_subsetting
⠼ | 5005 | spectra_subsetting
⠴ | 5006 | spectra_subsetting
⠦ | 5007 | spectra_subsetting
⠧ | 5008 | spectra_subsetting
⠇ | 5009 | spectra_subsetting
⠏ | 5010 | spectra_subsetting
⠋ | 5011 | spectra_subsetting
⠙ | 5012 | spectra_subsetting
⠹ | 5013 | spectra_subsetting
⠸ | 5014 | spectra_subsetting
⠼ | 5015 | spectra_subsetting
⠴ | 5016 | spectra_subsetting
⠦ | 5017 | spectra_subsetting
⠧ | 5018 | spectra_subsetting
⠇ | 5019 | spectra_subsetting
⠏ | 5020 | spectra_subsetting
⠋ | 5021 | spectra_subsetting
⠙ | 5022 | spectra_subsetting
⠹ | 5023 | spectra_subsetting
⠸ | 5024 | spectra_subsetting
⠼ | 5025 | spectra_subsetting
⠴ | 5026 | spectra_subsetting
⠦ | 5027 | spectra_subsetting
⠧ | 5028 | spectra_subsetting
⠇ | 5029 | spectra_subsetting
⠏ | 5030 | spectra_subsetting
⠋ | 5031 | spectra_subsetting
⠙ | 5032 | spectra_subsetting
⠹ | 5033 | spectra_subsetting
⠸ | 5034 | spectra_subsetting
⠼ | 5035 | spectra_subsetting
⠴ | 5036 | spectra_subsetting
⠦ | 5037 | spectra_subsetting
⠧ | 5038 | spectra_subsetting
⠇ | 5039 | spectra_subsetting
⠏ | 5040 | spectra_subsetting
⠋ | 5041 | spectra_subsetting
⠙ | 5042 | spectra_subsetting
⠹ | 5043 | spectra_subsetting
⠸ | 5044 | spectra_subsetting
⠼ | 5045 | spectra_subsetting
⠴ | 5046 | spectra_subsetting
⠦ | 5047 | spectra_subsetting
⠧ | 5048 | spectra_subsetting
⠇ | 5049 | spectra_subsetting
⠏ | 5050 | spectra_subsetting
⠋ | 5051 | spectra_subsetting
⠙ | 5052 | spectra_subsetting
⠹ | 5053 | spectra_subsetting
⠸ | 5054 | spectra_subsetting
⠼ | 5055 | spectra_subsetting
⠴ | 5056 | spectra_subsetting
⠦ | 5057 | spectra_subsetting
⠧ | 5058 | spectra_subsetting
⠇ | 5059 | spectra_subsetting
⠏ | 5060 | spectra_subsetting
⠋ | 5061 | spectra_subsetting
⠙ | 5062 | spectra_subsetting
⠹ | 5063 | spectra_subsetting
⠸ | 5064 | spectra_subsetting
⠼ | 5065 | spectra_subsetting
⠴ | 5066 | spectra_subsetting
⠦ | 5067 | spectra_subsetting
⠧ | 5068 | spectra_subsetting
⠇ | 5069 | spectra_subsetting
⠏ | 5070 | spectra_subsetting
⠋ | 5071 | spectra_subsetting
⠙ | 5072 | spectra_subsetting
⠹ | 5073 | spectra_subsetting
⠸ | 5074 | spectra_subsetting
⠼ | 5075 | spectra_subsetting
⠴ | 5076 | spectra_subsetting
⠦ | 5077 | spectra_subsetting
⠧ | 5078 | spectra_subsetting
⠇ | 5079 | spectra_subsetting
⠏ | 5080 | spectra_subsetting
⠋ | 5081 | spectra_subsetting
⠙ | 5082 | spectra_subsetting
⠹ | 5083 | spectra_subsetting
⠸ | 5084 | spectra_subsetting
⠼ | 5085 | spectra_subsetting
⠴ | 5086 | spectra_subsetting
⠦ | 5087 | spectra_subsetting
⠧ | 5088 | spectra_subsetting
⠇ | 5089 | spectra_subsetting
⠏ | 5090 | spectra_subsetting
⠋ | 5091 | spectra_subsetting
⠙ | 5092 | spectra_subsetting
⠹ | 5093 | spectra_subsetting
⠸ | 5094 | spectra_subsetting
⠼ | 5095 | spectra_subsetting
⠴ | 5096 | spectra_subsetting
⠦ | 5097 | spectra_subsetting
⠧ | 5098 | spectra_subsetting
⠇ | 5099 | spectra_subsetting
⠏ | 5100 | spectra_subsetting
⠋ | 5101 | spectra_subsetting
⠙ | 5102 | spectra_subsetting
⠹ | 5103 | spectra_subsetting
⠸ | 5104 | spectra_subsetting
⠼ | 5105 | spectra_subsetting
⠴ | 5106 | spectra_subsetting
⠦ | 5107 | spectra_subsetting
⠧ | 5108 | spectra_subsetting
⠇ | 5109 | spectra_subsetting
⠏ | 5110 | spectra_subsetting
⠋ | 5111 | spectra_subsetting
⠙ | 5112 | spectra_subsetting
⠹ | 5113 | spectra_subsetting
⠸ | 5114 | spectra_subsetting
⠼ | 5115 | spectra_subsetting
⠴ | 5116 | spectra_subsetting
⠦ | 5117 | spectra_subsetting
⠧ | 5118 | spectra_subsetting
⠇ | 5119 | spectra_subsetting
⠏ | 5120 | spectra_subsetting
⠋ | 5121 | spectra_subsetting
⠙ | 5122 | spectra_subsetting
⠹ | 5123 | spectra_subsetting
⠸ | 5124 | spectra_subsetting
⠼ | 5125 | spectra_subsetting
⠴ | 5126 | spectra_subsetting
⠦ | 5127 | spectra_subsetting
⠧ | 5128 | spectra_subsetting
⠇ | 5129 | spectra_subsetting
⠏ | 5130 | spectra_subsetting
⠋ | 5131 | spectra_subsetting
⠙ | 5132 | spectra_subsetting
⠹ | 5133 | spectra_subsetting
⠸ | 5134 | spectra_subsetting
⠼ | 5135 | spectra_subsetting
⠴ | 5136 | spectra_subsetting
⠦ | 5137 | spectra_subsetting
⠧ | 5138 | spectra_subsetting
⠇ | 5139 | spectra_subsetting
⠏ | 5140 | spectra_subsetting
⠋ | 5141 | spectra_subsetting
⠙ | 5142 | spectra_subsetting
⠹ | 5143 | spectra_subsetting
⠸ | 5144 | spectra_subsetting
⠼ | 5145 | spectra_subsetting
⠴ | 5146 | spectra_subsetting
⠦ | 5147 | spectra_subsetting
⠧ | 5148 | spectra_subsetting
⠇ | 5149 | spectra_subsetting
⠏ | 5150 | spectra_subsetting
⠋ | 5151 | spectra_subsetting
⠙ | 5152 | spectra_subsetting
⠹ | 5153 | spectra_subsetting
⠸ | 5154 | spectra_subsetting
⠼ | 5155 | spectra_subsetting
⠴ | 5156 | spectra_subsetting
⠦ | 5157 | spectra_subsetting
⠧ | 5158 | spectra_subsetting
⠇ | 5159 | spectra_subsetting
⠏ | 5160 | spectra_subsetting
⠋ | 5161 | spectra_subsetting
⠙ | 5162 | spectra_subsetting
⠹ | 5163 | spectra_subsetting
⠸ | 5164 | spectra_subsetting
⠼ | 5165 | spectra_subsetting
⠴ | 5166 | spectra_subsetting
⠦ | 5167 | spectra_subsetting
⠧ | 5168 | spectra_subsetting
⠇ | 5169 | spectra_subsetting
⠏ | 5170 | spectra_subsetting
⠋ | 5171 | spectra_subsetting
⠙ | 5172 | spectra_subsetting
⠹ | 5173 | spectra_subsetting
⠸ | 5174 | spectra_subsetting
⠼ | 5175 | spectra_subsetting
⠴ | 5176 | spectra_subsetting
⠦ | 5177 | spectra_subsetting
⠧ | 5178 | spectra_subsetting
⠇ | 5179 | spectra_subsetting
⠏ | 5180 | spectra_subsetting
⠋ | 5181 | spectra_subsetting
⠙ | 5182 | spectra_subsetting
⠹ | 5183 | spectra_subsetting
⠸ | 5184 | spectra_subsetting
⠼ | 5185 | spectra_subsetting
⠴ | 5186 | spectra_subsetting
⠦ | 5187 | spectra_subsetting
⠧ | 5188 | spectra_subsetting
⠇ | 5189 | spectra_subsetting
⠏ | 5190 | spectra_subsetting
⠋ | 5191 | spectra_subsetting
⠙ | 5192 | spectra_subsetting
⠹ | 5193 | spectra_subsetting
⠸ | 5194 | spectra_subsetting
⠼ | 5195 | spectra_subsetting
⠴ | 5196 | spectra_subsetting
⠦ | 5197 | spectra_subsetting
⠧ | 5198 | spectra_subsetting
⠇ | 5199 | spectra_subsetting
⠏ | 5200 | spectra_subsetting
⠋ | 5201 | spectra_subsetting
⠙ | 5202 | spectra_subsetting
⠹ | 5203 | spectra_subsetting
⠸ | 5204 | spectra_subsetting
⠼ | 5205 | spectra_subsetting
⠴ | 5206 | spectra_subsetting
⠦ | 5207 | spectra_subsetting
⠧ | 5208 | spectra_subsetting
⠇ | 5209 | spectra_subsetting
⠏ | 5210 | spectra_subsetting
⠋ | 5211 | spectra_subsetting
⠙ | 5212 | spectra_subsetting
⠹ | 5213 | spectra_subsetting
⠸ | 5214 | spectra_subsetting
⠼ | 5215 | spectra_subsetting
⠴ | 5216 | spectra_subsetting
⠦ | 5217 | spectra_subsetting
⠧ | 5218 | spectra_subsetting
⠇ | 5219 | spectra_subsetting
⠏ | 5220 | spectra_subsetting
⠋ | 5221 | spectra_subsetting
⠙ | 5222 | spectra_subsetting
⠹ | 5223 | spectra_subsetting
⠸ | 5224 | spectra_subsetting
⠼ | 5225 | spectra_subsetting
⠴ | 5226 | spectra_subsetting
⠦ | 5227 | spectra_subsetting
⠧ | 5228 | spectra_subsetting
⠇ | 5229 | spectra_subsetting
⠏ | 5230 | spectra_subsetting
⠋ | 5231 | spectra_subsetting
⠙ | 5232 | spectra_subsetting
⠹ | 5233 | spectra_subsetting
⠸ | 5234 | spectra_subsetting
⠼ | 5235 | spectra_subsetting
⠴ | 5236 | spectra_subsetting
⠦ | 5237 | spectra_subsetting
⠧ | 5238 | spectra_subsetting
⠇ | 5239 | spectra_subsetting
⠏ | 5240 | spectra_subsetting
⠋ | 5241 | spectra_subsetting
⠙ | 5242 | spectra_subsetting
⠹ | 5243 | spectra_subsetting
⠸ | 5244 | spectra_subsetting
⠼ | 5245 | spectra_subsetting
⠴ | 5246 | spectra_subsetting
⠦ | 5247 | spectra_subsetting
⠧ | 5248 | spectra_subsetting
⠇ | 5249 | spectra_subsetting
⠏ | 5250 | spectra_subsetting
⠋ | 5251 | spectra_subsetting
⠙ | 5252 | spectra_subsetting
⠹ | 5253 | spectra_subsetting
⠸ | 5254 | spectra_subsetting
⠼ | 5255 | spectra_subsetting
⠴ | 5256 | spectra_subsetting
⠦ | 5257 | spectra_subsetting
⠧ | 5258 | spectra_subsetting
⠇ | 5259 | spectra_subsetting
⠏ | 5260 | spectra_subsetting
⠋ | 5261 | spectra_subsetting
⠙ | 5262 | spectra_subsetting
⠹ | 5263 | spectra_subsetting
⠸ | 5264 | spectra_subsetting
⠼ | 5265 | spectra_subsetting
⠴ | 5266 | spectra_subsetting
⠦ | 5267 | spectra_subsetting
⠧ | 5268 | spectra_subsetting
⠇ | 5269 | spectra_subsetting
⠏ | 5270 | spectra_subsetting
⠋ | 5271 | spectra_subsetting
⠙ | 5272 | spectra_subsetting
⠹ | 5273 | spectra_subsetting
⠸ | 5274 | spectra_subsetting
⠼ | 5275 | spectra_subsetting
⠴ | 5276 | spectra_subsetting
⠦ | 5277 | spectra_subsetting
⠧ | 5278 | spectra_subsetting
⠇ | 5279 | spectra_subsetting
⠏ | 5280 | spectra_subsetting
⠋ | 5281 | spectra_subsetting
⠙ | 5282 | spectra_subsetting
⠹ | 5283 | spectra_subsetting
⠸ | 5284 | spectra_subsetting
⠼ | 5285 | spectra_subsetting
⠴ | 5286 | spectra_subsetting
⠦ | 5287 | spectra_subsetting
⠧ | 5288 | spectra_subsetting
⠇ | 5289 | spectra_subsetting
⠏ | 5290 | spectra_subsetting
⠋ | 5291 | spectra_subsetting
⠙ | 5292 | spectra_subsetting
⠹ | 5293 | spectra_subsetting
⠸ | 5294 | spectra_subsetting
⠼ | 5295 | spectra_subsetting
⠴ | 5296 | spectra_subsetting
⠦ | 5297 | spectra_subsetting
⠧ | 5298 | spectra_subsetting
⠇ | 5299 | spectra_subsetting
⠏ | 5300 | spectra_subsetting
⠋ | 5301 | spectra_subsetting
⠙ | 5302 | spectra_subsetting
⠹ | 5303 | spectra_subsetting
⠸ | 5304 | spectra_subsetting
⠼ | 5305 | spectra_subsetting
⠴ | 5306 | spectra_subsetting
⠦ | 5307 | spectra_subsetting
⠧ | 5308 | spectra_subsetting
⠇ | 5309 | spectra_subsetting
⠏ | 5310 | spectra_subsetting
⠋ | 5311 | spectra_subsetting
⠙ | 5312 | spectra_subsetting
⠹ | 5313 | spectra_subsetting
⠸ | 5314 | spectra_subsetting
⠼ | 5315 | spectra_subsetting
⠴ | 5316 | spectra_subsetting
⠦ | 5317 | spectra_subsetting
⠧ | 5318 | spectra_subsetting
⠇ | 5319 | spectra_subsetting
⠏ | 5320 | spectra_subsetting
⠋ | 5321 | spectra_subsetting
⠙ | 5322 | spectra_subsetting
⠹ | 5323 | spectra_subsetting
⠸ | 5324 | spectra_subsetting
⠼ | 5325 | spectra_subsetting
⠴ | 5326 | spectra_subsetting
⠦ | 5327 | spectra_subsetting
⠧ | 5328 | spectra_subsetting
⠇ | 5329 | spectra_subsetting
⠏ | 5330 | spectra_subsetting
⠋ | 5331 | spectra_subsetting
⠙ | 5332 | spectra_subsetting
⠹ | 5333 | spectra_subsetting
⠸ | 5334 | spectra_subsetting
⠼ | 5335 | spectra_subsetting
⠴ | 5336 | spectra_subsetting
⠦ | 5337 | spectra_subsetting
⠧ | 5338 | spectra_subsetting
⠇ | 5339 | spectra_subsetting
⠏ | 5340 | spectra_subsetting
⠋ | 5341 | spectra_subsetting
⠙ | 5342 | spectra_subsetting
⠹ | 5343 | spectra_subsetting
⠸ | 5344 | spectra_subsetting
⠼ | 5345 | spectra_subsetting
⠴ | 5346 | spectra_subsetting
⠦ | 5347 | spectra_subsetting
⠧ | 5348 | spectra_subsetting
⠇ | 5349 | spectra_subsetting
⠏ | 5350 | spectra_subsetting
⠋ | 5351 | spectra_subsetting
⠙ | 5352 | spectra_subsetting
⠹ | 5353 | spectra_subsetting
⠸ | 5354 | spectra_subsetting
⠼ | 5355 | spectra_subsetting
⠴ | 5356 | spectra_subsetting
⠦ | 5357 | spectra_subsetting
⠧ | 5358 | spectra_subsetting
⠇ | 5359 | spectra_subsetting
⠏ | 5360 | spectra_subsetting
⠋ | 5361 | spectra_subsetting
⠙ | 5362 | spectra_subsetting
⠹ | 5363 | spectra_subsetting
⠸ | 5364 | spectra_subsetting
⠼ | 5365 | spectra_subsetting
⠴ | 5366 | spectra_subsetting
⠦ | 5367 | spectra_subsetting
⠧ | 5368 | spectra_subsetting
⠇ | 5369 | spectra_subsetting
⠏ | 5370 | spectra_subsetting
⠋ | 5371 | spectra_subsetting
⠙ | 5372 | spectra_subsetting
⠹ | 5373 | spectra_subsetting
⠸ | 5374 | spectra_subsetting
⠼ | 5375 | spectra_subsetting
⠴ | 5376 | spectra_subsetting
⠦ | 5377 | spectra_subsetting
⠧ | 5378 | spectra_subsetting
⠇ | 5379 | spectra_subsetting
⠏ | 5380 | spectra_subsetting
⠋ | 5381 | spectra_subsetting
⠙ | 5382 | spectra_subsetting
⠹ | 5383 | spectra_subsetting
⠸ | 5384 | spectra_subsetting
⠼ | 5385 | spectra_subsetting
⠴ | 5386 | spectra_subsetting
⠦ | 5387 | spectra_subsetting
⠧ | 5388 | spectra_subsetting
⠇ | 5389 | spectra_subsetting
⠏ | 5390 | spectra_subsetting
⠋ | 5391 | spectra_subsetting
⠙ | 5392 | spectra_subsetting
⠹ | 5393 | spectra_subsetting
⠸ | 5394 | spectra_subsetting
⠼ | 5395 | spectra_subsetting
⠴ | 5396 | spectra_subsetting
⠦ | 5397 | spectra_subsetting
⠧ | 5398 | spectra_subsetting
⠇ | 5399 | spectra_subsetting
⠏ | 5400 | spectra_subsetting
⠋ | 5401 | spectra_subsetting
⠙ | 5402 | spectra_subsetting
⠹ | 5403 | spectra_subsetting
⠸ | 5404 | spectra_subsetting
⠼ | 5405 | spectra_subsetting
⠴ | 5406 | spectra_subsetting
⠦ | 5407 | spectra_subsetting
⠧ | 5408 | spectra_subsetting
⠇ | 5409 | spectra_subsetting
⠏ | 5410 | spectra_subsetting
⠋ | 5411 | spectra_subsetting
⠙ | 5412 | spectra_subsetting
⠹ | 5413 | spectra_subsetting
⠸ | 5414 | spectra_subsetting
⠼ | 5415 | spectra_subsetting
⠴ | 5416 | spectra_subsetting
⠦ | 5417 | spectra_subsetting
⠧ | 5418 | spectra_subsetting
⠇ | 5419 | spectra_subsetting
⠏ | 5420 | spectra_subsetting
⠋ | 5421 | spectra_subsetting
⠙ | 5422 | spectra_subsetting
⠹ | 5423 | spectra_subsetting
⠸ | 5424 | spectra_subsetting
⠼ | 5425 | spectra_subsetting
⠴ | 5426 | spectra_subsetting
⠦ | 5427 | spectra_subsetting
⠧ | 5428 | spectra_subsetting
⠇ | 5429 | spectra_subsetting
⠏ | 5430 | spectra_subsetting
⠋ | 5431 | spectra_subsetting
⠙ | 5432 | spectra_subsetting
⠹ | 5433 | spectra_subsetting
⠸ | 5434 | spectra_subsetting
⠼ | 5435 | spectra_subsetting
⠴ | 5436 | spectra_subsetting
⠦ | 5437 | spectra_subsetting
⠧ | 5438 | spectra_subsetting
⠇ | 5439 | spectra_subsetting
⠏ | 5440 | spectra_subsetting
⠋ | 5441 | spectra_subsetting
⠙ | 5442 | spectra_subsetting
⠹ | 5443 | spectra_subsetting
⠸ | 5444 | spectra_subsetting
⠼ | 5445 | spectra_subsetting
⠴ | 5446 | spectra_subsetting
⠦ | 5447 | spectra_subsetting
⠧ | 5448 | spectra_subsetting
⠇ | 5449 | spectra_subsetting
⠏ | 5450 | spectra_subsetting
⠋ | 5451 | spectra_subsetting
⠙ | 5452 | spectra_subsetting
⠹ | 5453 | spectra_subsetting
⠸ | 5454 | spectra_subsetting
⠼ | 5455 | spectra_subsetting
⠴ | 5456 | spectra_subsetting
⠦ | 5457 | spectra_subsetting
⠧ | 5458 | spectra_subsetting
⠇ | 5459 | spectra_subsetting
⠏ | 5460 | spectra_subsetting
⠋ | 5461 | spectra_subsetting
⠙ | 5462 | spectra_subsetting
⠹ | 5463 | spectra_subsetting
⠸ | 5464 | spectra_subsetting
⠼ | 5465 | spectra_subsetting
⠴ | 5466 | spectra_subsetting
⠦ | 5467 | spectra_subsetting
⠧ | 5468 | spectra_subsetting
⠇ | 5469 | spectra_subsetting
⠏ | 5470 | spectra_subsetting
⠋ | 5471 | spectra_subsetting
⠙ | 5472 | spectra_subsetting
⠹ | 5473 | spectra_subsetting
⠸ | 5474 | spectra_subsetting
⠼ | 5475 | spectra_subsetting
⠴ | 5476 | spectra_subsetting
⠦ | 5477 | spectra_subsetting
⠧ | 5478 | spectra_subsetting
⠇ | 5479 | spectra_subsetting
⠏ | 5480 | spectra_subsetting
⠋ | 5481 | spectra_subsetting
⠙ | 5482 | spectra_subsetting
⠹ | 5483 | spectra_subsetting
⠸ | 5484 | spectra_subsetting
⠼ | 5485 | spectra_subsetting
⠴ | 5486 | spectra_subsetting
⠦ | 5487 | spectra_subsetting
⠧ | 5488 | spectra_subsetting
⠇ | 5489 | spectra_subsetting
⠏ | 5490 | spectra_subsetting
⠋ | 5491 | spectra_subsetting
⠙ | 5492 | spectra_subsetting
⠹ | 5493 | spectra_subsetting
⠸ | 5494 | spectra_subsetting
⠼ | 5495 | spectra_subsetting
⠴ | 5496 | spectra_subsetting
⠦ | 5497 | spectra_subsetting
⠧ | 5498 | spectra_subsetting
⠇ | 5499 | spectra_subsetting
⠏ | 5500 | spectra_subsetting
⠋ | 5501 | spectra_subsetting
⠙ | 5502 | spectra_subsetting
⠹ | 5503 | spectra_subsetting
⠸ | 5504 | spectra_subsetting
⠼ | 5505 | spectra_subsetting
⠴ | 5506 | spectra_subsetting
⠦ | 5507 | spectra_subsetting
⠧ | 5508 | spectra_subsetting
⠇ | 5509 | spectra_subsetting
⠏ | 5510 | spectra_subsetting
⠋ | 5511 | spectra_subsetting
⠙ | 5512 | spectra_subsetting
⠹ | 5513 | spectra_subsetting
⠸ | 5514 | spectra_subsetting
⠼ | 5515 | spectra_subsetting
⠴ | 5516 | spectra_subsetting
⠦ | 5517 | spectra_subsetting
⠧ | 5518 | spectra_subsetting
⠇ | 5519 | spectra_subsetting
⠏ | 5520 | spectra_subsetting
⠋ | 5521 | spectra_subsetting
⠙ | 5522 | spectra_subsetting
⠹ | 5523 | spectra_subsetting
⠸ | 5524 | spectra_subsetting
⠼ | 5525 | spectra_subsetting
⠴ | 5526 | spectra_subsetting
⠦ | 5527 | spectra_subsetting
⠧ | 5528 | spectra_subsetting
⠇ | 5529 | spectra_subsetting
⠏ | 5530 | spectra_subsetting
⠋ | 5531 | spectra_subsetting
⠙ | 5532 | spectra_subsetting
⠹ | 5533 | spectra_subsetting
⠸ | 5534 | spectra_subsetting
⠼ | 5535 | spectra_subsetting
⠴ | 5536 | spectra_subsetting
⠦ | 5537 | spectra_subsetting
⠧ | 5538 | spectra_subsetting
⠇ | 5539 | spectra_subsetting
⠏ | 5540 | spectra_subsetting
⠋ | 5541 | spectra_subsetting
⠙ | 5542 | spectra_subsetting
⠹ | 5543 | spectra_subsetting
⠸ | 5544 | spectra_subsetting
⠼ | 5545 | spectra_subsetting
⠴ | 5546 | spectra_subsetting
⠦ | 5547 | spectra_subsetting
⠧ | 5548 | spectra_subsetting
⠇ | 5549 | spectra_subsetting
⠏ | 5550 | spectra_subsetting
⠋ | 5551 | spectra_subsetting
⠙ | 5552 | spectra_subsetting
⠹ | 5553 | spectra_subsetting
⠸ | 5554 | spectra_subsetting
⠼ | 5555 | spectra_subsetting
⠴ | 5556 | spectra_subsetting
⠦ | 5557 | spectra_subsetting
⠧ | 5558 | spectra_subsetting
⠇ | 5559 | spectra_subsetting
⠏ | 5560 | spectra_subsetting
⠋ | 5561 | spectra_subsetting
⠙ | 5562 | spectra_subsetting
⠹ | 5563 | spectra_subsetting
⠸ | 5564 | spectra_subsetting
⠼ | 5565 | spectra_subsetting
⠴ | 5566 | spectra_subsetting
⠦ | 5567 | spectra_subsetting
⠧ | 5568 | spectra_subsetting
⠇ | 5569 | spectra_subsetting
⠏ | 5570 | spectra_subsetting
⠋ | 5571 | spectra_subsetting
⠙ | 5572 | spectra_subsetting
⠹ | 5573 | spectra_subsetting
⠸ | 5574 | spectra_subsetting
⠼ | 5575 | spectra_subsetting
⠴ | 5576 | spectra_subsetting
⠦ | 5577 | spectra_subsetting
⠧ | 5578 | spectra_subsetting
⠇ | 5579 | spectra_subsetting
⠏ | 5580 | spectra_subsetting
⠋ | 5581 | spectra_subsetting
⠙ | 5582 | spectra_subsetting
⠹ | 5583 | spectra_subsetting
⠸ | 5584 | spectra_subsetting
⠼ | 5585 | spectra_subsetting
⠴ | 5586 | spectra_subsetting
⠦ | 5587 | spectra_subsetting
⠧ | 5588 | spectra_subsetting
⠇ | 5589 | spectra_subsetting
⠏ | 5590 | spectra_subsetting
⠋ | 5591 | spectra_subsetting
⠙ | 5592 | spectra_subsetting
⠹ | 5593 | spectra_subsetting
⠸ | 5594 | spectra_subsetting
⠼ | 5595 | spectra_subsetting
⠴ | 5596 | spectra_subsetting
⠦ | 5597 | spectra_subsetting
⠧ | 5598 | spectra_subsetting
⠇ | 5599 | spectra_subsetting
⠏ | 5600 | spectra_subsetting
⠋ | 5601 | spectra_subsetting
⠙ | 5602 | spectra_subsetting
⠹ | 5603 | spectra_subsetting
⠸ | 5604 | spectra_subsetting
⠼ | 5605 | spectra_subsetting
⠴ | 5606 | spectra_subsetting
⠦ | 5607 | spectra_subsetting
⠧ | 5608 | spectra_subsetting
⠇ | 5609 | spectra_subsetting
⠏ | 5610 | spectra_subsetting
⠋ | 5611 | spectra_subsetting
⠙ | 5612 | spectra_subsetting
⠹ | 5613 | spectra_subsetting
⠸ | 5614 | spectra_subsetting
⠼ | 5615 | spectra_subsetting
⠴ | 5616 | spectra_subsetting
⠦ | 5617 | spectra_subsetting
⠧ | 5618 | spectra_subsetting
⠇ | 5619 | spectra_subsetting
⠏ | 5620 | spectra_subsetting
⠋ | 5621 | spectra_subsetting
⠙ | 5622 | spectra_subsetting
⠹ | 5623 | spectra_subsetting
⠸ | 5624 | spectra_subsetting
⠼ | 5625 | spectra_subsetting
⠴ | 5626 | spectra_subsetting
⠦ | 5627 | spectra_subsetting
⠧ | 5628 | spectra_subsetting
⠇ | 5629 | spectra_subsetting
⠏ | 5630 | spectra_subsetting
⠋ | 5631 | spectra_subsetting
⠙ | 5632 | spectra_subsetting
⠹ | 5633 | spectra_subsetting
⠸ | 5634 | spectra_subsetting
⠼ | 5635 | spectra_subsetting
⠴ | 5636 | spectra_subsetting
⠦ | 5637 | spectra_subsetting
⠧ | 5638 | spectra_subsetting
⠇ | 5639 | spectra_subsetting
⠏ | 5640 | spectra_subsetting
⠋ | 5641 | spectra_subsetting
⠙ | 5642 | spectra_subsetting
⠹ | 5643 | spectra_subsetting
⠸ | 5644 | spectra_subsetting
⠼ | 5645 | spectra_subsetting
⠴ | 5646 | spectra_subsetting
⠦ | 5647 | spectra_subsetting
⠧ | 5648 | spectra_subsetting
⠇ | 5649 | spectra_subsetting
⠏ | 5650 | spectra_subsetting
⠋ | 5651 | spectra_subsetting
⠙ | 5652 | spectra_subsetting
⠹ | 5653 | spectra_subsetting
⠸ | 5654 | spectra_subsetting
⠼ | 5655 | spectra_subsetting
⠴ | 5656 | spectra_subsetting
⠦ | 5657 | spectra_subsetting
⠧ | 5658 | spectra_subsetting
⠇ | 5659 | spectra_subsetting
⠏ | 5660 | spectra_subsetting
⠋ | 5661 | spectra_subsetting
⠙ | 5662 | spectra_subsetting
⠹ | 5663 | spectra_subsetting
⠸ | 5664 | spectra_subsetting
⠼ | 5665 | spectra_subsetting
⠴ | 5666 | spectra_subsetting
⠦ | 5667 | spectra_subsetting
⠧ | 5668 | spectra_subsetting
⠇ | 5669 | spectra_subsetting
⠏ | 5670 | spectra_subsetting
⠋ | 5671 | spectra_subsetting
⠙ | 5672 | spectra_subsetting
⠹ | 5673 | spectra_subsetting
⠸ | 5674 | spectra_subsetting
⠼ | 5675 | spectra_subsetting
⠴ | 5676 | spectra_subsetting
⠦ | 5677 | spectra_subsetting
⠧ | 5678 | spectra_subsetting
⠇ | 5679 | spectra_subsetting
⠏ | 5680 | spectra_subsetting
⠋ | 5681 | spectra_subsetting
⠙ | 5682 | spectra_subsetting
⠹ | 5683 | spectra_subsetting
⠸ | 5684 | spectra_subsetting
⠼ | 5685 | spectra_subsetting
⠴ | 5686 | spectra_subsetting
⠦ | 5687 | spectra_subsetting
⠧ | 5688 | spectra_subsetting
⠇ | 5689 | spectra_subsetting
⠏ | 5690 | spectra_subsetting
⠋ | 5691 | spectra_subsetting
⠙ | 5692 | spectra_subsetting
⠹ | 5693 | spectra_subsetting
⠸ | 5694 | spectra_subsetting
⠼ | 5695 | spectra_subsetting
⠴ | 5696 | spectra_subsetting
⠦ | 5697 | spectra_subsetting
⠧ | 5698 | spectra_subsetting
⠇ | 5699 | spectra_subsetting
⠏ | 5700 | spectra_subsetting
⠋ | 5701 | spectra_subsetting
⠙ | 5702 | spectra_subsetting
⠹ | 5703 | spectra_subsetting
⠸ | 5704 | spectra_subsetting
⠼ | 5705 | spectra_subsetting
⠴ | 5706 | spectra_subsetting
⠦ | 5707 | spectra_subsetting
⠧ | 5708 | spectra_subsetting
⠇ | 5709 | spectra_subsetting
⠏ | 5710 | spectra_subsetting
⠋ | 5711 | spectra_subsetting
⠙ | 5712 | spectra_subsetting
⠹ | 5713 | spectra_subsetting
⠸ | 5714 | spectra_subsetting
⠼ | 5715 | spectra_subsetting
⠴ | 5716 | spectra_subsetting
⠦ | 5717 | spectra_subsetting
⠧ | 5718 | spectra_subsetting
⠇ | 5719 | spectra_subsetting
⠏ | 5720 | spectra_subsetting
⠋ | 5721 | spectra_subsetting
⠙ | 5722 | spectra_subsetting
⠹ | 5723 | spectra_subsetting
⠸ | 5724 | spectra_subsetting
⠼ | 5725 | spectra_subsetting
⠴ | 5726 | spectra_subsetting
⠦ | 5727 | spectra_subsetting
⠧ | 5728 | spectra_subsetting
⠇ | 5729 | spectra_subsetting
⠏ | 5730 | spectra_subsetting
⠋ | 5731 | spectra_subsetting
⠙ | 5732 | spectra_subsetting
⠹ | 5733 | spectra_subsetting
⠸ | 5734 | spectra_subsetting
⠼ | 5735 | spectra_subsetting
⠴ | 5736 | spectra_subsetting
⠦ | 5737 | spectra_subsetting
⠧ | 5738 | spectra_subsetting
⠇ | 5739 | spectra_subsetting
⠏ | 5740 | spectra_subsetting
⠋ | 5741 | spectra_subsetting
⠙ | 5742 | spectra_subsetting
⠹ | 5743 | spectra_subsetting
⠸ | 5744 | spectra_subsetting
⠼ | 5745 | spectra_subsetting
⠴ | 5746 | spectra_subsetting
⠦ | 5747 | spectra_subsetting
⠧ | 5748 | spectra_subsetting
⠇ | 5749 | spectra_subsetting
⠏ | 5750 | spectra_subsetting
⠋ | 5751 | spectra_subsetting
⠙ | 5752 | spectra_subsetting
⠹ | 5753 | spectra_subsetting
⠸ | 5754 | spectra_subsetting
⠼ | 5755 | spectra_subsetting
⠴ | 5756 | spectra_subsetting
⠦ | 5757 | spectra_subsetting
⠧ | 5758 | spectra_subsetting
⠇ | 5759 | spectra_subsetting
⠏ | 5760 | spectra_subsetting
⠋ | 5761 | spectra_subsetting
⠙ | 5762 | spectra_subsetting
⠹ | 5763 | spectra_subsetting
⠸ | 5764 | spectra_subsetting
⠼ | 5765 | spectra_subsetting
⠴ | 5766 | spectra_subsetting
⠦ | 5767 | spectra_subsetting
⠧ | 5768 | spectra_subsetting
⠇ | 5769 | spectra_subsetting
⠏ | 5770 | spectra_subsetting
⠋ | 5771 | spectra_subsetting
⠙ | 5772 | spectra_subsetting
⠹ | 5773 | spectra_subsetting
⠸ | 5774 | spectra_subsetting
⠼ | 5775 | spectra_subsetting
⠴ | 5776 | spectra_subsetting
⠦ | 5777 | spectra_subsetting
⠧ | 5778 | spectra_subsetting
⠇ | 5779 | spectra_subsetting
⠏ | 5780 | spectra_subsetting
⠋ | 5781 | spectra_subsetting
⠙ | 5782 | spectra_subsetting
⠹ | 5783 | spectra_subsetting
⠸ | 5784 | spectra_subsetting
⠼ | 5785 | spectra_subsetting
⠴ | 5786 | spectra_subsetting
⠦ | 5787 | spectra_subsetting
⠧ | 5788 | spectra_subsetting
⠇ | 5789 | spectra_subsetting
⠏ | 5790 | spectra_subsetting
⠋ | 5791 | spectra_subsetting
⠙ | 5792 | spectra_subsetting
⠹ | 5793 | spectra_subsetting
⠸ | 5794 | spectra_subsetting
⠼ | 5795 | spectra_subsetting
⠴ | 5796 | spectra_subsetting
⠦ | 5797 | spectra_subsetting
⠧ | 5798 | spectra_subsetting
⠇ | 5799 | spectra_subsetting
⠏ | 5800 | spectra_subsetting
⠋ | 5801 | spectra_subsetting
⠙ | 5802 | spectra_subsetting
⠹ | 5803 | spectra_subsetting
⠸ | 5804 | spectra_subsetting
⠼ | 5805 | spectra_subsetting
⠴ | 5806 | spectra_subsetting
⠦ | 5807 | spectra_subsetting
⠧ | 5808 | spectra_subsetting
⠇ | 5809 | spectra_subsetting
⠏ | 5810 | spectra_subsetting
⠋ | 5811 | spectra_subsetting
⠙ | 5812 | spectra_subsetting
⠹ | 5813 | spectra_subsetting
⠸ | 5814 | spectra_subsetting
⠼ | 5815 | spectra_subsetting
⠴ | 5816 | spectra_subsetting
⠦ | 5817 | spectra_subsetting
⠧ | 5818 | spectra_subsetting
⠇ | 5819 | spectra_subsetting
⠏ | 5820 | spectra_subsetting
⠋ | 5821 | spectra_subsetting
⠙ | 5822 | spectra_subsetting
⠹ | 5823 | spectra_subsetting
⠸ | 5824 | spectra_subsetting
⠼ | 5825 | spectra_subsetting
⠴ | 5826 | spectra_subsetting
⠦ | 5827 | spectra_subsetting
⠧ | 5828 | spectra_subsetting
⠇ | 5829 | spectra_subsetting
⠏ | 5830 | spectra_subsetting
⠋ | 5831 | spectra_subsetting
⠙ | 5832 | spectra_subsetting
⠹ | 5833 | spectra_subsetting
⠸ | 5834 | spectra_subsetting
⠼ | 5835 | spectra_subsetting
⠴ | 5836 | spectra_subsetting
⠦ | 5837 | spectra_subsetting
⠧ | 5838 | spectra_subsetting
⠇ | 5839 | spectra_subsetting
⠏ | 5840 | spectra_subsetting
⠋ | 5841 | spectra_subsetting
⠙ | 5842 | spectra_subsetting
⠹ | 5843 | spectra_subsetting
⠸ | 5844 | spectra_subsetting
⠼ | 5845 | spectra_subsetting
⠴ | 5846 | spectra_subsetting
⠦ | 5847 | spectra_subsetting
⠧ | 5848 | spectra_subsetting
⠇ | 5849 | spectra_subsetting
⠏ | 5850 | spectra_subsetting
⠋ | 5851 | spectra_subsetting
⠙ | 5852 | spectra_subsetting
⠹ | 5853 | spectra_subsetting
⠸ | 5854 | spectra_subsetting
⠼ | 5855 | spectra_subsetting
⠴ | 5856 | spectra_subsetting
⠦ | 5857 | spectra_subsetting
⠧ | 5858 | spectra_subsetting
⠇ | 5859 | spectra_subsetting
⠏ | 5860 | spectra_subsetting
⠋ | 5861 | spectra_subsetting
⠙ | 5862 | spectra_subsetting
⠹ | 5863 | spectra_subsetting
⠸ | 5864 | spectra_subsetting
⠼ | 5865 | spectra_subsetting
⠴ | 5866 | spectra_subsetting
⠦ | 5867 | spectra_subsetting
⠧ | 5868 | spectra_subsetting
⠇ | 5869 | spectra_subsetting
⠏ | 5870 | spectra_subsetting
⠋ | 5871 | spectra_subsetting
⠙ | 5872 | spectra_subsetting
⠹ | 5873 | spectra_subsetting
⠸ | 5874 | spectra_subsetting
⠼ | 5875 | spectra_subsetting
⠴ | 5876 | spectra_subsetting
⠦ | 5877 | spectra_subsetting
⠧ | 5878 | spectra_subsetting
⠇ | 5879 | spectra_subsetting
⠏ | 5880 | spectra_subsetting
⠋ | 5881 | spectra_subsetting
⠙ | 5882 | spectra_subsetting
⠹ | 5883 | spectra_subsetting
⠸ | 5884 | spectra_subsetting
⠼ | 5885 | spectra_subsetting
⠴ | 5886 | spectra_subsetting
⠦ | 5887 | spectra_subsetting
⠧ | 5888 | spectra_subsetting
⠇ | 5889 | spectra_subsetting
⠏ | 5890 | spectra_subsetting
⠋ | 5891 | spectra_subsetting
⠙ | 5892 | spectra_subsetting
⠹ | 5893 | spectra_subsetting
⠸ | 5894 | spectra_subsetting
⠼ | 5895 | spectra_subsetting
⠴ | 5896 | spectra_subsetting
⠦ | 5897 | spectra_subsetting
⠧ | 5898 | spectra_subsetting
⠇ | 5899 | spectra_subsetting
⠏ | 5900 | spectra_subsetting
⠋ | 5901 | spectra_subsetting
⠙ | 5902 | spectra_subsetting
⠹ | 5903 | spectra_subsetting
⠸ | 5904 | spectra_subsetting
⠼ | 5905 | spectra_subsetting
⠴ | 5906 | spectra_subsetting
⠦ | 5907 | spectra_subsetting
⠧ | 5908 | spectra_subsetting
⠇ | 5909 | spectra_subsetting
⠏ | 5910 | spectra_subsetting
⠋ | 5911 | spectra_subsetting
⠙ | 5912 | spectra_subsetting
⠹ | 5913 | spectra_subsetting
⠸ | 5914 | spectra_subsetting
⠼ | 5915 | spectra_subsetting
⠴ | 5916 | spectra_subsetting
⠦ | 5917 | spectra_subsetting
⠧ | 5918 | spectra_subsetting
⠇ | 5919 | spectra_subsetting
⠏ | 5920 | spectra_subsetting
⠋ | 5921 | spectra_subsetting
⠙ | 5922 | spectra_subsetting
⠹ | 5923 | spectra_subsetting
⠸ | 5924 | spectra_subsetting
⠼ | 5925 | spectra_subsetting
⠴ | 5926 | spectra_subsetting
⠦ | 5927 | spectra_subsetting
⠧ | 5928 | spectra_subsetting
⠇ | 5929 | spectra_subsetting
⠏ | 5930 | spectra_subsetting
⠋ | 5931 | spectra_subsetting
⠙ | 5932 | spectra_subsetting
⠹ | 5933 | spectra_subsetting
⠸ | 5934 | spectra_subsetting
⠼ | 5935 | spectra_subsetting
⠴ | 5936 | spectra_subsetting
⠦ | 5937 | spectra_subsetting
⠧ | 5938 | spectra_subsetting
⠇ | 5939 | spectra_subsetting
⠏ | 5940 | spectra_subsetting
⠋ | 5941 | spectra_subsetting
⠙ | 5942 | spectra_subsetting
⠹ | 5943 | spectra_subsetting
⠸ | 5944 | spectra_subsetting
⠼ | 5945 | spectra_subsetting
⠴ | 5946 | spectra_subsetting
⠦ | 5947 | spectra_subsetting
⠧ | 5948 | spectra_subsetting
⠇ | 5949 | spectra_subsetting
⠏ | 5950 | spectra_subsetting
⠋ | 5951 | spectra_subsetting
⠙ | 5952 | spectra_subsetting
⠹ | 5953 | spectra_subsetting
⠸ | 5954 | spectra_subsetting
⠼ | 5955 | spectra_subsetting
⠴ | 5956 | spectra_subsetting
⠦ | 5957 | spectra_subsetting
⠧ | 5958 | spectra_subsetting
⠇ | 5959 | spectra_subsetting
⠏ | 5960 | spectra_subsetting
⠋ | 5961 | spectra_subsetting
⠙ | 5962 | spectra_subsetting
⠹ | 5963 | spectra_subsetting
⠸ | 5964 | spectra_subsetting
⠼ | 5965 | spectra_subsetting
⠴ | 5966 | spectra_subsetting
⠦ | 5967 | spectra_subsetting
⠧ | 5968 | spectra_subsetting
⠇ | 5969 | spectra_subsetting
⠏ | 5970 | spectra_subsetting
⠋ | 5971 | spectra_subsetting
⠙ | 5972 | spectra_subsetting
⠹ | 5973 | spectra_subsetting
⠸ | 5974 | spectra_subsetting
⠼ | 5975 | spectra_subsetting
⠴ | 5976 | spectra_subsetting
⠦ | 5977 | spectra_subsetting
⠧ | 5978 | spectra_subsetting
⠇ | 5979 | spectra_subsetting
⠏ | 5980 | spectra_subsetting
⠋ | 5981 | spectra_subsetting
⠙ | 5982 | spectra_subsetting
⠹ | 5983 | spectra_subsetting
⠸ | 5984 | spectra_subsetting
⠼ | 5985 | spectra_subsetting
⠴ | 5986 | spectra_subsetting
⠦ | 5987 | spectra_subsetting
⠧ | 5988 | spectra_subsetting
⠇ | 5989 | spectra_subsetting
⠏ | 5990 | spectra_subsetting
⠋ | 5991 | spectra_subsetting
⠙ | 5992 | spectra_subsetting
⠹ | 5993 | spectra_subsetting
⠸ | 5994 | spectra_subsetting
⠼ | 5995 | spectra_subsetting
⠴ | 5996 | spectra_subsetting
⠦ | 5997 | spectra_subsetting
⠧ | 5998 | spectra_subsetting
⠇ | 5999 | spectra_subsetting
⠏ | 6000 | spectra_subsetting
⠋ | 6001 | spectra_subsetting
⠙ | 6002 | spectra_subsetting
⠹ | 6003 | spectra_subsetting
⠸ | 6004 | spectra_subsetting
⠼ | 6005 | spectra_subsetting
⠴ | 6006 | spectra_subsetting
⠦ | 6007 | spectra_subsetting
⠧ | 6008 | spectra_subsetting
⠇ | 6009 | spectra_subsetting
⠏ | 6010 | spectra_subsetting
⠋ | 6011 | spectra_subsetting
⠙ | 6012 | spectra_subsetting
⠹ | 6013 | spectra_subsetting
⠸ | 6014 | spectra_subsetting
⠼ | 6015 | spectra_subsetting
⠴ | 6016 | spectra_subsetting
⠦ | 6017 | spectra_subsetting
⠧ | 6018 | spectra_subsetting
⠇ | 6019 | spectra_subsetting
⠏ | 6020 | spectra_subsetting
⠋ | 6021 | spectra_subsetting
⠙ | 6022 | spectra_subsetting
⠹ | 6023 | spectra_subsetting
⠸ | 6024 | spectra_subsetting
⠼ | 6025 | spectra_subsetting
⠴ | 6026 | spectra_subsetting
⠦ | 6027 | spectra_subsetting
⠧ | 6028 | spectra_subsetting
⠇ | 6029 | spectra_subsetting
⠏ | 6030 | spectra_subsetting
⠋ | 6031 | spectra_subsetting
⠙ | 6032 | spectra_subsetting
⠹ | 6033 | spectra_subsetting
⠸ | 6034 | spectra_subsetting
⠼ | 6035 | spectra_subsetting
⠴ | 6036 | spectra_subsetting
⠦ | 6037 | spectra_subsetting
⠧ | 6038 | spectra_subsetting
⠇ | 6039 | spectra_subsetting
⠏ | 6040 | spectra_subsetting
⠋ | 6041 | spectra_subsetting
⠙ | 6042 | spectra_subsetting
⠹ | 6043 | spectra_subsetting
⠸ | 6044 | spectra_subsetting
⠼ | 6045 | spectra_subsetting
⠴ | 6046 | spectra_subsetting
⠦ | 6047 | spectra_subsetting
⠧ | 6048 | spectra_subsetting
⠇ | 6049 | spectra_subsetting
⠏ | 6050 | spectra_subsetting
⠋ | 6051 | spectra_subsetting
⠙ | 6052 | spectra_subsetting
⠹ | 6053 | spectra_subsetting
⠸ | 6054 | spectra_subsetting
⠼ | 6055 | spectra_subsetting
⠴ | 6056 | spectra_subsetting
⠦ | 6057 | spectra_subsetting
⠧ | 6058 | spectra_subsetting
⠇ | 6059 | spectra_subsetting
⠏ | 6060 | spectra_subsetting
⠋ | 6061 | spectra_subsetting
⠙ | 6062 | spectra_subsetting
⠹ | 6063 | spectra_subsetting
⠸ | 6064 | spectra_subsetting
⠼ | 6065 | spectra_subsetting
⠴ | 6066 | spectra_subsetting
⠦ | 6067 | spectra_subsetting
⠧ | 6068 | spectra_subsetting
⠇ | 6069 | spectra_subsetting
⠏ | 6070 | spectra_subsetting
⠋ | 6071 | spectra_subsetting
⠙ | 6072 | spectra_subsetting
⠹ | 6073 | spectra_subsetting
⠸ | 6074 | spectra_subsetting
⠼ | 6075 | spectra_subsetting
⠴ | 6076 | spectra_subsetting
⠦ | 6077 | spectra_subsetting
⠧ | 6078 | spectra_subsetting
⠇ | 6079 | spectra_subsetting
⠏ | 6080 | spectra_subsetting
⠋ | 6081 | spectra_subsetting
⠙ | 6082 | spectra_subsetting
⠹ | 6083 | spectra_subsetting
⠸ | 6084 | spectra_subsetting
⠼ | 6085 | spectra_subsetting
⠴ | 6086 | spectra_subsetting
⠦ | 6087 | spectra_subsetting
⠧ | 6088 | spectra_subsetting
⠇ | 6089 | spectra_subsetting
⠏ | 6090 | spectra_subsetting
⠋ | 6091 | spectra_subsetting
⠙ | 6092 | spectra_subsetting
⠹ | 6093 | spectra_subsetting
⠸ | 6094 | spectra_subsetting
⠼ | 6095 | spectra_subsetting
⠴ | 6096 | spectra_subsetting
⠦ | 6097 | spectra_subsetting
⠧ | 6098 | spectra_subsetting
⠇ | 6099 | spectra_subsetting
⠏ | 6100 | spectra_subsetting
⠋ | 6101 | spectra_subsetting
⠙ | 6102 | spectra_subsetting
⠹ | 6103 | spectra_subsetting
⠸ | 6104 | spectra_subsetting
⠼ | 6105 | spectra_subsetting
⠴ | 6106 | spectra_subsetting
⠦ | 6107 | spectra_subsetting
⠧ | 6108 | spectra_subsetting
⠇ | 6109 | spectra_subsetting
⠏ | 6110 | spectra_subsetting
⠋ | 6111 | spectra_subsetting
⠙ | 6112 | spectra_subsetting
⠹ | 6113 | spectra_subsetting
⠸ | 6114 | spectra_subsetting
⠼ | 6115 | spectra_subsetting
⠴ | 6116 | spectra_subsetting
⠦ | 6117 | spectra_subsetting
⠧ | 6118 | spectra_subsetting
⠇ | 6119 | spectra_subsetting
⠏ | 6120 | spectra_subsetting
⠋ | 6121 | spectra_subsetting
⠙ | 6122 | spectra_subsetting
⠹ | 6123 | spectra_subsetting
⠸ | 6124 | spectra_subsetting
⠼ | 6125 | spectra_subsetting
⠴ | 6126 | spectra_subsetting
⠦ | 6127 | spectra_subsetting
⠧ | 6128 | spectra_subsetting
⠇ | 6129 | spectra_subsetting
⠏ | 6130 | spectra_subsetting
⠋ | 6131 | spectra_subsetting
⠙ | 6132 | spectra_subsetting
⠹ | 6133 | spectra_subsetting
⠸ | 6134 | spectra_subsetting
⠼ | 6135 | spectra_subsetting
⠴ | 6136 | spectra_subsetting
⠦ | 6137 | spectra_subsetting
⠧ | 6138 | spectra_subsetting
⠇ | 6139 | spectra_subsetting
⠏ | 6140 | spectra_subsetting
⠋ | 6141 | spectra_subsetting
⠙ | 6142 | spectra_subsetting
⠹ | 6143 | spectra_subsetting
⠸ | 6144 | spectra_subsetting
⠼ | 6145 | spectra_subsetting
⠴ | 6146 | spectra_subsetting
⠦ | 6147 | spectra_subsetting
⠧ | 6148 | spectra_subsetting
⠇ | 6149 | spectra_subsetting
⠏ | 6150 | spectra_subsetting
⠋ | 6151 | spectra_subsetting
⠙ | 6152 | spectra_subsetting
⠹ | 6153 | spectra_subsetting
⠸ | 6154 | spectra_subsetting
⠼ | 6155 | spectra_subsetting
⠴ | 6156 | spectra_subsetting
⠦ | 6157 | spectra_subsetting
⠧ | 6158 | spectra_subsetting
⠇ | 6159 | spectra_subsetting
⠏ | 6160 | spectra_subsetting
⠋ | 6161 | spectra_subsetting
⠙ | 6162 | spectra_subsetting
⠹ | 6163 | spectra_subsetting
⠸ | 6164 | spectra_subsetting
⠼ | 6165 | spectra_subsetting
⠴ | 6166 | spectra_subsetting
⠦ | 6167 | spectra_subsetting
⠧ | 6168 | spectra_subsetting
⠇ | 6169 | spectra_subsetting
⠏ | 6170 | spectra_subsetting
⠋ | 6171 | spectra_subsetting
⠙ | 6172 | spectra_subsetting
⠹ | 6173 | spectra_subsetting
⠸ | 6174 | spectra_subsetting
⠼ | 6175 | spectra_subsetting
⠴ | 6176 | spectra_subsetting
⠦ | 6177 | spectra_subsetting
⠧ | 6178 | spectra_subsetting
⠇ | 6179 | spectra_subsetting
⠏ | 6180 | spectra_subsetting
⠋ | 6181 | spectra_subsetting
⠙ | 6182 | spectra_subsetting
⠹ | 6183 | spectra_subsetting
⠸ | 6184 | spectra_subsetting
⠼ | 6185 | spectra_subsetting
⠴ | 6186 | spectra_subsetting
⠦ | 6187 | spectra_subsetting
⠧ | 6188 | spectra_subsetting
⠇ | 6189 | spectra_subsetting
⠏ | 6190 | spectra_subsetting
⠋ | 6191 | spectra_subsetting
⠙ | 6192 | spectra_subsetting
⠹ | 6193 | spectra_subsetting
⠸ | 6194 | spectra_subsetting
⠼ | 6195 | spectra_subsetting
⠴ | 6196 | spectra_subsetting
⠦ | 6197 | spectra_subsetting
⠧ | 6198 | spectra_subsetting
⠇ | 6199 | spectra_subsetting
⠏ | 6200 | spectra_subsetting
⠋ | 6201 | spectra_subsetting
⠙ | 6202 | spectra_subsetting
⠹ | 6203 | spectra_subsetting
⠸ | 6204 | spectra_subsetting
⠼ | 6205 | spectra_subsetting
⠴ | 6206 | spectra_subsetting
⠦ | 6207 | spectra_subsetting
⠧ | 6208 | spectra_subsetting
⠇ | 6209 | spectra_subsetting
⠏ | 6210 | spectra_subsetting
⠋ | 6211 | spectra_subsetting
⠙ | 6212 | spectra_subsetting
⠹ | 6213 | spectra_subsetting
⠸ | 6214 | spectra_subsetting
⠼ | 6215 | spectra_subsetting
⠴ | 6216 | spectra_subsetting
⠦ | 6217 | spectra_subsetting
⠧ | 6218 | spectra_subsetting
⠇ | 6219 | spectra_subsetting
⠏ | 6220 | spectra_subsetting
⠋ | 6221 | spectra_subsetting
⠙ | 6222 | spectra_subsetting
⠹ | 6223 | spectra_subsetting
⠸ | 6224 | spectra_subsetting
⠼ | 6225 | spectra_subsetting
⠴ | 6226 | spectra_subsetting
⠦ | 6227 | spectra_subsetting
⠧ | 6228 | spectra_subsetting
⠇ | 6229 | spectra_subsetting
⠏ | 6230 | spectra_subsetting
⠋ | 6231 | spectra_subsetting
⠙ | 6232 | spectra_subsetting
⠹ | 6233 | spectra_subsetting
⠸ | 6234 | spectra_subsetting
⠼ | 6235 | spectra_subsetting
⠴ | 6236 | spectra_subsetting
⠦ | 6237 | spectra_subsetting
⠧ | 6238 | spectra_subsetting
⠇ | 6239 | spectra_subsetting
⠏ | 6240 | spectra_subsetting
⠋ | 6241 | spectra_subsetting
⠙ | 6242 | spectra_subsetting
⠹ | 6243 | spectra_subsetting
⠸ | 6244 | spectra_subsetting
⠼ | 6245 | spectra_subsetting
⠴ | 6246 | spectra_subsetting
⠦ | 6247 | spectra_subsetting
⠧ | 6248 | spectra_subsetting
⠇ | 6249 | spectra_subsetting
⠏ | 6250 | spectra_subsetting
⠋ | 6251 | spectra_subsetting
⠙ | 6252 | spectra_subsetting
⠹ | 6253 | spectra_subsetting
⠸ | 6254 | spectra_subsetting
⠼ | 6255 | spectra_subsetting
⠴ | 6256 | spectra_subsetting
⠦ | 6257 | spectra_subsetting
⠧ | 6258 | spectra_subsetting
⠇ | 6259 | spectra_subsetting
⠏ | 6260 | spectra_subsetting
⠋ | 6261 | spectra_subsetting
⠙ | 6262 | spectra_subsetting
⠹ | 6263 | spectra_subsetting
⠸ | 6264 | spectra_subsetting
⠼ | 6265 | spectra_subsetting
⠴ | 6266 | spectra_subsetting
⠦ | 6267 | spectra_subsetting
⠧ | 6268 | spectra_subsetting
⠇ | 6269 | spectra_subsetting
⠏ | 6270 | spectra_subsetting
⠋ | 6271 | spectra_subsetting
⠙ | 6272 | spectra_subsetting
⠹ | 6273 | spectra_subsetting
⠸ | 6274 | spectra_subsetting
⠼ | 6275 | spectra_subsetting
⠴ | 6276 | spectra_subsetting
⠦ | 6277 | spectra_subsetting
⠧ | 6278 | spectra_subsetting
⠇ | 6279 | spectra_subsetting
⠏ | 6280 | spectra_subsetting
⠋ | 6281 | spectra_subsetting
⠙ | 6282 | spectra_subsetting
⠹ | 6283 | spectra_subsetting
⠸ | 6284 | spectra_subsetting
⠼ | 6285 | spectra_subsetting
⠴ | 6286 | spectra_subsetting
⠦ | 6287 | spectra_subsetting
⠧ | 6288 | spectra_subsetting
⠇ | 6289 | spectra_subsetting
⠏ | 6290 | spectra_subsetting
⠋ | 6291 | spectra_subsetting
⠙ | 6292 | spectra_subsetting
⠹ | 6293 | spectra_subsetting
⠸ | 6294 | spectra_subsetting
⠼ | 6295 | spectra_subsetting
⠴ | 6296 | spectra_subsetting
⠦ | 6297 | spectra_subsetting
⠧ | 6298 | spectra_subsetting
⠇ | 6299 | spectra_subsetting
⠏ | 6300 | spectra_subsetting
⠋ | 6301 | spectra_subsetting
⠙ | 6302 | spectra_subsetting
⠹ | 6303 | spectra_subsetting
⠸ | 6304 | spectra_subsetting
⠼ | 6305 | spectra_subsetting
⠴ | 6306 | spectra_subsetting
⠦ | 6307 | spectra_subsetting
⠧ | 6308 | spectra_subsetting
⠇ | 6309 | spectra_subsetting
⠏ | 6310 | spectra_subsetting
⠋ | 6311 | spectra_subsetting
⠙ | 6312 | spectra_subsetting
⠹ | 6313 | spectra_subsetting
⠸ | 6314 | spectra_subsetting
⠼ | 6315 | spectra_subsetting
⠴ | 6316 | spectra_subsetting
⠦ | 6317 | spectra_subsetting
⠧ | 6318 | spectra_subsetting
⠇ | 6319 | spectra_subsetting
⠏ | 6320 | spectra_subsetting
⠋ | 6321 | spectra_subsetting
⠙ | 6322 | spectra_subsetting
⠹ | 6323 | spectra_subsetting
⠸ | 6324 | spectra_subsetting
⠼ | 6325 | spectra_subsetting
⠴ | 6326 | spectra_subsetting
⠦ | 6327 | spectra_subsetting
⠧ | 6328 | spectra_subsetting
⠇ | 6329 | spectra_subsetting
⠏ | 6330 | spectra_subsetting
⠋ | 6331 | spectra_subsetting
⠙ | 6332 | spectra_subsetting
⠹ | 6333 | spectra_subsetting
⠸ | 6334 | spectra_subsetting
⠼ | 6335 | spectra_subsetting
⠴ | 6336 | spectra_subsetting
⠦ | 6337 | spectra_subsetting
⠧ | 6338 | spectra_subsetting
⠇ | 6339 | spectra_subsetting
⠏ | 6340 | spectra_subsetting
⠋ | 6341 | spectra_subsetting
⠙ | 6342 | spectra_subsetting
⠹ | 6343 | spectra_subsetting
⠸ | 6344 | spectra_subsetting
⠼ | 6345 | spectra_subsetting
⠴ | 6346 | spectra_subsetting
⠦ | 6347 | spectra_subsetting
⠧ | 6348 | spectra_subsetting
⠇ | 6349 | spectra_subsetting
⠏ | 6350 | spectra_subsetting
⠋ | 6351 | spectra_subsetting
⠙ | 6352 | spectra_subsetting
⠹ | 6353 | spectra_subsetting
⠸ | 6354 | spectra_subsetting
⠼ | 6355 | spectra_subsetting
⠴ | 6356 | spectra_subsetting
⠦ | 6357 | spectra_subsetting
⠧ | 6358 | spectra_subsetting
⠇ | 6359 | spectra_subsetting
⠏ | 6360 | spectra_subsetting
⠋ | 6361 | spectra_subsetting
⠙ | 6362 | spectra_subsetting
⠹ | 6363 | spectra_subsetting
⠸ | 6364 | spectra_subsetting
⠼ | 6365 | spectra_subsetting
⠴ | 6366 | spectra_subsetting
⠦ | 6367 | spectra_subsetting
⠧ | 6368 | spectra_subsetting
⠇ | 6369 | spectra_subsetting
⠏ | 6370 | spectra_subsetting
⠋ | 6371 | spectra_subsetting
⠙ | 6372 | spectra_subsetting
⠹ | 6373 | spectra_subsetting
⠸ | 6374 | spectra_subsetting
⠼ | 6375 | spectra_subsetting
⠴ | 6376 | spectra_subsetting
⠦ | 6377 | spectra_subsetting
⠧ | 6378 | spectra_subsetting
⠇ | 6379 | spectra_subsetting
⠏ | 6380 | spectra_subsetting
⠋ | 6381 | spectra_subsetting
⠙ | 6382 | spectra_subsetting
⠹ | 6383 | spectra_subsetting
⠸ | 6384 | spectra_subsetting
⠼ | 6385 | spectra_subsetting
⠴ | 6386 | spectra_subsetting
⠦ | 6387 | spectra_subsetting
⠧ | 6388 | spectra_subsetting
⠇ | 6389 | spectra_subsetting
⠏ | 6390 | spectra_subsetting
⠋ | 6391 | spectra_subsetting
⠙ | 6392 | spectra_subsetting
⠹ | 6393 | spectra_subsetting
⠸ | 6394 | spectra_subsetting
⠼ | 6395 | spectra_subsetting
⠴ | 6396 | spectra_subsetting
⠦ | 6397 | spectra_subsetting
⠧ | 6398 | spectra_subsetting
⠇ | 6399 | spectra_subsetting
⠏ | 6400 | spectra_subsetting
⠋ | 6401 | spectra_subsetting
⠙ | 6402 | spectra_subsetting
⠹ | 6403 | spectra_subsetting
⠸ | 6404 | spectra_subsetting
⠼ | 6405 | spectra_subsetting
⠴ | 6406 | spectra_subsetting
⠦ | 6407 | spectra_subsetting
⠧ | 6408 | spectra_subsetting
⠇ | 6409 | spectra_subsetting
⠏ | 6410 | spectra_subsetting
⠋ | 6411 | spectra_subsetting
⠙ | 6412 | spectra_subsetting
⠹ | 6413 | spectra_subsetting
⠸ | 6414 | spectra_subsetting
⠼ | 6415 | spectra_subsetting
⠴ | 6416 | spectra_subsetting
⠦ | 6417 | spectra_subsetting
⠧ | 6418 | spectra_subsetting
⠇ | 6419 | spectra_subsetting
⠏ | 6420 | spectra_subsetting
⠋ | 6421 | spectra_subsetting
⠙ | 6422 | spectra_subsetting
⠹ | 6423 | spectra_subsetting
⠸ | 6424 | spectra_subsetting
⠼ | 6425 | spectra_subsetting
⠴ | 6426 | spectra_subsetting
⠦ | 6427 | spectra_subsetting
⠧ | 6428 | spectra_subsetting
⠇ | 6429 | spectra_subsetting
⠏ | 6430 | spectra_subsetting
⠋ | 6431 | spectra_subsetting
⠙ | 6432 | spectra_subsetting
⠹ | 6433 | spectra_subsetting
⠸ | 6434 | spectra_subsetting
⠼ | 6435 | spectra_subsetting
⠴ | 6436 | spectra_subsetting
⠦ | 6437 | spectra_subsetting
⠧ | 6438 | spectra_subsetting
⠇ | 6439 | spectra_subsetting
⠏ | 6440 | spectra_subsetting
⠋ | 6441 | spectra_subsetting
⠙ | 6442 | spectra_subsetting
⠹ | 6443 | spectra_subsetting
⠸ | 6444 | spectra_subsetting
⠼ | 6445 | spectra_subsetting
⠴ | 6446 | spectra_subsetting
⠦ | 6447 | spectra_subsetting
⠧ | 6448 | spectra_subsetting
⠇ | 6449 | spectra_subsetting
⠏ | 6450 | spectra_subsetting
⠋ | 6451 | spectra_subsetting
⠙ | 6452 | spectra_subsetting
⠹ | 6453 | spectra_subsetting
⠸ | 6454 | spectra_subsetting
⠼ | 6455 | spectra_subsetting
⠴ | 6456 | spectra_subsetting
⠦ | 6457 | spectra_subsetting
⠧ | 6458 | spectra_subsetting
⠇ | 6459 | spectra_subsetting
⠏ | 6460 | spectra_subsetting
⠋ | 6461 | spectra_subsetting
⠙ | 6462 | spectra_subsetting
⠹ | 6463 | spectra_subsetting
⠸ | 6464 | spectra_subsetting
⠼ | 6465 | spectra_subsetting
⠴ | 6466 | spectra_subsetting
⠦ | 6467 | spectra_subsetting
⠧ | 6468 | spectra_subsetting
⠇ | 6469 | spectra_subsetting
⠏ | 6470 | spectra_subsetting
⠋ | 6471 | spectra_subsetting
⠙ | 6472 | spectra_subsetting
⠹ | 6473 | spectra_subsetting
⠸ | 6474 | spectra_subsetting
⠼ | 6475 | spectra_subsetting
⠴ | 6476 | spectra_subsetting
⠦ | 6477 | spectra_subsetting
⠧ | 6478 | spectra_subsetting
⠇ | 6479 | spectra_subsetting
⠏ | 6480 | spectra_subsetting
⠋ | 6481 | spectra_subsetting
⠙ | 6482 | spectra_subsetting
⠹ | 6483 | spectra_subsetting
⠸ | 6484 | spectra_subsetting
⠼ | 6485 | spectra_subsetting
⠴ | 6486 | spectra_subsetting
⠦ | 6487 | spectra_subsetting
⠧ | 6488 | spectra_subsetting
⠇ | 6489 | spectra_subsetting
⠏ | 6490 | spectra_subsetting
⠋ | 6491 | spectra_subsetting
⠙ | 6492 | spectra_subsetting
⠹ | 6493 | spectra_subsetting
⠸ | 6494 | spectra_subsetting
⠼ | 6495 | spectra_subsetting
⠴ | 6496 | spectra_subsetting
⠦ | 6497 | spectra_subsetting
⠧ | 6498 | spectra_subsetting
⠇ | 6499 | spectra_subsetting
⠏ | 6500 | spectra_subsetting
⠋ | 6501 | spectra_subsetting
⠙ | 6502 | spectra_subsetting
⠹ | 6503 | spectra_subsetting
⠸ | 6504 | spectra_subsetting
⠼ | 6505 | spectra_subsetting
⠴ | 6506 | spectra_subsetting
⠦ | 6507 | spectra_subsetting
⠧ | 6508 | spectra_subsetting
⠇ | 6509 | spectra_subsetting
⠏ | 6510 | spectra_subsetting
⠋ | 6511 | spectra_subsetting
⠙ | 6512 | spectra_subsetting
⠹ | 6513 | spectra_subsetting
⠸ | 6514 | spectra_subsetting
⠼ | 6515 | spectra_subsetting
⠴ | 6516 | spectra_subsetting
⠦ | 6517 | spectra_subsetting
⠧ | 6518 | spectra_subsetting
⠇ | 6519 | spectra_subsetting
⠏ | 6520 | spectra_subsetting
⠋ | 6521 | spectra_subsetting
⠙ | 6522 | spectra_subsetting
⠹ | 6523 | spectra_subsetting
⠸ | 6524 | spectra_subsetting
⠼ | 6525 | spectra_subsetting
⠴ | 6526 | spectra_subsetting
⠦ | 6527 | spectra_subsetting
⠧ | 6528 | spectra_subsetting
⠇ | 6529 | spectra_subsetting
⠏ | 6530 | spectra_subsetting
⠋ | 6531 | spectra_subsetting
⠙ | 6532 | spectra_subsetting
⠹ | 6533 | spectra_subsetting
⠸ | 6534 | spectra_subsetting
⠼ | 6535 | spectra_subsetting
⠴ | 6536 | spectra_subsetting
⠦ | 6537 | spectra_subsetting
⠧ | 6538 | spectra_subsetting
⠇ | 6539 | spectra_subsetting
⠏ | 6540 | spectra_subsetting
⠋ | 6541 | spectra_subsetting
⠙ | 6542 | spectra_subsetting
⠹ | 6543 | spectra_subsetting
⠸ | 6544 | spectra_subsetting
⠼ | 6545 | spectra_subsetting
⠴ | 6546 | spectra_subsetting
⠦ | 6547 | spectra_subsetting
⠧ | 6548 | spectra_subsetting
⠇ | 6549 | spectra_subsetting
⠏ | 6550 | spectra_subsetting
⠋ | 6551 | spectra_subsetting
⠙ | 6552 | spectra_subsetting
⠹ | 6553 | spectra_subsetting
⠸ | 6554 | spectra_subsetting
⠼ | 6555 | spectra_subsetting
⠴ | 6556 | spectra_subsetting
⠦ | 6557 | spectra_subsetting
⠧ | 6558 | spectra_subsetting
⠇ | 6559 | spectra_subsetting
⠏ | 6560 | spectra_subsetting
⠋ | 6561 | spectra_subsetting
⠙ | 6562 | spectra_subsetting
⠹ | 6563 | spectra_subsetting
⠸ | 6564 | spectra_subsetting
⠼ | 6565 | spectra_subsetting
⠴ | 6566 | spectra_subsetting
⠦ | 6567 | spectra_subsetting
⠧ | 6568 | spectra_subsetting
⠇ | 6569 | spectra_subsetting
⠏ | 6570 | spectra_subsetting
⠋ | 6571 | spectra_subsetting
⠙ | 6572 | spectra_subsetting
⠹ | 6573 | spectra_subsetting
⠸ | 6574 | spectra_subsetting
⠼ | 6575 | spectra_subsetting
⠴ | 6576 | spectra_subsetting
⠦ | 6577 | spectra_subsetting
⠧ | 6578 | spectra_subsetting
⠇ | 6579 | spectra_subsetting
⠏ | 6580 | spectra_subsetting
⠋ | 6581 | spectra_subsetting
⠙ | 6582 | spectra_subsetting
⠹ | 6583 | spectra_subsetting
⠸ | 6584 | spectra_subsetting
⠼ | 6585 | spectra_subsetting
⠴ | 6586 | spectra_subsetting
⠦ | 6587 | spectra_subsetting
⠧ | 6588 | spectra_subsetting
⠇ | 6589 | spectra_subsetting
⠏ | 6590 | spectra_subsetting
⠋ | 6591 | spectra_subsetting
⠙ | 6592 | spectra_subsetting
⠹ | 6593 | spectra_subsetting
⠸ | 6594 | spectra_subsetting
⠼ | 6595 | spectra_subsetting
⠴ | 6596 | spectra_subsetting
⠦ | 6597 | spectra_subsetting
⠧ | 6598 | spectra_subsetting
⠇ | 6599 | spectra_subsetting
⠏ | 6600 | spectra_subsetting
⠋ | 6601 | spectra_subsetting
⠙ | 6602 | spectra_subsetting
⠹ | 6603 | spectra_subsetting
⠸ | 6604 | spectra_subsetting
⠼ | 6605 | spectra_subsetting
⠴ | 6606 | spectra_subsetting
⠦ | 6607 | spectra_subsetting
⠧ | 6608 | spectra_subsetting
⠇ | 6609 | spectra_subsetting
⠏ | 6610 | spectra_subsetting
⠋ | 6611 | spectra_subsetting
⠙ | 6612 | spectra_subsetting
⠹ | 6613 | spectra_subsetting
⠸ | 6614 | spectra_subsetting
⠼ | 6615 | spectra_subsetting
⠴ | 6616 | spectra_subsetting
⠦ | 6617 | spectra_subsetting
⠧ | 6618 | spectra_subsetting
⠇ | 6619 | spectra_subsetting
⠏ | 6620 | spectra_subsetting
⠋ | 6621 | spectra_subsetting
⠙ | 6622 | spectra_subsetting
⠹ | 6623 | spectra_subsetting
⠸ | 6624 | spectra_subsetting
⠼ | 6625 | spectra_subsetting
⠴ | 6626 | spectra_subsetting
⠦ | 6627 | spectra_subsetting
⠧ | 6628 | spectra_subsetting
⠇ | 6629 | spectra_subsetting
⠏ | 6630 | spectra_subsetting
⠋ | 6631 | spectra_subsetting
⠙ | 6632 | spectra_subsetting
⠹ | 6633 | spectra_subsetting
⠸ | 6634 | spectra_subsetting
⠼ | 6635 | spectra_subsetting
⠴ | 6636 | spectra_subsetting
⠦ | 6637 | spectra_subsetting
⠧ | 6638 | spectra_subsetting
⠇ | 6639 | spectra_subsetting
⠏ | 6640 | spectra_subsetting
⠋ | 6641 | spectra_subsetting
⠙ | 6642 | spectra_subsetting
⠹ | 6643 | spectra_subsetting
⠸ | 6644 | spectra_subsetting
⠼ | 6645 | spectra_subsetting
⠴ | 6646 | spectra_subsetting
⠦ | 6647 | spectra_subsetting
⠧ | 6648 | spectra_subsetting
⠇ | 6649 | spectra_subsetting
⠏ | 6650 | spectra_subsetting
⠋ | 6651 | spectra_subsetting
⠙ | 6652 | spectra_subsetting
⠹ | 6653 | spectra_subsetting
⠸ | 6654 | spectra_subsetting
⠼ | 6655 | spectra_subsetting
⠴ | 6656 | spectra_subsetting
⠦ | 6657 | spectra_subsetting
⠧ | 6658 | spectra_subsetting
⠇ | 6659 | spectra_subsetting
⠏ | 6660 | spectra_subsetting
⠹ | 6663 | spectra_subsetting
⠸ | 6664 | spectra_subsetting
⠼ | 6665 | spectra_subsetting
⠏ | 6670 | spectra_subsetting
⠙ | 6672 | spectra_subsetting
⠹ | 6673 | spectra_subsetting
⠧ | 6678 | spectra_subsetting
⠇ | 6679 | spectra_subsetting
⠙ | 6682 | spectra_subsetting
⠴ | 6686 | spectra_subsetting
⠇ | 6689 | spectra_subsetting
⠹ | 6693 | spectra_subsetting
⠸ | 6694 | spectra_subsetting
⠋ | 6701 | spectra_subsetting
✔ | 6702 | spectra_subsetting [995.1s]
⠏ | 0 | spectra_variables
⠸ | 4 | spectra_variables
⠙ | 12 | spectra_variables
⠸ | 14 | spectra_variables
⠴ | 16 | spectra_variables
⠦ | 27 | spectra_variables
⠇ | 29 | spectra_variables
⠋ | 31 | spectra_variables
⠹ | 43 | spectra_variables
⠸ | 54 | spectra_variables
⠹ | 1 62 | spectra_variables
✔ | 1 62 | spectra_variables [13.3s]
══ Results ═════════════════════════════════════════════════════════════════════
Duration: 1011.2 s
── Skipped tests (1) ───────────────────────────────────────────────────────────
• empty test (1): 'test_spectra_variables.R:262:1'
[ FAIL 0 | WARN 0 | SKIP 1 | PASS 6768 ]
>
> proc.time()
user system elapsed
959.741 38.406 1229.114
MsBackendMetaboLights.Rcheck/MsBackendMetaboLights-Ex.timings
| name | user | system | elapsed | |
| MetaboLights-utils | 0.830 | 0.065 | 32.198 | |
| MsBackendMetaboLights | 18.173 | 2.585 | 36.136 | |