| Back to Multiple platform build/check report for BioC 3.21: simplified long |
|
This page was generated on 2025-04-22 13:18 -0400 (Tue, 22 Apr 2025).
| Hostname | OS | Arch (*) | R version | Installed pkgs |
|---|---|---|---|---|
| nebbiolo1 | Linux (Ubuntu 24.04.1 LTS) | x86_64 | 4.5.0 RC (2025-04-04 r88126) -- "How About a Twenty-Six" | 4831 |
| palomino7 | Windows Server 2022 Datacenter | x64 | 4.5.0 RC (2025-04-04 r88126 ucrt) -- "How About a Twenty-Six" | 4573 |
| lconway | macOS 12.7.1 Monterey | x86_64 | 4.5.0 RC (2025-04-04 r88126) -- "How About a Twenty-Six" | 4599 |
| kjohnson3 | macOS 13.7.1 Ventura | arm64 | 4.5.0 RC (2025-04-04 r88126) -- "How About a Twenty-Six" | 4553 |
| kunpeng2 | Linux (openEuler 24.03 LTS) | aarch64 | R Under development (unstable) (2025-02-19 r87757) -- "Unsuffered Consequences" | 4570 |
| Click on any hostname to see more info about the system (e.g. compilers) (*) as reported by 'uname -p', except on Windows and Mac OS X | ||||
| Package 1358/2341 | Hostname | OS / Arch | INSTALL | BUILD | CHECK | BUILD BIN | ||||||||
| MsBackendMetaboLights 1.2.0 (landing page) Johannes Rainer
| nebbiolo1 | Linux (Ubuntu 24.04.1 LTS) / x86_64 | OK | OK | OK | |||||||||
| palomino7 | Windows Server 2022 Datacenter / x64 | OK | OK | OK | OK | |||||||||
| lconway | macOS 12.7.1 Monterey / x86_64 | OK | ERROR | skipped | skipped | |||||||||
| kjohnson3 | macOS 13.7.1 Ventura / arm64 | OK | OK | OK | OK | |||||||||
| kunpeng2 | Linux (openEuler 24.03 LTS) / aarch64 | OK | OK | OK | ||||||||||
|
To the developers/maintainers of the MsBackendMetaboLights package: - Allow up to 24 hours (and sometimes 48 hours) for your latest push to git@git.bioconductor.org:packages/MsBackendMetaboLights.git to reflect on this report. See Troubleshooting Build Report for more information. - Use the following Renviron settings to reproduce errors and warnings. - If 'R CMD check' started to fail recently on the Linux builder(s) over a missing dependency, add the missing dependency to 'Suggests:' in your DESCRIPTION file. See Renviron.bioc for more information. |
| Package: MsBackendMetaboLights |
| Version: 1.2.0 |
| Command: /Library/Frameworks/R.framework/Resources/bin/R CMD check --install=check:MsBackendMetaboLights.install-out.txt --library=/Library/Frameworks/R.framework/Resources/library --no-vignettes --timings MsBackendMetaboLights_1.2.0.tar.gz |
| StartedAt: 2025-04-21 20:31:05 -0400 (Mon, 21 Apr 2025) |
| EndedAt: 2025-04-21 20:37:30 -0400 (Mon, 21 Apr 2025) |
| EllapsedTime: 384.7 seconds |
| RetCode: 0 |
| Status: OK |
| CheckDir: MsBackendMetaboLights.Rcheck |
| Warnings: 0 |
##############################################################################
##############################################################################
###
### Running command:
###
### /Library/Frameworks/R.framework/Resources/bin/R CMD check --install=check:MsBackendMetaboLights.install-out.txt --library=/Library/Frameworks/R.framework/Resources/library --no-vignettes --timings MsBackendMetaboLights_1.2.0.tar.gz
###
##############################################################################
##############################################################################
* using log directory ‘/Users/biocbuild/bbs-3.21-bioc/meat/MsBackendMetaboLights.Rcheck’
* using R version 4.5.0 RC (2025-04-04 r88126)
* using platform: aarch64-apple-darwin20
* R was compiled by
Apple clang version 14.0.0 (clang-1400.0.29.202)
GNU Fortran (GCC) 14.2.0
* running under: macOS Ventura 13.7.1
* using session charset: UTF-8
* using option ‘--no-vignettes’
* checking for file ‘MsBackendMetaboLights/DESCRIPTION’ ... OK
* this is package ‘MsBackendMetaboLights’ version ‘1.2.0’
* package encoding: UTF-8
* checking package namespace information ... OK
* checking package dependencies ... OK
* checking if this is a source package ... OK
* checking if there is a namespace ... OK
* checking for hidden files and directories ... OK
* checking for portable file names ... OK
* checking for sufficient/correct file permissions ... OK
* checking whether package ‘MsBackendMetaboLights’ can be installed ... OK
* checking installed package size ... OK
* checking package directory ... OK
* checking ‘build’ directory ... OK
* checking DESCRIPTION meta-information ... OK
* checking top-level files ... OK
* checking for left-over files ... OK
* checking index information ... OK
* checking package subdirectories ... OK
* checking code files for non-ASCII characters ... OK
* checking R files for syntax errors ... OK
* checking whether the package can be loaded ... OK
* checking whether the package can be loaded with stated dependencies ... OK
* checking whether the package can be unloaded cleanly ... OK
* checking whether the namespace can be loaded with stated dependencies ... OK
* checking whether the namespace can be unloaded cleanly ... OK
* checking dependencies in R code ... OK
* checking S3 generic/method consistency ... OK
* checking replacement functions ... OK
* checking foreign function calls ... OK
* checking R code for possible problems ... OK
* checking Rd files ... OK
* checking Rd metadata ... OK
* checking Rd cross-references ... OK
* checking for missing documentation entries ... OK
* checking for code/documentation mismatches ... OK
* checking Rd \usage sections ... OK
* checking Rd contents ... OK
* checking for unstated dependencies in examples ... OK
* checking files in ‘vignettes’ ... OK
* checking examples ... OK
Examples with CPU (user + system) or elapsed time > 5s
user system elapsed
MsBackendMetaboLights 2.954 0.575 9.728
MetaboLights-utils 0.130 0.015 6.701
* checking for unstated dependencies in ‘tests’ ... OK
* checking tests ...
Running ‘testthat.R’
OK
* checking for unstated dependencies in vignettes ... OK
* checking package vignettes ... OK
* checking running R code from vignettes ... SKIPPED
* checking re-building of vignette outputs ... SKIPPED
* checking PDF version of manual ... OK
* DONE
Status: OK
MsBackendMetaboLights.Rcheck/00install.out
############################################################################## ############################################################################## ### ### Running command: ### ### /Library/Frameworks/R.framework/Resources/bin/R CMD INSTALL MsBackendMetaboLights ### ############################################################################## ############################################################################## * installing to library ‘/Library/Frameworks/R.framework/Versions/4.5-arm64/Resources/library’ * installing *source* package ‘MsBackendMetaboLights’ ... ** this is package ‘MsBackendMetaboLights’ version ‘1.2.0’ ** using staged installation ** R ** byte-compile and prepare package for lazy loading ** help *** installing help indices *** copying figures ** building package indices ** installing vignettes ** testing if installed package can be loaded from temporary location ** testing if installed package can be loaded from final location ** testing if installed package keeps a record of temporary installation path * DONE (MsBackendMetaboLights)
MsBackendMetaboLights.Rcheck/tests/testthat.Rout
R version 4.5.0 RC (2025-04-04 r88126) -- "How About a Twenty-Six"
Copyright (C) 2025 The R Foundation for Statistical Computing
Platform: aarch64-apple-darwin20
R is free software and comes with ABSOLUTELY NO WARRANTY.
You are welcome to redistribute it under certain conditions.
Type 'license()' or 'licence()' for distribution details.
R is a collaborative project with many contributors.
Type 'contributors()' for more information and
'citation()' on how to cite R or R packages in publications.
Type 'demo()' for some demos, 'help()' for on-line help, or
'help.start()' for an HTML browser interface to help.
Type 'q()' to quit R.
> #' MetaboLights ID: MTBLS8735
> #' ftp://ftp.ebi.ac.uk/pub/databases/metabolights/studies/public/MTBLS8735
>
> library(testthat)
> library(MsBackendMetaboLights)
Loading required package: Spectra
Loading required package: S4Vectors
Loading required package: stats4
Loading required package: BiocGenerics
Loading required package: generics
Attaching package: 'generics'
The following objects are masked from 'package:base':
as.difftime, as.factor, as.ordered, intersect, is.element, setdiff,
setequal, union
Attaching package: 'BiocGenerics'
The following objects are masked from 'package:stats':
IQR, mad, sd, var, xtabs
The following objects are masked from 'package:base':
Filter, Find, Map, Position, Reduce, anyDuplicated, aperm, append,
as.data.frame, basename, cbind, colnames, dirname, do.call,
duplicated, eval, evalq, get, grep, grepl, is.unsorted, lapply,
mapply, match, mget, order, paste, pmax, pmax.int, pmin, pmin.int,
rank, rbind, rownames, sapply, saveRDS, table, tapply, unique,
unsplit, which.max, which.min
Attaching package: 'S4Vectors'
The following object is masked from 'package:utils':
findMatches
The following objects are masked from 'package:base':
I, expand.grid, unname
Loading required package: BiocParallel
>
> test_check("MsBackendMetaboLights")
[ FAIL 0 | WARN 0 | SKIP 0 | PASS 74 ]
>
> ## Run tests with the unit test suite defined in the Spectra package to ensure
> ## compliance with the definitions of the MsBackend interface/class.
> be <- backendInitialize(MsBackendMetaboLights(), mtblsId = "MTBLS39",
+ filePattern = "63A.cdf")
Used data files from the assay's column "Raw Spectral Data File" since none were available in column "Derived Spectral Data File".
>
> library(Spectra)
> test_suite <- system.file("test_backends", "test_MsBackend",
+ package = "Spectra")
> res <- test_dir(test_suite, stop_on_failure = TRUE)
✔ | F W S OK | Context
⠏ | 0 | peaks_variables
⠙ | 2 | peaks_variables
⠸ | 4 | peaks_variables
✔ | 4 | peaks_variables
⠏ | 0 | spectra_subsetting
⠋ | 1 | spectra_subsetting
⠏ | 40 | spectra_subsetting
⠇ | 79 | spectra_subsetting
⠋ | 121 | spectra_subsetting
⠹ | 163 | spectra_subsetting
⠙ | 202 | spectra_subsetting
⠋ | 241 | spectra_subsetting
⠧ | 278 | spectra_subsetting
⠹ | 313 | spectra_subsetting
⠙ | 352 | spectra_subsetting
⠇ | 389 | spectra_subsetting
⠦ | 427 | spectra_subsetting
⠴ | 466 | spectra_subsetting
⠼ | 505 | spectra_subsetting
⠸ | 544 | spectra_subsetting
⠹ | 583 | spectra_subsetting
⠙ | 622 | spectra_subsetting
⠙ | 662 | spectra_subsetting
⠋ | 701 | spectra_subsetting
⠏ | 740 | spectra_subsetting
⠏ | 780 | spectra_subsetting
⠦ | 817 | spectra_subsetting
⠴ | 856 | spectra_subsetting
⠼ | 895 | spectra_subsetting
⠸ | 934 | spectra_subsetting
⠴ | 976 | spectra_subsetting
⠼ | 1015 | spectra_subsetting
⠹ | 1053 | spectra_subsetting
⠋ | 1091 | spectra_subsetting
⠇ | 1129 | spectra_subsetting
⠙ | 1162 | spectra_subsetting
⠋ | 1201 | spectra_subsetting
⠹ | 1233 | spectra_subsetting
⠏ | 1270 | spectra_subsetting
⠴ | 1306 | spectra_subsetting
⠼ | 1345 | spectra_subsetting
⠸ | 1384 | spectra_subsetting
⠹ | 1423 | spectra_subsetting
⠙ | 1462 | spectra_subsetting
⠧ | 1498 | spectra_subsetting
⠼ | 1535 | spectra_subsetting
⠴ | 1576 | spectra_subsetting
⠼ | 1615 | spectra_subsetting
⠸ | 1654 | spectra_subsetting
⠴ | 1696 | spectra_subsetting
⠼ | 1735 | spectra_subsetting
⠸ | 1774 | spectra_subsetting
⠹ | 1813 | spectra_subsetting
⠴ | 1846 | spectra_subsetting
⠼ | 1885 | spectra_subsetting
⠸ | 1924 | spectra_subsetting
⠏ | 1960 | spectra_subsetting
⠇ | 1999 | spectra_subsetting
⠧ | 2038 | spectra_subsetting
⠦ | 2077 | spectra_subsetting
⠴ | 2116 | spectra_subsetting
⠹ | 2153 | spectra_subsetting
⠋ | 2191 | spectra_subsetting
⠦ | 2227 | spectra_subsetting
⠹ | 2263 | spectra_subsetting
⠙ | 2302 | spectra_subsetting
⠧ | 2338 | spectra_subsetting
⠦ | 2377 | spectra_subsetting
⠸ | 2414 | spectra_subsetting
⠇ | 2449 | spectra_subsetting
⠧ | 2488 | spectra_subsetting
⠸ | 2524 | spectra_subsetting
⠹ | 2563 | spectra_subsetting
⠏ | 2600 | spectra_subsetting
⠧ | 2638 | spectra_subsetting
⠦ | 2677 | spectra_subsetting
⠸ | 2714 | spectra_subsetting
⠙ | 2752 | spectra_subsetting
⠋ | 2791 | spectra_subsetting
⠇ | 2829 | spectra_subsetting
⠹ | 2863 | spectra_subsetting
⠸ | 2894 | spectra_subsetting
⠏ | 2930 | spectra_subsetting
⠧ | 2968 | spectra_subsetting
⠼ | 3005 | spectra_subsetting
⠹ | 3043 | spectra_subsetting
⠇ | 3079 | spectra_subsetting
⠼ | 3115 | spectra_subsetting
⠋ | 3151 | spectra_subsetting
⠧ | 3188 | spectra_subsetting
⠴ | 3226 | spectra_subsetting
⠼ | 3265 | spectra_subsetting
⠋ | 3301 | spectra_subsetting
⠏ | 3340 | spectra_subsetting
⠦ | 3377 | spectra_subsetting
⠹ | 3413 | spectra_subsetting
⠏ | 3450 | spectra_subsetting
⠦ | 3487 | spectra_subsetting
⠴ | 3526 | spectra_subsetting
⠙ | 3562 | spectra_subsetting
⠼ | 3595 | spectra_subsetting
⠋ | 3631 | spectra_subsetting
⠸ | 3664 | spectra_subsetting
⠹ | 3703 | spectra_subsetting
⠇ | 3739 | spectra_subsetting
⠹ | 3773 | spectra_subsetting
⠼ | 3805 | spectra_subsetting
⠋ | 3841 | spectra_subsetting
⠏ | 3880 | spectra_subsetting
⠹ | 3913 | spectra_subsetting
⠇ | 3949 | spectra_subsetting
⠼ | 3985 | spectra_subsetting
⠋ | 4021 | spectra_subsetting
⠧ | 4058 | spectra_subsetting
⠹ | 4093 | spectra_subsetting
⠙ | 4132 | spectra_subsetting
⠏ | 4170 | spectra_subsetting
⠴ | 4206 | spectra_subsetting
⠹ | 4243 | spectra_subsetting
⠇ | 4279 | spectra_subsetting
⠧ | 4318 | spectra_subsetting
⠸ | 4354 | spectra_subsetting
⠦ | 4387 | spectra_subsetting
⠹ | 4423 | spectra_subsetting
⠇ | 4459 | spectra_subsetting
⠼ | 4495 | spectra_subsetting
⠹ | 4533 | spectra_subsetting
⠦ | 4567 | spectra_subsetting
⠴ | 4606 | spectra_subsetting
⠼ | 4645 | spectra_subsetting
⠸ | 4684 | spectra_subsetting
⠹ | 4723 | spectra_subsetting
⠹ | 4763 | spectra_subsetting
⠸ | 4804 | spectra_subsetting
⠹ | 4843 | spectra_subsetting
⠙ | 4882 | spectra_subsetting
⠧ | 4918 | spectra_subsetting
⠸ | 4954 | spectra_subsetting
⠦ | 4987 | spectra_subsetting
⠦ | 4997 | spectra_subsetting
⠇ | 4999 | spectra_subsetting
⠋ | 5001 | spectra_subsetting
⠹ | 5003 | spectra_subsetting
⠼ | 5005 | spectra_subsetting
⠦ | 5007 | spectra_subsetting
⠇ | 5009 | spectra_subsetting
⠋ | 5011 | spectra_subsetting
⠹ | 5013 | spectra_subsetting
⠼ | 5015 | spectra_subsetting
⠴ | 5016 | spectra_subsetting
⠧ | 5018 | spectra_subsetting
⠏ | 5020 | spectra_subsetting
⠙ | 5022 | spectra_subsetting
⠸ | 5024 | spectra_subsetting
⠴ | 5026 | spectra_subsetting
⠧ | 5028 | spectra_subsetting
⠏ | 5030 | spectra_subsetting
⠙ | 5032 | spectra_subsetting
⠸ | 5034 | spectra_subsetting
⠴ | 5036 | spectra_subsetting
⠧ | 5038 | spectra_subsetting
⠏ | 5040 | spectra_subsetting
⠙ | 5042 | spectra_subsetting
⠸ | 5044 | spectra_subsetting
⠴ | 5046 | spectra_subsetting
⠧ | 5048 | spectra_subsetting
⠏ | 5050 | spectra_subsetting
⠙ | 5052 | spectra_subsetting
⠸ | 5054 | spectra_subsetting
⠴ | 5056 | spectra_subsetting
⠧ | 5058 | spectra_subsetting
⠏ | 5060 | spectra_subsetting
⠙ | 5062 | spectra_subsetting
⠸ | 5064 | spectra_subsetting
⠴ | 5066 | spectra_subsetting
⠦ | 5067 | spectra_subsetting
⠇ | 5069 | spectra_subsetting
⠋ | 5071 | spectra_subsetting
⠹ | 5073 | spectra_subsetting
⠼ | 5075 | spectra_subsetting
⠦ | 5077 | spectra_subsetting
⠇ | 5079 | spectra_subsetting
⠋ | 5081 | spectra_subsetting
⠹ | 5083 | spectra_subsetting
⠼ | 5085 | spectra_subsetting
⠦ | 5087 | spectra_subsetting
⠇ | 5089 | spectra_subsetting
⠋ | 5091 | spectra_subsetting
⠹ | 5093 | spectra_subsetting
⠼ | 5095 | spectra_subsetting
⠦ | 5097 | spectra_subsetting
⠇ | 5099 | spectra_subsetting
⠋ | 5101 | spectra_subsetting
⠹ | 5103 | spectra_subsetting
⠼ | 5105 | spectra_subsetting
⠦ | 5107 | spectra_subsetting
⠇ | 5109 | spectra_subsetting
⠋ | 5111 | spectra_subsetting
⠹ | 5113 | spectra_subsetting
⠼ | 5115 | spectra_subsetting
⠦ | 5117 | spectra_subsetting
⠇ | 5119 | spectra_subsetting
⠋ | 5121 | spectra_subsetting
⠹ | 5123 | spectra_subsetting
⠼ | 5125 | spectra_subsetting
⠦ | 5127 | spectra_subsetting
⠇ | 5129 | spectra_subsetting
⠋ | 5131 | spectra_subsetting
⠙ | 5132 | spectra_subsetting
⠸ | 5134 | spectra_subsetting
⠴ | 5136 | spectra_subsetting
⠧ | 5138 | spectra_subsetting
⠏ | 5140 | spectra_subsetting
⠙ | 5142 | spectra_subsetting
⠸ | 5144 | spectra_subsetting
⠴ | 5146 | spectra_subsetting
⠧ | 5148 | spectra_subsetting
⠏ | 5150 | spectra_subsetting
⠙ | 5152 | spectra_subsetting
⠸ | 5154 | spectra_subsetting
⠴ | 5156 | spectra_subsetting
⠧ | 5158 | spectra_subsetting
⠏ | 5160 | spectra_subsetting
⠙ | 5162 | spectra_subsetting
⠸ | 5164 | spectra_subsetting
⠴ | 5166 | spectra_subsetting
⠧ | 5168 | spectra_subsetting
⠏ | 5170 | spectra_subsetting
⠙ | 5172 | spectra_subsetting
⠸ | 5174 | spectra_subsetting
⠴ | 5176 | spectra_subsetting
⠧ | 5178 | spectra_subsetting
⠏ | 5180 | spectra_subsetting
⠙ | 5182 | spectra_subsetting
⠸ | 5184 | spectra_subsetting
⠴ | 5186 | spectra_subsetting
⠧ | 5188 | spectra_subsetting
⠇ | 5189 | spectra_subsetting
⠋ | 5191 | spectra_subsetting
⠹ | 5193 | spectra_subsetting
⠼ | 5195 | spectra_subsetting
⠦ | 5197 | spectra_subsetting
⠇ | 5199 | spectra_subsetting
⠋ | 5201 | spectra_subsetting
⠹ | 5203 | spectra_subsetting
⠼ | 5205 | spectra_subsetting
⠦ | 5207 | spectra_subsetting
⠇ | 5209 | spectra_subsetting
⠋ | 5211 | spectra_subsetting
⠹ | 5213 | spectra_subsetting
⠼ | 5215 | spectra_subsetting
⠦ | 5217 | spectra_subsetting
⠇ | 5219 | spectra_subsetting
⠋ | 5221 | spectra_subsetting
⠹ | 5223 | spectra_subsetting
⠼ | 5225 | spectra_subsetting
⠦ | 5227 | spectra_subsetting
⠇ | 5229 | spectra_subsetting
⠋ | 5231 | spectra_subsetting
⠹ | 5233 | spectra_subsetting
⠼ | 5235 | spectra_subsetting
⠦ | 5237 | spectra_subsetting
⠇ | 5239 | spectra_subsetting
⠋ | 5241 | spectra_subsetting
⠹ | 5243 | spectra_subsetting
⠼ | 5245 | spectra_subsetting
⠴ | 5246 | spectra_subsetting
⠧ | 5248 | spectra_subsetting
⠏ | 5250 | spectra_subsetting
⠙ | 5252 | spectra_subsetting
⠸ | 5254 | spectra_subsetting
⠴ | 5256 | spectra_subsetting
⠧ | 5258 | spectra_subsetting
⠏ | 5260 | spectra_subsetting
⠙ | 5262 | spectra_subsetting
⠸ | 5264 | spectra_subsetting
⠴ | 5266 | spectra_subsetting
⠧ | 5268 | spectra_subsetting
⠏ | 5270 | spectra_subsetting
⠙ | 5272 | spectra_subsetting
⠸ | 5274 | spectra_subsetting
⠴ | 5276 | spectra_subsetting
⠧ | 5278 | spectra_subsetting
⠏ | 5280 | spectra_subsetting
⠙ | 5282 | spectra_subsetting
⠸ | 5284 | spectra_subsetting
⠴ | 5286 | spectra_subsetting
⠧ | 5288 | spectra_subsetting
⠏ | 5290 | spectra_subsetting
⠙ | 5292 | spectra_subsetting
⠸ | 5294 | spectra_subsetting
⠴ | 5296 | spectra_subsetting
⠧ | 5298 | spectra_subsetting
⠏ | 5300 | spectra_subsetting
⠙ | 5302 | spectra_subsetting
⠹ | 5303 | spectra_subsetting
⠼ | 5305 | spectra_subsetting
⠦ | 5307 | spectra_subsetting
⠇ | 5309 | spectra_subsetting
⠋ | 5311 | spectra_subsetting
⠹ | 5313 | spectra_subsetting
⠼ | 5315 | spectra_subsetting
⠦ | 5317 | spectra_subsetting
⠇ | 5319 | spectra_subsetting
⠋ | 5321 | spectra_subsetting
⠹ | 5323 | spectra_subsetting
⠼ | 5325 | spectra_subsetting
⠦ | 5327 | spectra_subsetting
⠇ | 5329 | spectra_subsetting
⠋ | 5331 | spectra_subsetting
⠹ | 5333 | spectra_subsetting
⠼ | 5335 | spectra_subsetting
⠦ | 5337 | spectra_subsetting
⠇ | 5339 | spectra_subsetting
⠋ | 5341 | spectra_subsetting
⠹ | 5343 | spectra_subsetting
⠼ | 5345 | spectra_subsetting
⠦ | 5347 | spectra_subsetting
⠇ | 5349 | spectra_subsetting
⠋ | 5351 | spectra_subsetting
⠹ | 5353 | spectra_subsetting
⠼ | 5355 | spectra_subsetting
⠦ | 5357 | spectra_subsetting
⠇ | 5359 | spectra_subsetting
⠋ | 5361 | spectra_subsetting
⠹ | 5363 | spectra_subsetting
⠼ | 5365 | spectra_subsetting
⠦ | 5367 | spectra_subsetting
⠇ | 5369 | spectra_subsetting
⠋ | 5371 | spectra_subsetting
⠹ | 5373 | spectra_subsetting
⠼ | 5375 | spectra_subsetting
⠦ | 5377 | spectra_subsetting
⠇ | 5379 | spectra_subsetting
⠋ | 5381 | spectra_subsetting
⠹ | 5383 | spectra_subsetting
⠼ | 5385 | spectra_subsetting
⠦ | 5387 | spectra_subsetting
⠇ | 5389 | spectra_subsetting
⠋ | 5391 | spectra_subsetting
⠹ | 5393 | spectra_subsetting
⠼ | 5395 | spectra_subsetting
⠦ | 5397 | spectra_subsetting
⠇ | 5399 | spectra_subsetting
⠋ | 5401 | spectra_subsetting
⠹ | 5403 | spectra_subsetting
⠼ | 5405 | spectra_subsetting
⠦ | 5407 | spectra_subsetting
⠇ | 5409 | spectra_subsetting
⠋ | 5411 | spectra_subsetting
⠙ | 5412 | spectra_subsetting
⠸ | 5414 | spectra_subsetting
⠴ | 5416 | spectra_subsetting
⠧ | 5418 | spectra_subsetting
⠏ | 5420 | spectra_subsetting
⠙ | 5422 | spectra_subsetting
⠸ | 5424 | spectra_subsetting
⠴ | 5426 | spectra_subsetting
⠧ | 5428 | spectra_subsetting
⠏ | 5430 | spectra_subsetting
⠙ | 5432 | spectra_subsetting
⠸ | 5434 | spectra_subsetting
⠴ | 5436 | spectra_subsetting
⠧ | 5438 | spectra_subsetting
⠏ | 5440 | spectra_subsetting
⠙ | 5442 | spectra_subsetting
⠸ | 5444 | spectra_subsetting
⠴ | 5446 | spectra_subsetting
⠧ | 5448 | spectra_subsetting
⠏ | 5450 | spectra_subsetting
⠙ | 5452 | spectra_subsetting
⠸ | 5454 | spectra_subsetting
⠴ | 5456 | spectra_subsetting
⠧ | 5458 | spectra_subsetting
⠏ | 5460 | spectra_subsetting
⠋ | 5461 | spectra_subsetting
⠹ | 5463 | spectra_subsetting
⠼ | 5465 | spectra_subsetting
⠦ | 5467 | spectra_subsetting
⠇ | 5469 | spectra_subsetting
⠋ | 5471 | spectra_subsetting
⠹ | 5473 | spectra_subsetting
⠼ | 5475 | spectra_subsetting
⠦ | 5477 | spectra_subsetting
⠇ | 5479 | spectra_subsetting
⠋ | 5481 | spectra_subsetting
⠹ | 5483 | spectra_subsetting
⠼ | 5485 | spectra_subsetting
⠦ | 5487 | spectra_subsetting
⠇ | 5489 | spectra_subsetting
⠋ | 5491 | spectra_subsetting
⠹ | 5493 | spectra_subsetting
⠼ | 5495 | spectra_subsetting
⠦ | 5497 | spectra_subsetting
⠇ | 5499 | spectra_subsetting
⠋ | 5501 | spectra_subsetting
⠹ | 5503 | spectra_subsetting
⠼ | 5505 | spectra_subsetting
⠦ | 5507 | spectra_subsetting
⠇ | 5509 | spectra_subsetting
⠋ | 5511 | spectra_subsetting
⠹ | 5513 | spectra_subsetting
⠸ | 5514 | spectra_subsetting
⠴ | 5516 | spectra_subsetting
⠧ | 5518 | spectra_subsetting
⠏ | 5520 | spectra_subsetting
⠙ | 5522 | spectra_subsetting
⠸ | 5524 | spectra_subsetting
⠴ | 5526 | spectra_subsetting
⠧ | 5528 | spectra_subsetting
⠏ | 5530 | spectra_subsetting
⠙ | 5532 | spectra_subsetting
⠸ | 5534 | spectra_subsetting
⠴ | 5536 | spectra_subsetting
⠧ | 5538 | spectra_subsetting
⠏ | 5540 | spectra_subsetting
⠙ | 5542 | spectra_subsetting
⠸ | 5544 | spectra_subsetting
⠴ | 5546 | spectra_subsetting
⠧ | 5548 | spectra_subsetting
⠏ | 5550 | spectra_subsetting
⠙ | 5552 | spectra_subsetting
⠸ | 5554 | spectra_subsetting
⠴ | 5556 | spectra_subsetting
⠧ | 5558 | spectra_subsetting
⠏ | 5560 | spectra_subsetting
⠙ | 5562 | spectra_subsetting
⠸ | 5564 | spectra_subsetting
⠴ | 5566 | spectra_subsetting
⠧ | 5568 | spectra_subsetting
⠇ | 5569 | spectra_subsetting
⠋ | 5571 | spectra_subsetting
⠹ | 5573 | spectra_subsetting
⠼ | 5575 | spectra_subsetting
⠦ | 5577 | spectra_subsetting
⠇ | 5579 | spectra_subsetting
⠏ | 5580 | spectra_subsetting
⠙ | 5582 | spectra_subsetting
⠸ | 5584 | spectra_subsetting
⠴ | 5586 | spectra_subsetting
⠧ | 5588 | spectra_subsetting
⠏ | 5590 | spectra_subsetting
⠙ | 5592 | spectra_subsetting
⠸ | 5594 | spectra_subsetting
⠴ | 5596 | spectra_subsetting
⠧ | 5598 | spectra_subsetting
⠏ | 5600 | spectra_subsetting
⠙ | 5602 | spectra_subsetting
⠸ | 5604 | spectra_subsetting
⠴ | 5606 | spectra_subsetting
⠧ | 5608 | spectra_subsetting
⠏ | 5610 | spectra_subsetting
⠙ | 5612 | spectra_subsetting
⠸ | 5614 | spectra_subsetting
⠴ | 5616 | spectra_subsetting
⠧ | 5618 | spectra_subsetting
⠏ | 5620 | spectra_subsetting
⠙ | 5622 | spectra_subsetting
⠸ | 5624 | spectra_subsetting
⠴ | 5626 | spectra_subsetting
⠧ | 5628 | spectra_subsetting
⠏ | 5630 | spectra_subsetting
⠙ | 5632 | spectra_subsetting
⠸ | 5634 | spectra_subsetting
⠴ | 5636 | spectra_subsetting
⠧ | 5638 | spectra_subsetting
⠏ | 5640 | spectra_subsetting
⠙ | 5642 | spectra_subsetting
⠸ | 5644 | spectra_subsetting
⠴ | 5646 | spectra_subsetting
⠧ | 5648 | spectra_subsetting
⠏ | 5650 | spectra_subsetting
⠙ | 5652 | spectra_subsetting
⠸ | 5654 | spectra_subsetting
⠴ | 5656 | spectra_subsetting
⠧ | 5658 | spectra_subsetting
⠏ | 5660 | spectra_subsetting
⠙ | 5662 | spectra_subsetting
⠸ | 5664 | spectra_subsetting
⠴ | 5666 | spectra_subsetting
⠧ | 5668 | spectra_subsetting
⠏ | 5670 | spectra_subsetting
⠙ | 5672 | spectra_subsetting
⠸ | 5674 | spectra_subsetting
⠴ | 5676 | spectra_subsetting
⠧ | 5678 | spectra_subsetting
⠏ | 5680 | spectra_subsetting
⠙ | 5682 | spectra_subsetting
⠸ | 5684 | spectra_subsetting
⠴ | 5686 | spectra_subsetting
⠧ | 5688 | spectra_subsetting
⠏ | 5690 | spectra_subsetting
⠙ | 5692 | spectra_subsetting
⠸ | 5694 | spectra_subsetting
⠴ | 5696 | spectra_subsetting
⠧ | 5698 | spectra_subsetting
⠏ | 5700 | spectra_subsetting
⠙ | 5702 | spectra_subsetting
⠸ | 5704 | spectra_subsetting
⠴ | 5706 | spectra_subsetting
⠧ | 5708 | spectra_subsetting
⠏ | 5710 | spectra_subsetting
⠙ | 5712 | spectra_subsetting
⠸ | 5714 | spectra_subsetting
⠴ | 5716 | spectra_subsetting
⠧ | 5718 | spectra_subsetting
⠏ | 5720 | spectra_subsetting
⠙ | 5722 | spectra_subsetting
⠸ | 5724 | spectra_subsetting
⠴ | 5726 | spectra_subsetting
⠧ | 5728 | spectra_subsetting
⠏ | 5730 | spectra_subsetting
⠙ | 5732 | spectra_subsetting
⠸ | 5734 | spectra_subsetting
⠴ | 5736 | spectra_subsetting
⠧ | 5738 | spectra_subsetting
⠏ | 5740 | spectra_subsetting
⠙ | 5742 | spectra_subsetting
⠸ | 5744 | spectra_subsetting
⠴ | 5746 | spectra_subsetting
⠧ | 5748 | spectra_subsetting
⠇ | 5749 | spectra_subsetting
⠋ | 5751 | spectra_subsetting
⠹ | 5753 | spectra_subsetting
⠼ | 5755 | spectra_subsetting
⠦ | 5757 | spectra_subsetting
⠧ | 5758 | spectra_subsetting
⠏ | 5760 | spectra_subsetting
⠙ | 5762 | spectra_subsetting
⠸ | 5764 | spectra_subsetting
⠴ | 5766 | spectra_subsetting
⠧ | 5768 | spectra_subsetting
⠏ | 5770 | spectra_subsetting
⠙ | 5772 | spectra_subsetting
⠸ | 5774 | spectra_subsetting
⠴ | 5776 | spectra_subsetting
⠧ | 5778 | spectra_subsetting
⠏ | 5780 | spectra_subsetting
⠙ | 5782 | spectra_subsetting
⠸ | 5784 | spectra_subsetting
⠴ | 5786 | spectra_subsetting
⠧ | 5788 | spectra_subsetting
⠏ | 5790 | spectra_subsetting
⠙ | 5792 | spectra_subsetting
⠸ | 5794 | spectra_subsetting
⠼ | 5795 | spectra_subsetting
⠦ | 5797 | spectra_subsetting
⠇ | 5799 | spectra_subsetting
⠋ | 5801 | spectra_subsetting
⠹ | 5803 | spectra_subsetting
⠼ | 5805 | spectra_subsetting
⠦ | 5807 | spectra_subsetting
⠇ | 5809 | spectra_subsetting
⠋ | 5811 | spectra_subsetting
⠹ | 5813 | spectra_subsetting
⠼ | 5815 | spectra_subsetting
⠦ | 5817 | spectra_subsetting
⠇ | 5819 | spectra_subsetting
⠋ | 5821 | spectra_subsetting
⠹ | 5823 | spectra_subsetting
⠼ | 5825 | spectra_subsetting
⠦ | 5827 | spectra_subsetting
⠇ | 5829 | spectra_subsetting
⠋ | 5831 | spectra_subsetting
⠹ | 5833 | spectra_subsetting
⠼ | 5835 | spectra_subsetting
⠦ | 5837 | spectra_subsetting
⠇ | 5839 | spectra_subsetting
⠋ | 5841 | spectra_subsetting
⠹ | 5843 | spectra_subsetting
⠼ | 5845 | spectra_subsetting
⠦ | 5847 | spectra_subsetting
⠇ | 5849 | spectra_subsetting
⠋ | 5851 | spectra_subsetting
⠹ | 5853 | spectra_subsetting
⠼ | 5855 | spectra_subsetting
⠦ | 5857 | spectra_subsetting
⠇ | 5859 | spectra_subsetting
⠋ | 5861 | spectra_subsetting
⠹ | 5863 | spectra_subsetting
⠼ | 5865 | spectra_subsetting
⠦ | 5867 | spectra_subsetting
⠇ | 5869 | spectra_subsetting
⠋ | 5871 | spectra_subsetting
⠹ | 5873 | spectra_subsetting
⠼ | 5875 | spectra_subsetting
⠦ | 5877 | spectra_subsetting
⠇ | 5879 | spectra_subsetting
⠋ | 5881 | spectra_subsetting
⠹ | 5883 | spectra_subsetting
⠼ | 5885 | spectra_subsetting
⠦ | 5887 | spectra_subsetting
⠇ | 5889 | spectra_subsetting
⠋ | 5891 | spectra_subsetting
⠹ | 5893 | spectra_subsetting
⠼ | 5895 | spectra_subsetting
⠦ | 5897 | spectra_subsetting
⠇ | 5899 | spectra_subsetting
⠋ | 5901 | spectra_subsetting
⠹ | 5903 | spectra_subsetting
⠼ | 5905 | spectra_subsetting
⠦ | 5907 | spectra_subsetting
⠇ | 5909 | spectra_subsetting
⠋ | 5911 | spectra_subsetting
⠹ | 5913 | spectra_subsetting
⠼ | 5915 | spectra_subsetting
⠦ | 5917 | spectra_subsetting
⠇ | 5919 | spectra_subsetting
⠋ | 5921 | spectra_subsetting
⠹ | 5923 | spectra_subsetting
⠼ | 5925 | spectra_subsetting
⠦ | 5927 | spectra_subsetting
⠇ | 5929 | spectra_subsetting
⠋ | 5931 | spectra_subsetting
⠹ | 5933 | spectra_subsetting
⠼ | 5935 | spectra_subsetting
⠦ | 5937 | spectra_subsetting
⠇ | 5939 | spectra_subsetting
⠋ | 5941 | spectra_subsetting
⠹ | 5943 | spectra_subsetting
⠼ | 5945 | spectra_subsetting
⠦ | 5947 | spectra_subsetting
⠇ | 5949 | spectra_subsetting
⠋ | 5951 | spectra_subsetting
⠹ | 5953 | spectra_subsetting
⠼ | 5955 | spectra_subsetting
⠦ | 5957 | spectra_subsetting
⠇ | 5959 | spectra_subsetting
⠋ | 5961 | spectra_subsetting
⠹ | 5963 | spectra_subsetting
⠼ | 5965 | spectra_subsetting
⠦ | 5967 | spectra_subsetting
⠇ | 5969 | spectra_subsetting
⠋ | 5971 | spectra_subsetting
⠹ | 5973 | spectra_subsetting
⠼ | 5975 | spectra_subsetting
⠦ | 5977 | spectra_subsetting
⠧ | 5978 | spectra_subsetting
⠏ | 5980 | spectra_subsetting
⠙ | 5982 | spectra_subsetting
⠸ | 5984 | spectra_subsetting
⠴ | 5986 | spectra_subsetting
⠧ | 5988 | spectra_subsetting
⠏ | 5990 | spectra_subsetting
⠙ | 5992 | spectra_subsetting
⠸ | 5994 | spectra_subsetting
⠴ | 5996 | spectra_subsetting
⠧ | 5998 | spectra_subsetting
⠏ | 6000 | spectra_subsetting
⠙ | 6002 | spectra_subsetting
⠸ | 6004 | spectra_subsetting
⠴ | 6006 | spectra_subsetting
⠧ | 6008 | spectra_subsetting
⠏ | 6010 | spectra_subsetting
⠙ | 6012 | spectra_subsetting
⠸ | 6014 | spectra_subsetting
⠴ | 6016 | spectra_subsetting
⠧ | 6018 | spectra_subsetting
⠏ | 6020 | spectra_subsetting
⠙ | 6022 | spectra_subsetting
⠸ | 6024 | spectra_subsetting
⠴ | 6026 | spectra_subsetting
⠧ | 6028 | spectra_subsetting
⠏ | 6030 | spectra_subsetting
⠙ | 6032 | spectra_subsetting
⠸ | 6034 | spectra_subsetting
⠴ | 6036 | spectra_subsetting
⠧ | 6038 | spectra_subsetting
⠏ | 6040 | spectra_subsetting
⠙ | 6042 | spectra_subsetting
⠸ | 6044 | spectra_subsetting
⠴ | 6046 | spectra_subsetting
⠧ | 6048 | spectra_subsetting
⠏ | 6050 | spectra_subsetting
⠙ | 6052 | spectra_subsetting
⠸ | 6054 | spectra_subsetting
⠴ | 6056 | spectra_subsetting
⠧ | 6058 | spectra_subsetting
⠏ | 6060 | spectra_subsetting
⠙ | 6062 | spectra_subsetting
⠸ | 6064 | spectra_subsetting
⠴ | 6066 | spectra_subsetting
⠧ | 6068 | spectra_subsetting
⠏ | 6070 | spectra_subsetting
⠙ | 6072 | spectra_subsetting
⠸ | 6074 | spectra_subsetting
⠴ | 6076 | spectra_subsetting
⠧ | 6078 | spectra_subsetting
⠏ | 6080 | spectra_subsetting
⠙ | 6082 | spectra_subsetting
⠸ | 6084 | spectra_subsetting
⠴ | 6086 | spectra_subsetting
⠧ | 6088 | spectra_subsetting
⠏ | 6090 | spectra_subsetting
⠙ | 6092 | spectra_subsetting
⠸ | 6094 | spectra_subsetting
⠴ | 6096 | spectra_subsetting
⠧ | 6098 | spectra_subsetting
⠏ | 6100 | spectra_subsetting
⠙ | 6102 | spectra_subsetting
⠸ | 6104 | spectra_subsetting
⠴ | 6106 | spectra_subsetting
⠧ | 6108 | spectra_subsetting
⠏ | 6110 | spectra_subsetting
⠙ | 6112 | spectra_subsetting
⠸ | 6114 | spectra_subsetting
⠴ | 6116 | spectra_subsetting
⠧ | 6118 | spectra_subsetting
⠇ | 6119 | spectra_subsetting
⠋ | 6121 | spectra_subsetting
⠹ | 6123 | spectra_subsetting
⠼ | 6125 | spectra_subsetting
⠦ | 6127 | spectra_subsetting
⠇ | 6129 | spectra_subsetting
⠋ | 6131 | spectra_subsetting
⠙ | 6132 | spectra_subsetting
⠸ | 6134 | spectra_subsetting
⠼ | 6135 | spectra_subsetting
⠦ | 6137 | spectra_subsetting
⠇ | 6139 | spectra_subsetting
⠋ | 6141 | spectra_subsetting
⠹ | 6143 | spectra_subsetting
⠼ | 6145 | spectra_subsetting
⠦ | 6147 | spectra_subsetting
⠇ | 6149 | spectra_subsetting
⠋ | 6151 | spectra_subsetting
⠹ | 6153 | spectra_subsetting
⠼ | 6155 | spectra_subsetting
⠦ | 6157 | spectra_subsetting
⠇ | 6159 | spectra_subsetting
⠋ | 6161 | spectra_subsetting
⠹ | 6163 | spectra_subsetting
⠼ | 6165 | spectra_subsetting
⠦ | 6167 | spectra_subsetting
⠇ | 6169 | spectra_subsetting
⠋ | 6171 | spectra_subsetting
⠹ | 6173 | spectra_subsetting
⠼ | 6175 | spectra_subsetting
⠦ | 6177 | spectra_subsetting
⠧ | 6178 | spectra_subsetting
⠇ | 6179 | spectra_subsetting
⠋ | 6181 | spectra_subsetting
⠹ | 6183 | spectra_subsetting
⠼ | 6185 | spectra_subsetting
⠦ | 6187 | spectra_subsetting
⠇ | 6189 | spectra_subsetting
⠋ | 6191 | spectra_subsetting
⠹ | 6193 | spectra_subsetting
⠼ | 6195 | spectra_subsetting
⠦ | 6197 | spectra_subsetting
⠇ | 6199 | spectra_subsetting
⠋ | 6201 | spectra_subsetting
⠹ | 6203 | spectra_subsetting
⠼ | 6205 | spectra_subsetting
⠦ | 6207 | spectra_subsetting
⠇ | 6209 | spectra_subsetting
⠋ | 6211 | spectra_subsetting
⠹ | 6213 | spectra_subsetting
⠼ | 6215 | spectra_subsetting
⠦ | 6217 | spectra_subsetting
⠇ | 6219 | spectra_subsetting
⠋ | 6221 | spectra_subsetting
⠹ | 6223 | spectra_subsetting
⠼ | 6225 | spectra_subsetting
⠦ | 6227 | spectra_subsetting
⠇ | 6229 | spectra_subsetting
⠋ | 6231 | spectra_subsetting
⠹ | 6233 | spectra_subsetting
⠼ | 6235 | spectra_subsetting
⠦ | 6237 | spectra_subsetting
⠇ | 6239 | spectra_subsetting
⠋ | 6241 | spectra_subsetting
⠹ | 6243 | spectra_subsetting
⠼ | 6245 | spectra_subsetting
⠦ | 6247 | spectra_subsetting
⠇ | 6249 | spectra_subsetting
⠋ | 6251 | spectra_subsetting
⠹ | 6253 | spectra_subsetting
⠼ | 6255 | spectra_subsetting
⠦ | 6257 | spectra_subsetting
⠇ | 6259 | spectra_subsetting
⠋ | 6261 | spectra_subsetting
⠹ | 6263 | spectra_subsetting
⠼ | 6265 | spectra_subsetting
⠦ | 6267 | spectra_subsetting
⠇ | 6269 | spectra_subsetting
⠋ | 6271 | spectra_subsetting
⠹ | 6273 | spectra_subsetting
⠼ | 6275 | spectra_subsetting
⠦ | 6277 | spectra_subsetting
⠇ | 6279 | spectra_subsetting
⠋ | 6281 | spectra_subsetting
⠙ | 6282 | spectra_subsetting
⠸ | 6284 | spectra_subsetting
⠴ | 6286 | spectra_subsetting
⠧ | 6288 | spectra_subsetting
⠏ | 6290 | spectra_subsetting
⠙ | 6292 | spectra_subsetting
⠸ | 6294 | spectra_subsetting
⠴ | 6296 | spectra_subsetting
⠧ | 6298 | spectra_subsetting
⠏ | 6300 | spectra_subsetting
⠙ | 6302 | spectra_subsetting
⠸ | 6304 | spectra_subsetting
⠴ | 6306 | spectra_subsetting
⠧ | 6308 | spectra_subsetting
⠏ | 6310 | spectra_subsetting
⠙ | 6312 | spectra_subsetting
⠸ | 6314 | spectra_subsetting
⠴ | 6316 | spectra_subsetting
⠧ | 6318 | spectra_subsetting
⠏ | 6320 | spectra_subsetting
⠙ | 6322 | spectra_subsetting
⠸ | 6324 | spectra_subsetting
⠴ | 6326 | spectra_subsetting
⠧ | 6328 | spectra_subsetting
⠏ | 6330 | spectra_subsetting
⠙ | 6332 | spectra_subsetting
⠸ | 6334 | spectra_subsetting
⠴ | 6336 | spectra_subsetting
⠧ | 6338 | spectra_subsetting
⠏ | 6340 | spectra_subsetting
⠙ | 6342 | spectra_subsetting
⠸ | 6344 | spectra_subsetting
⠴ | 6346 | spectra_subsetting
⠧ | 6348 | spectra_subsetting
⠏ | 6350 | spectra_subsetting
⠙ | 6352 | spectra_subsetting
⠸ | 6354 | spectra_subsetting
⠴ | 6356 | spectra_subsetting
⠧ | 6358 | spectra_subsetting
⠏ | 6360 | spectra_subsetting
⠙ | 6362 | spectra_subsetting
⠸ | 6364 | spectra_subsetting
⠴ | 6366 | spectra_subsetting
⠧ | 6368 | spectra_subsetting
⠏ | 6370 | spectra_subsetting
⠙ | 6372 | spectra_subsetting
⠸ | 6374 | spectra_subsetting
⠴ | 6376 | spectra_subsetting
⠧ | 6378 | spectra_subsetting
⠇ | 6379 | spectra_subsetting
⠋ | 6381 | spectra_subsetting
⠹ | 6383 | spectra_subsetting
⠼ | 6385 | spectra_subsetting
⠦ | 6387 | spectra_subsetting
⠇ | 6389 | spectra_subsetting
⠋ | 6391 | spectra_subsetting
⠹ | 6393 | spectra_subsetting
⠼ | 6395 | spectra_subsetting
⠦ | 6397 | spectra_subsetting
⠇ | 6399 | spectra_subsetting
⠋ | 6401 | spectra_subsetting
⠹ | 6403 | spectra_subsetting
⠼ | 6405 | spectra_subsetting
⠦ | 6407 | spectra_subsetting
⠇ | 6409 | spectra_subsetting
⠋ | 6411 | spectra_subsetting
⠹ | 6413 | spectra_subsetting
⠼ | 6415 | spectra_subsetting
⠦ | 6417 | spectra_subsetting
⠇ | 6419 | spectra_subsetting
⠋ | 6421 | spectra_subsetting
⠹ | 6423 | spectra_subsetting
⠼ | 6425 | spectra_subsetting
⠦ | 6427 | spectra_subsetting
⠧ | 6428 | spectra_subsetting
⠏ | 6430 | spectra_subsetting
⠙ | 6432 | spectra_subsetting
⠸ | 6434 | spectra_subsetting
⠴ | 6436 | spectra_subsetting
⠧ | 6438 | spectra_subsetting
⠏ | 6440 | spectra_subsetting
⠙ | 6442 | spectra_subsetting
⠸ | 6444 | spectra_subsetting
⠴ | 6446 | spectra_subsetting
⠧ | 6448 | spectra_subsetting
⠏ | 6450 | spectra_subsetting
⠙ | 6452 | spectra_subsetting
⠸ | 6454 | spectra_subsetting
⠴ | 6456 | spectra_subsetting
⠧ | 6458 | spectra_subsetting
⠏ | 6460 | spectra_subsetting
⠙ | 6462 | spectra_subsetting
⠸ | 6464 | spectra_subsetting
⠴ | 6466 | spectra_subsetting
⠧ | 6468 | spectra_subsetting
⠏ | 6470 | spectra_subsetting
⠙ | 6472 | spectra_subsetting
⠸ | 6474 | spectra_subsetting
⠴ | 6476 | spectra_subsetting
⠧ | 6478 | spectra_subsetting
⠏ | 6480 | spectra_subsetting
⠙ | 6482 | spectra_subsetting
⠸ | 6484 | spectra_subsetting
⠼ | 6485 | spectra_subsetting
⠦ | 6487 | spectra_subsetting
⠇ | 6489 | spectra_subsetting
⠋ | 6491 | spectra_subsetting
⠹ | 6493 | spectra_subsetting
⠼ | 6495 | spectra_subsetting
⠦ | 6497 | spectra_subsetting
⠇ | 6499 | spectra_subsetting
⠋ | 6501 | spectra_subsetting
⠹ | 6503 | spectra_subsetting
⠼ | 6505 | spectra_subsetting
⠦ | 6507 | spectra_subsetting
⠇ | 6509 | spectra_subsetting
⠋ | 6511 | spectra_subsetting
⠹ | 6513 | spectra_subsetting
⠼ | 6515 | spectra_subsetting
⠦ | 6517 | spectra_subsetting
⠇ | 6519 | spectra_subsetting
⠋ | 6521 | spectra_subsetting
⠹ | 6523 | spectra_subsetting
⠼ | 6525 | spectra_subsetting
⠦ | 6527 | spectra_subsetting
⠇ | 6529 | spectra_subsetting
⠋ | 6531 | spectra_subsetting
⠹ | 6533 | spectra_subsetting
⠼ | 6535 | spectra_subsetting
⠦ | 6537 | spectra_subsetting
⠇ | 6539 | spectra_subsetting
⠋ | 6541 | spectra_subsetting
⠹ | 6543 | spectra_subsetting
⠸ | 6544 | spectra_subsetting
⠴ | 6546 | spectra_subsetting
⠧ | 6548 | spectra_subsetting
⠏ | 6550 | spectra_subsetting
⠙ | 6552 | spectra_subsetting
⠸ | 6554 | spectra_subsetting
⠴ | 6556 | spectra_subsetting
⠧ | 6558 | spectra_subsetting
⠏ | 6560 | spectra_subsetting
⠙ | 6562 | spectra_subsetting
⠸ | 6564 | spectra_subsetting
⠴ | 6566 | spectra_subsetting
⠧ | 6568 | spectra_subsetting
⠏ | 6570 | spectra_subsetting
⠙ | 6572 | spectra_subsetting
⠸ | 6574 | spectra_subsetting
⠴ | 6576 | spectra_subsetting
⠧ | 6578 | spectra_subsetting
⠇ | 6579 | spectra_subsetting
⠋ | 6581 | spectra_subsetting
⠹ | 6583 | spectra_subsetting
⠼ | 6585 | spectra_subsetting
⠦ | 6587 | spectra_subsetting
⠇ | 6589 | spectra_subsetting
⠋ | 6591 | spectra_subsetting
⠹ | 6593 | spectra_subsetting
⠼ | 6595 | spectra_subsetting
⠦ | 6597 | spectra_subsetting
⠧ | 6598 | spectra_subsetting
⠏ | 6600 | spectra_subsetting
⠙ | 6602 | spectra_subsetting
⠸ | 6604 | spectra_subsetting
⠴ | 6606 | spectra_subsetting
⠧ | 6608 | spectra_subsetting
⠏ | 6610 | spectra_subsetting
⠙ | 6612 | spectra_subsetting
⠸ | 6614 | spectra_subsetting
⠴ | 6616 | spectra_subsetting
⠧ | 6618 | spectra_subsetting
⠏ | 6620 | spectra_subsetting
⠙ | 6622 | spectra_subsetting
⠸ | 6624 | spectra_subsetting
⠴ | 6626 | spectra_subsetting
⠧ | 6628 | spectra_subsetting
⠏ | 6630 | spectra_subsetting
⠙ | 6632 | spectra_subsetting
⠸ | 6634 | spectra_subsetting
⠴ | 6636 | spectra_subsetting
⠧ | 6638 | spectra_subsetting
⠏ | 6640 | spectra_subsetting
⠙ | 6642 | spectra_subsetting
⠸ | 6644 | spectra_subsetting
⠴ | 6646 | spectra_subsetting
⠧ | 6648 | spectra_subsetting
⠏ | 6650 | spectra_subsetting
⠙ | 6652 | spectra_subsetting
⠸ | 6654 | spectra_subsetting
⠴ | 6656 | spectra_subsetting
⠧ | 6658 | spectra_subsetting
⠏ | 6660 | spectra_subsetting
⠸ | 6664 | spectra_subsetting
⠹ | 6673 | spectra_subsetting
⠇ | 6679 | spectra_subsetting
⠸ | 6694 | spectra_subsetting
✔ | 6702 | spectra_subsetting [159.5s]
⠏ | 0 | spectra_variables
⠙ | 12 | spectra_variables
⠸ | 14 | spectra_variables
⠴ | 16 | spectra_variables
⠦ | 27 | spectra_variables
⠇ | 29 | spectra_variables
⠋ | 31 | spectra_variables
⠹ | 43 | spectra_variables
⠸ | 54 | spectra_variables
✔ | 1 62 | spectra_variables [2.0s]
══ Results ═════════════════════════════════════════════════════════════════════
Duration: 161.9 s
── Skipped tests (1) ───────────────────────────────────────────────────────────
• empty test (1): 'test_spectra_variables.R:262:1'
[ FAIL 0 | WARN 0 | SKIP 1 | PASS 6768 ]
>
> proc.time()
user system elapsed
155.096 12.792 332.759
MsBackendMetaboLights.Rcheck/MsBackendMetaboLights-Ex.timings
| name | user | system | elapsed | |
| MetaboLights-utils | 0.130 | 0.015 | 6.701 | |
| MsBackendMetaboLights | 2.954 | 0.575 | 9.728 | |