| Back to Multiple platform build/check report for BioC 3.21: simplified long |
|
This page was generated on 2025-04-22 13:16 -0400 (Tue, 22 Apr 2025).
| Hostname | OS | Arch (*) | R version | Installed pkgs |
|---|---|---|---|---|
| nebbiolo1 | Linux (Ubuntu 24.04.1 LTS) | x86_64 | 4.5.0 RC (2025-04-04 r88126) -- "How About a Twenty-Six" | 4831 |
| palomino7 | Windows Server 2022 Datacenter | x64 | 4.5.0 RC (2025-04-04 r88126 ucrt) -- "How About a Twenty-Six" | 4573 |
| lconway | macOS 12.7.1 Monterey | x86_64 | 4.5.0 RC (2025-04-04 r88126) -- "How About a Twenty-Six" | 4599 |
| kjohnson3 | macOS 13.7.1 Ventura | arm64 | 4.5.0 RC (2025-04-04 r88126) -- "How About a Twenty-Six" | 4553 |
| kunpeng2 | Linux (openEuler 24.03 LTS) | aarch64 | R Under development (unstable) (2025-02-19 r87757) -- "Unsuffered Consequences" | 4570 |
| Click on any hostname to see more info about the system (e.g. compilers) (*) as reported by 'uname -p', except on Windows and Mac OS X | ||||
| Package 1339/2341 | Hostname | OS / Arch | INSTALL | BUILD | CHECK | BUILD BIN | ||||||||
| MOSClip 1.2.0 (landing page) Paolo Martini
| nebbiolo1 | Linux (Ubuntu 24.04.1 LTS) / x86_64 | OK | OK | ERROR | |||||||||
| palomino7 | Windows Server 2022 Datacenter / x64 | OK | OK | ERROR | OK | |||||||||
| lconway | macOS 12.7.1 Monterey / x86_64 | OK | OK | ERROR | OK | |||||||||
| kjohnson3 | macOS 13.7.1 Ventura / arm64 | OK | OK | ERROR | OK | |||||||||
| kunpeng2 | Linux (openEuler 24.03 LTS) / aarch64 | OK | OK | ERROR | ||||||||||
|
To the developers/maintainers of the MOSClip package: - Allow up to 24 hours (and sometimes 48 hours) for your latest push to git@git.bioconductor.org:packages/MOSClip.git to reflect on this report. See Troubleshooting Build Report for more information. - Use the following Renviron settings to reproduce errors and warnings. - If 'R CMD check' started to fail recently on the Linux builder(s) over a missing dependency, add the missing dependency to 'Suggests:' in your DESCRIPTION file. See Renviron.bioc for more information. |
| Package: MOSClip |
| Version: 1.2.0 |
| Command: /Library/Frameworks/R.framework/Resources/bin/R CMD check --install=check:MOSClip.install-out.txt --library=/Library/Frameworks/R.framework/Resources/library --no-vignettes --timings MOSClip_1.2.0.tar.gz |
| StartedAt: 2025-04-21 22:02:00 -0400 (Mon, 21 Apr 2025) |
| EndedAt: 2025-04-21 22:10:25 -0400 (Mon, 21 Apr 2025) |
| EllapsedTime: 504.9 seconds |
| RetCode: 1 |
| Status: ERROR |
| CheckDir: MOSClip.Rcheck |
| Warnings: NA |
##############################################################################
##############################################################################
###
### Running command:
###
### /Library/Frameworks/R.framework/Resources/bin/R CMD check --install=check:MOSClip.install-out.txt --library=/Library/Frameworks/R.framework/Resources/library --no-vignettes --timings MOSClip_1.2.0.tar.gz
###
##############################################################################
##############################################################################
* using log directory ‘/Users/biocbuild/bbs-3.21-bioc/meat/MOSClip.Rcheck’
* using R version 4.5.0 RC (2025-04-04 r88126)
* using platform: x86_64-apple-darwin20
* R was compiled by
Apple clang version 14.0.0 (clang-1400.0.29.202)
GNU Fortran (GCC) 14.2.0
* running under: macOS Monterey 12.7.6
* using session charset: UTF-8
* using option ‘--no-vignettes’
* checking for file ‘MOSClip/DESCRIPTION’ ... OK
* this is package ‘MOSClip’ version ‘1.2.0’
* package encoding: UTF-8
* checking package namespace information ... OK
* checking package dependencies ... INFO
Imports includes 27 non-default packages.
Importing from so many packages makes the package vulnerable to any of
them becoming unavailable. Move as many as possible to Suggests and
use conditionally.
* checking if this is a source package ... OK
* checking if there is a namespace ... OK
* checking for hidden files and directories ... OK
* checking for portable file names ... OK
* checking for sufficient/correct file permissions ... OK
* checking whether package ‘MOSClip’ can be installed ... OK
* checking installed package size ... OK
* checking package directory ... OK
* checking ‘build’ directory ... OK
* checking DESCRIPTION meta-information ... OK
* checking top-level files ... OK
* checking for left-over files ... OK
* checking index information ... OK
* checking package subdirectories ... OK
* checking code files for non-ASCII characters ... OK
* checking R files for syntax errors ... OK
* checking whether the package can be loaded ... OK
* checking whether the package can be loaded with stated dependencies ... OK
* checking whether the package can be unloaded cleanly ... OK
* checking whether the namespace can be loaded with stated dependencies ... OK
* checking whether the namespace can be unloaded cleanly ... OK
* checking dependencies in R code ... OK
* checking S3 generic/method consistency ... OK
* checking replacement functions ... OK
* checking foreign function calls ... OK
* checking R code for possible problems ... OK
* checking Rd files ... OK
* checking Rd metadata ... OK
* checking Rd cross-references ... NOTE
Found the following Rd file(s) with Rd \link{} targets missing package
anchors:
makeOmics.Rd: ExperimentList, DataFrame-class
Please provide package anchors for all Rd \link{} targets not in the
package itself and the base packages.
* checking for missing documentation entries ... OK
* checking for code/documentation mismatches ... OK
* checking Rd \usage sections ... OK
* checking Rd contents ... OK
* checking for unstated dependencies in examples ... OK
* checking contents of ‘data’ directory ... OK
* checking data for non-ASCII characters ... OK
* checking data for ASCII and uncompressed saves ... OK
* checking files in ‘vignettes’ ... OK
* checking examples ... OK
Examples with CPU (user + system) or elapsed time > 5s
user system elapsed
evaluateResampling 6.377 0.195 6.597
annotePathwayToFather 5.574 0.217 5.811
plotModuleReport 5.194 0.059 5.285
* checking for unstated dependencies in ‘tests’ ... OK
* checking tests ...
Running ‘testthat.R’
ERROR
Running the tests in ‘tests/testthat.R’ failed.
Last 13 lines of output:
1. ├─testthat::expect_warning(...) at test-Supertest-accessory-function.R:20:9
2. │ └─testthat:::quasi_capture(...)
3. │ ├─testthat (local) .capture(...)
4. │ │ └─base::withCallingHandlers(...)
5. │ └─rlang::eval_bare(quo_get_expr(.quo), quo_get_env(.quo))
6. └─base::lapply(...)
7. └─MOSClip (local) FUN(X[[i]], ...)
8. └─MOSClip:::mapPathwaysIDfromGraphite(graphiteDB)
9. └─base::lapply(...)
10. └─MOSClip (local) FUN(X[[i]], ...)
11. └─base::data.frame(id = pathways[[p]]@id, pname = p, stringsAsFactors = FALSE)
[ FAIL 1 | WARN 0 | SKIP 0 | PASS 197 ]
Error: Test failures
Execution halted
* checking for unstated dependencies in vignettes ... OK
* checking package vignettes ... OK
* checking running R code from vignettes ... SKIPPED
* checking re-building of vignette outputs ... SKIPPED
* checking PDF version of manual ... OK
* DONE
Status: 1 ERROR, 1 NOTE
See
‘/Users/biocbuild/bbs-3.21-bioc/meat/MOSClip.Rcheck/00check.log’
for details.
MOSClip.Rcheck/00install.out
############################################################################## ############################################################################## ### ### Running command: ### ### /Library/Frameworks/R.framework/Resources/bin/R CMD INSTALL MOSClip ### ############################################################################## ############################################################################## * installing to library ‘/Library/Frameworks/R.framework/Versions/4.5-x86_64/Resources/library’ * installing *source* package ‘MOSClip’ ... ** this is package ‘MOSClip’ version ‘1.2.0’ ** using staged installation ** R ** data ** inst ** byte-compile and prepare package for lazy loading ** help *** installing help indices *** copying figures ** building package indices ** installing vignettes ** testing if installed package can be loaded from temporary location ** testing if installed package can be loaded from final location ** testing if installed package keeps a record of temporary installation path * DONE (MOSClip)
MOSClip.Rcheck/tests/testthat.Rout.fail
R version 4.5.0 RC (2025-04-04 r88126) -- "How About a Twenty-Six"
Copyright (C) 2025 The R Foundation for Statistical Computing
Platform: x86_64-apple-darwin20
R is free software and comes with ABSOLUTELY NO WARRANTY.
You are welcome to redistribute it under certain conditions.
Type 'license()' or 'licence()' for distribution details.
R is a collaborative project with many contributors.
Type 'contributors()' for more information and
'citation()' on how to cite R or R packages in publications.
Type 'demo()' for some demos, 'help()' for on-line help, or
'help.start()' for an HTML browser interface to help.
Type 'q()' to quit R.
> library(testthat)
> library(MOSClip)
>
> test_check("MOSClip")
[ FAIL 1 | WARN 0 | SKIP 0 | PASS 197 ]
══ Failed tests ════════════════════════════════════════════════════════════════
── Error ('test-Supertest-accessory-function.R:20:9'): generateWarn ────────────
Error in `pathways[[p]]@id`: no applicable method for `@` applied to an object of class "NULL"
Backtrace:
▆
1. ├─testthat::expect_warning(...) at test-Supertest-accessory-function.R:20:9
2. │ └─testthat:::quasi_capture(...)
3. │ ├─testthat (local) .capture(...)
4. │ │ └─base::withCallingHandlers(...)
5. │ └─rlang::eval_bare(quo_get_expr(.quo), quo_get_env(.quo))
6. └─base::lapply(...)
7. └─MOSClip (local) FUN(X[[i]], ...)
8. └─MOSClip:::mapPathwaysIDfromGraphite(graphiteDB)
9. └─base::lapply(...)
10. └─MOSClip (local) FUN(X[[i]], ...)
11. └─base::data.frame(id = pathways[[p]]@id, pname = p, stringsAsFactors = FALSE)
[ FAIL 1 | WARN 0 | SKIP 0 | PASS 197 ]
Error: Test failures
Execution halted
MOSClip.Rcheck/MOSClip-Ex.timings
| name | user | system | elapsed | |
| annotePathwayToFather | 5.574 | 0.217 | 5.811 | |
| availableOmicMethods | 0 | 0 | 0 | |
| computeFreqs | 0.002 | 0.000 | 0.002 | |
| computeOmicsIntersections | 0.003 | 0.001 | 0.003 | |
| downloadPathwayRelationFromReactome | 0.076 | 0.031 | 0.108 | |
| evaluateResampling | 6.377 | 0.195 | 6.597 | |
| makeOmics | 0.219 | 0.004 | 0.224 | |
| minOrNA | 0 | 0 | 0 | |
| multiOmicsSurvivalModuleTest | 1.536 | 0.044 | 1.586 | |
| multiOmicsSurvivalPathwayTest | 0.274 | 0.008 | 0.282 | |
| multiOmicsTwoClassModuleTest | 1.529 | 0.043 | 1.579 | |
| multiOmicsTwoClassPathwayTest | 0.303 | 0.015 | 0.320 | |
| multiPathwayModuleReport | 3.880 | 0.057 | 3.963 | |
| multiPathwayReport | 0.612 | 0.021 | 0.636 | |
| plotFrequencies | 0.265 | 0.007 | 0.273 | |
| plotModuleHeat | 4.731 | 0.106 | 4.955 | |
| plotModuleInGraph | 2.238 | 0.057 | 2.332 | |
| plotModuleKM | 3.034 | 0.083 | 3.137 | |
| plotModuleReport | 5.194 | 0.059 | 5.285 | |
| plotMultiPathwayReport | 1.445 | 0.028 | 1.479 | |
| plotPathwayHeat | 2.060 | 0.047 | 2.115 | |
| plotPathwayKM | 1.477 | 0.033 | 1.517 | |
| resampling-Survival | 4.931 | 0.044 | 4.999 | |
| resampling-TwoClass | 4.704 | 0.039 | 4.759 | |
| runSupertest | 0.163 | 0.005 | 0.169 | |
| showMOSpalette | 0.016 | 0.001 | 0.018 | |
| showModule | 1.554 | 0.024 | 1.584 | |
| showOmics | 0.041 | 0.002 | 0.044 | |
| showPathway | 0.346 | 0.014 | 0.360 | |
| stripModulesFromPathways | 0.000 | 0.001 | 0.000 | |
| summarizeOmicsResByMinPvalue | 0.000 | 0.000 | 0.001 | |