| Back to Multiple platform build/check report for BioC 3.21: simplified long |
|
This page was generated on 2025-10-16 11:41 -0400 (Thu, 16 Oct 2025).
| Hostname | OS | Arch (*) | R version | Installed pkgs |
|---|---|---|---|---|
| nebbiolo1 | Linux (Ubuntu 24.04.3 LTS) | x86_64 | 4.5.1 (2025-06-13) -- "Great Square Root" | 4833 |
| merida1 | macOS 12.7.6 Monterey | x86_64 | 4.5.1 RC (2025-06-05 r88288) -- "Great Square Root" | 4614 |
| kjohnson1 | macOS 13.7.5 Ventura | arm64 | 4.5.1 Patched (2025-06-14 r88325) -- "Great Square Root" | 4555 |
| kunpeng2 | Linux (openEuler 24.03 LTS) | aarch64 | R Under development (unstable) (2025-02-19 r87757) -- "Unsuffered Consequences" | 4586 |
| Click on any hostname to see more info about the system (e.g. compilers) (*) as reported by 'uname -p', except on Windows and Mac OS X | ||||
| Package 1339/2341 | Hostname | OS / Arch | INSTALL | BUILD | CHECK | BUILD BIN | ||||||||
| MOSClip 1.2.3 (landing page) Paolo Martini
| nebbiolo1 | Linux (Ubuntu 24.04.3 LTS) / x86_64 | OK | OK | OK | |||||||||
| merida1 | macOS 12.7.6 Monterey / x86_64 | OK | OK | OK | OK | |||||||||
| kjohnson1 | macOS 13.7.5 Ventura / arm64 | OK | OK | OK | OK | |||||||||
| kunpeng2 | Linux (openEuler 24.03 LTS) / aarch64 | OK | OK | OK | ||||||||||
|
To the developers/maintainers of the MOSClip package: - Allow up to 24 hours (and sometimes 48 hours) for your latest push to git@git.bioconductor.org:packages/MOSClip.git to reflect on this report. See Troubleshooting Build Report for more information. - Use the following Renviron settings to reproduce errors and warnings. - If 'R CMD check' started to fail recently on the Linux builder(s) over a missing dependency, add the missing dependency to 'Suggests:' in your DESCRIPTION file. See Renviron.bioc for more information. - See Martin Grigorov's blog post for how to debug Linux ARM64 related issues on a x86_64 host. |
| Package: MOSClip |
| Version: 1.2.3 |
| Command: /home/biocbuild/R/R/bin/R CMD check --install=check:MOSClip.install-out.txt --library=/home/biocbuild/R/R/site-library --no-vignettes --timings MOSClip_1.2.3.tar.gz |
| StartedAt: 2025-10-14 11:28:37 -0000 (Tue, 14 Oct 2025) |
| EndedAt: 2025-10-14 11:39:17 -0000 (Tue, 14 Oct 2025) |
| EllapsedTime: 639.7 seconds |
| RetCode: 0 |
| Status: OK |
| CheckDir: MOSClip.Rcheck |
| Warnings: 0 |
##############################################################################
##############################################################################
###
### Running command:
###
### /home/biocbuild/R/R/bin/R CMD check --install=check:MOSClip.install-out.txt --library=/home/biocbuild/R/R/site-library --no-vignettes --timings MOSClip_1.2.3.tar.gz
###
##############################################################################
##############################################################################
* using log directory ‘/home/biocbuild/bbs-3.21-bioc/meat/MOSClip.Rcheck’
* using R Under development (unstable) (2025-02-19 r87757)
* using platform: aarch64-unknown-linux-gnu
* R was compiled by
aarch64-unknown-linux-gnu-gcc (GCC) 14.2.0
GNU Fortran (GCC) 14.2.0
* running under: openEuler 24.03 (LTS-SP1)
* using session charset: UTF-8
* using option ‘--no-vignettes’
* checking for file ‘MOSClip/DESCRIPTION’ ... OK
* this is package ‘MOSClip’ version ‘1.2.3’
* package encoding: UTF-8
* checking package namespace information ... OK
* checking package dependencies ... INFO
Imports includes 27 non-default packages.
Importing from so many packages makes the package vulnerable to any of
them becoming unavailable. Move as many as possible to Suggests and
use conditionally.
* checking if this is a source package ... OK
* checking if there is a namespace ... OK
* checking for hidden files and directories ... OK
* checking for portable file names ... OK
* checking for sufficient/correct file permissions ... OK
* checking whether package ‘MOSClip’ can be installed ... OK
* checking installed package size ... OK
* checking package directory ... OK
* checking ‘build’ directory ... OK
* checking DESCRIPTION meta-information ... OK
* checking top-level files ... OK
* checking for left-over files ... OK
* checking index information ... OK
* checking package subdirectories ... OK
* checking code files for non-ASCII characters ... OK
* checking R files for syntax errors ... OK
* checking whether the package can be loaded ... OK
* checking whether the package can be loaded with stated dependencies ... OK
* checking whether the package can be unloaded cleanly ... OK
* checking whether the namespace can be loaded with stated dependencies ... OK
* checking whether the namespace can be unloaded cleanly ... OK
* checking loading without being on the library search path ... OK
* checking dependencies in R code ... OK
* checking S3 generic/method consistency ... OK
* checking replacement functions ... OK
* checking foreign function calls ... OK
* checking R code for possible problems ... OK
* checking Rd files ... OK
* checking Rd metadata ... OK
* checking Rd cross-references ... NOTE
Found the following Rd file(s) with Rd \link{} targets missing package
anchors:
makeOmics.Rd: ExperimentList, DataFrame-class
Please provide package anchors for all Rd \link{} targets not in the
package itself and the base packages.
* checking for missing documentation entries ... OK
* checking for code/documentation mismatches ... OK
* checking Rd \usage sections ... OK
* checking Rd contents ... OK
* checking for unstated dependencies in examples ... OK
* checking contents of ‘data’ directory ... OK
* checking data for non-ASCII characters ... OK
* checking data for ASCII and uncompressed saves ... OK
* checking files in ‘vignettes’ ... OK
* checking examples ... OK
Examples with CPU (user + system) or elapsed time > 5s
user system elapsed
evaluateResampling 9.341 0.080 9.442
annotePathwayToFather 8.175 0.168 8.366
plotModuleReport 7.447 0.016 7.480
resampling-Survival 6.879 0.008 6.903
resampling-TwoClass 6.816 0.016 6.849
plotModuleHeat 6.639 0.072 6.741
multiPathwayModuleReport 5.615 0.067 5.696
plotModuleKM 5.567 0.008 5.589
* checking for unstated dependencies in ‘tests’ ... OK
* checking tests ...
Running ‘testthat.R’
OK
* checking for unstated dependencies in vignettes ... OK
* checking package vignettes ... OK
* checking running R code from vignettes ... SKIPPED
* checking re-building of vignette outputs ... SKIPPED
* checking PDF version of manual ... OK
* DONE
Status: 1 NOTE
See
‘/home/biocbuild/bbs-3.21-bioc/meat/MOSClip.Rcheck/00check.log’
for details.
MOSClip.Rcheck/00install.out
############################################################################## ############################################################################## ### ### Running command: ### ### /home/biocbuild/R/R/bin/R CMD INSTALL MOSClip ### ############################################################################## ############################################################################## * installing to library ‘/home/biocbuild/R/R-devel_2025-02-19/site-library’ * installing *source* package ‘MOSClip’ ... ** this is package ‘MOSClip’ version ‘1.2.3’ ** using staged installation ** R ** data ** inst ** byte-compile and prepare package for lazy loading ** help *** installing help indices *** copying figures ** building package indices ** installing vignettes ** testing if installed package can be loaded from temporary location ** testing if installed package can be loaded from final location ** testing if installed package keeps a record of temporary installation path * DONE (MOSClip)
MOSClip.Rcheck/tests/testthat.Rout
R Under development (unstable) (2025-02-19 r87757) -- "Unsuffered Consequences"
Copyright (C) 2025 The R Foundation for Statistical Computing
Platform: aarch64-unknown-linux-gnu
R is free software and comes with ABSOLUTELY NO WARRANTY.
You are welcome to redistribute it under certain conditions.
Type 'license()' or 'licence()' for distribution details.
R is a collaborative project with many contributors.
Type 'contributors()' for more information and
'citation()' on how to cite R or R packages in publications.
Type 'demo()' for some demos, 'help()' for on-line help, or
'help.start()' for an HTML browser interface to help.
Type 'q()' to quit R.
> library(testthat)
> library(MOSClip)
>
> test_check("MOSClip")
[ FAIL 0 | WARN 8 | SKIP 0 | PASS 198 ]
[ FAIL 0 | WARN 8 | SKIP 0 | PASS 198 ]
>
> proc.time()
user system elapsed
110.779 3.541 116.368
MOSClip.Rcheck/MOSClip-Ex.timings
| name | user | system | elapsed | |
| annotePathwayToFather | 8.175 | 0.168 | 8.366 | |
| availableOmicMethods | 0.001 | 0.000 | 0.000 | |
| computeFreqs | 0.003 | 0.000 | 0.003 | |
| computeOmicsIntersections | 0.004 | 0.000 | 0.005 | |
| downloadPathwayRelationFromReactome | 0.058 | 0.008 | 0.066 | |
| evaluateResampling | 9.341 | 0.080 | 9.442 | |
| makeOmics | 0.297 | 0.000 | 0.297 | |
| minOrNA | 0 | 0 | 0 | |
| multiOmicsSurvivalModuleTest | 2.188 | 0.042 | 2.236 | |
| multiOmicsSurvivalPathwayTest | 0.484 | 0.001 | 0.485 | |
| multiOmicsTwoClassModuleTest | 2.295 | 0.004 | 2.304 | |
| multiOmicsTwoClassPathwayTest | 0.420 | 0.000 | 0.421 | |
| multiPathwayModuleReport | 5.615 | 0.067 | 5.696 | |
| multiPathwayReport | 0.885 | 0.004 | 0.890 | |
| plotFrequencies | 0.611 | 0.008 | 0.621 | |
| plotModuleHeat | 6.639 | 0.072 | 6.741 | |
| plotModuleInGraph | 2.865 | 0.028 | 2.899 | |
| plotModuleKM | 5.567 | 0.008 | 5.589 | |
| plotModuleReport | 7.447 | 0.016 | 7.480 | |
| plotMultiPathwayReport | 2.025 | 0.012 | 2.042 | |
| plotPathwayHeat | 2.925 | 0.024 | 2.956 | |
| plotPathwayKM | 3.209 | 0.004 | 3.221 | |
| resampling-Survival | 6.879 | 0.008 | 6.903 | |
| resampling-TwoClass | 6.816 | 0.016 | 6.849 | |
| runSupertest | 0.215 | 0.000 | 0.216 | |
| showMOSpalette | 0.02 | 0.00 | 0.02 | |
| showModule | 2.281 | 0.000 | 2.287 | |
| showOmics | 0.041 | 0.004 | 0.045 | |
| showPathway | 0.486 | 0.000 | 0.487 | |
| stripModulesFromPathways | 0.001 | 0.000 | 0.000 | |
| summarizeOmicsResByMinPvalue | 0 | 0 | 0 | |