Back to Multiple platform build/check report for BioC 3.21:   simplified   long
ABCDEFGHIJKL[M]NOPQRSTUVWXYZ

This page was generated on 2025-02-15 11:42 -0500 (Sat, 15 Feb 2025).

HostnameOSArch (*)R versionInstalled pkgs
nebbiolo1Linux (Ubuntu 24.04.1 LTS)x86_64R Under development (unstable) (2025-01-20 r87609) -- "Unsuffered Consequences" 4720
palomino7Windows Server 2022 Datacenterx64R Under development (unstable) (2025-01-21 r87610 ucrt) -- "Unsuffered Consequences" 4482
lconwaymacOS 12.7.1 Montereyx86_64R Under development (unstable) (2025-01-22 r87618) -- "Unsuffered Consequences" 4493
kjohnson3macOS 13.7.1 Venturaarm64R Under development (unstable) (2025-01-20 r87609) -- "Unsuffered Consequences" 4446
Click on any hostname to see more info about the system (e.g. compilers)      (*) as reported by 'uname -p', except on Windows and Mac OS X

Package 1173/2295HostnameOS / ArchINSTALLBUILDCHECKBUILD BIN
MBECS 1.11.0  (landing page)
Michael Olbrich
Snapshot Date: 2025-02-14 13:40 -0500 (Fri, 14 Feb 2025)
git_url: https://git.bioconductor.org/packages/MBECS
git_branch: devel
git_last_commit: f568758
git_last_commit_date: 2024-10-29 11:08:55 -0500 (Tue, 29 Oct 2024)
nebbiolo1Linux (Ubuntu 24.04.1 LTS) / x86_64  OK    OK    OK  UNNEEDED, same version is already published
palomino7Windows Server 2022 Datacenter / x64  OK    OK    OK    OK  UNNEEDED, same version is already published
lconwaymacOS 12.7.1 Monterey / x86_64  OK    OK    OK    OK  UNNEEDED, same version is already published
kjohnson3macOS 13.7.1 Ventura / arm64  OK    OK    OK    OK  UNNEEDED, same version is already published


CHECK results for MBECS on lconway

To the developers/maintainers of the MBECS package:
- Allow up to 24 hours (and sometimes 48 hours) for your latest push to git@git.bioconductor.org:packages/MBECS.git to reflect on this report. See Troubleshooting Build Report for more information.
- Use the following Renviron settings to reproduce errors and warnings.
- If 'R CMD check' started to fail recently on the Linux builder(s) over a missing dependency, add the missing dependency to 'Suggests:' in your DESCRIPTION file. See Renviron.bioc for more information.

raw results


Summary

Package: MBECS
Version: 1.11.0
Command: /Library/Frameworks/R.framework/Resources/bin/R CMD check --install=check:MBECS.install-out.txt --library=/Library/Frameworks/R.framework/Resources/library --no-vignettes --timings MBECS_1.11.0.tar.gz
StartedAt: 2025-02-14 21:18:14 -0500 (Fri, 14 Feb 2025)
EndedAt: 2025-02-14 21:22:41 -0500 (Fri, 14 Feb 2025)
EllapsedTime: 267.0 seconds
RetCode: 0
Status:   OK  
CheckDir: MBECS.Rcheck
Warnings: 0

Command output

##############################################################################
##############################################################################
###
### Running command:
###
###   /Library/Frameworks/R.framework/Resources/bin/R CMD check --install=check:MBECS.install-out.txt --library=/Library/Frameworks/R.framework/Resources/library --no-vignettes --timings MBECS_1.11.0.tar.gz
###
##############################################################################
##############################################################################


* using log directory ‘/Users/biocbuild/bbs-3.21-bioc/meat/MBECS.Rcheck’
* using R Under development (unstable) (2025-01-22 r87618)
* using platform: x86_64-apple-darwin20
* R was compiled by
    Apple clang version 14.0.0 (clang-1400.0.29.202)
    GNU Fortran (GCC) 14.2.0
* running under: macOS Monterey 12.7.6
* using session charset: UTF-8
* using option ‘--no-vignettes’
* checking for file ‘MBECS/DESCRIPTION’ ... OK
* this is package ‘MBECS’ version ‘1.11.0’
* package encoding: UTF-8
* checking package namespace information ... OK
* checking package dependencies ... OK
* checking if this is a source package ... OK
* checking if there is a namespace ... OK
* checking for hidden files and directories ... OK
* checking for portable file names ... OK
* checking for sufficient/correct file permissions ... OK
* checking whether package ‘MBECS’ can be installed ... OK
* checking installed package size ... OK
* checking package directory ... OK
* checking ‘build’ directory ... OK
* checking DESCRIPTION meta-information ... OK
* checking top-level files ... OK
* checking for left-over files ... OK
* checking index information ... OK
* checking package subdirectories ... OK
* checking code files for non-ASCII characters ... OK
* checking R files for syntax errors ... OK
* checking whether the package can be loaded ... OK
* checking whether the package can be loaded with stated dependencies ... OK
* checking whether the package can be unloaded cleanly ... OK
* checking whether the namespace can be loaded with stated dependencies ... OK
* checking whether the namespace can be unloaded cleanly ... OK
* checking dependencies in R code ... OK
* checking S3 generic/method consistency ... OK
* checking replacement functions ... OK
* checking foreign function calls ... OK
* checking R code for possible problems ... OK
* checking Rd files ... OK
* checking Rd metadata ... OK
* checking Rd cross-references ... NOTE
Found the following Rd file(s) with Rd \link{} targets missing package
anchors:
  dummy.ps.Rd: phyloseq
Please provide package anchors for all Rd \link{} targets not in the
package itself and the base packages.
* checking for missing documentation entries ... OK
* checking for code/documentation mismatches ... OK
* checking Rd \usage sections ... OK
* checking Rd contents ... OK
* checking for unstated dependencies in examples ... OK
* checking contents of ‘data’ directory ... OK
* checking data for non-ASCII characters ... OK
* checking data for ASCII and uncompressed saves ... OK
* checking files in ‘vignettes’ ... OK
* checking examples ... OK
Examples with CPU (user + system) or elapsed time > 5s
                       user system elapsed
mbecModelVariance     6.287  0.046   6.362
mbecCorrection        6.150  0.131   6.315
mbecVarianceStatsPlot 5.309  0.032   5.361
* checking for unstated dependencies in ‘tests’ ... OK
* checking tests ...
  Running ‘testthat.R’
 OK
* checking for unstated dependencies in vignettes ... OK
* checking package vignettes ... OK
* checking running R code from vignettes ... SKIPPED
* checking re-building of vignette outputs ... SKIPPED
* checking PDF version of manual ... OK
* DONE

Status: 1 NOTE
See
  ‘/Users/biocbuild/bbs-3.21-bioc/meat/MBECS.Rcheck/00check.log’
for details.


Installation output

MBECS.Rcheck/00install.out

##############################################################################
##############################################################################
###
### Running command:
###
###   /Library/Frameworks/R.framework/Resources/bin/R CMD INSTALL MBECS
###
##############################################################################
##############################################################################


* installing to library ‘/Library/Frameworks/R.framework/Versions/4.5-x86_64/Resources/library’
* installing *source* package ‘MBECS’ ...
** this is package ‘MBECS’ version ‘1.11.0’
** using staged installation
** R
** data
** inst
** byte-compile and prepare package for lazy loading
** help
*** installing help indices
** building package indices
** installing vignettes
** testing if installed package can be loaded from temporary location
** testing if installed package can be loaded from final location
** testing if installed package keeps a record of temporary installation path
* DONE (MBECS)

Tests output

MBECS.Rcheck/tests/testthat.Rout


R Under development (unstable) (2025-01-22 r87618) -- "Unsuffered Consequences"
Copyright (C) 2025 The R Foundation for Statistical Computing
Platform: x86_64-apple-darwin20

R is free software and comes with ABSOLUTELY NO WARRANTY.
You are welcome to redistribute it under certain conditions.
Type 'license()' or 'licence()' for distribution details.

R is a collaborative project with many contributors.
Type 'contributors()' for more information and
'citation()' on how to cite R or R packages in publications.

Type 'demo()' for some demos, 'help()' for on-line help, or
'help.start()' for an HTML browser interface to help.
Type 'q()' to quit R.

> library(testthat)
> library(MBECS)
> 
> test_check("MBECS")
Set tss-transformed counts.
Found zeros, function will add a small pseudo-count
                (1/#features) for log-ratio transformation.
Set tss-transformed counts.
Found zeros, function will add a small pseudo-count
                (1/#features) for log-ratio transformation.
Set tss-transformed counts.
Found zeros, function will add a small pseudo-count
                (1/#features) for log-ratio transformation.
Set tss-transformed counts.
Found zeros, function will add a small pseudo-count
                (1/#features) for log-ratio transformation.
Set tss-transformed counts.
Found zeros, function will add a small pseudo-count
                (1/#features) for log-ratio transformation.
No negative control features provided.
                Using pseudo-negative controls.
Applying Remove Unwanted Variantion v3 (RUV-III).
No 'sID' column present, creating from rownames now.
No 'sID' column present, creating from rownames now.
Set tss-transformed counts.
No 'sID' column present, creating from rownames now.
Set tss-transformed counts.
Construct lm-formula from covariates.
Construct lm-formula from covariates.
There is a problem with the estimatibility of your model.
            Check out covariate: 'sIDS40'
Found zeros, function will add a small pseudo-count
                (1/#features) for log-ratio transformation.
Set tss-transformed counts.
Found zeros, function will add a small pseudo-count
                (1/#features) for log-ratio transformation.
Set tss-transformed counts.
Found zeros, function will add a small pseudo-count
                (1/#features) for log-ratio transformation.
Set tss-transformed counts.
Found zeros, function will add a small pseudo-count
                (1/#features) for log-ratio transformation.
Calculating RLE for group: A
Calculating RLE for group: B
Fitting linear model to every feature and extract proportion of
          variance explained by covariates.
Construct formula from covariates.

  |                                                                                      
  |                                                                                |   0%
  |                                                                                      
  |====                                                                            |   5%
  |                                                                                      
  |========                                                                        |  10%
  |                                                                                      
  |============                                                                    |  15%
  |                                                                                      
  |================                                                                |  20%
  |                                                                                      
  |====================                                                            |  25%
  |                                                                                      
  |========================                                                        |  30%
  |                                                                                      
  |============================                                                    |  35%
  |                                                                                      
  |================================                                                |  40%
  |                                                                                      
  |====================================                                            |  45%
  |                                                                                      
  |========================================                                        |  50%
  |                                                                                      
  |============================================                                    |  55%
  |                                                                                      
  |================================================                                |  60%
  |                                                                                      
  |====================================================                            |  65%
  |                                                                                      
  |========================================================                        |  70%
  |                                                                                      
  |============================================================                    |  75%
  |                                                                                      
  |================================================================                |  80%
  |                                                                                      
  |====================================================================            |  85%
  |                                                                                      
  |========================================================================        |  90%
  |                                                                                      
  |============================================================================    |  95%
  |                                                                                      
  |================================================================================| 100%
Fitting linear-mixed model to every feature and extract proportion
            of variance explained by covariates.
Construct formula from covariates.

  |                                                                                      
  |                                                                                |   0%boundary (singular) fit: see help('isSingular')

  |                                                                                      
  |====                                                                            |   5%boundary (singular) fit: see help('isSingular')

  |                                                                                      
  |========                                                                        |  10%
  |                                                                                      
  |============                                                                    |  15%boundary (singular) fit: see help('isSingular')

  |                                                                                      
  |================                                                                |  20%
  |                                                                                      
  |====================                                                            |  25%
  |                                                                                      
  |========================                                                        |  30%boundary (singular) fit: see help('isSingular')

  |                                                                                      
  |============================                                                    |  35%
  |                                                                                      
  |================================                                                |  40%
  |                                                                                      
  |====================================                                            |  45%boundary (singular) fit: see help('isSingular')

  |                                                                                      
  |========================================                                        |  50%boundary (singular) fit: see help('isSingular')

  |                                                                                      
  |============================================                                    |  55%boundary (singular) fit: see help('isSingular')

  |                                                                                      
  |================================================                                |  60%boundary (singular) fit: see help('isSingular')

  |                                                                                      
  |====================================================                            |  65%boundary (singular) fit: see help('isSingular')

  |                                                                                      
  |========================================================                        |  70%boundary (singular) fit: see help('isSingular')

  |                                                                                      
  |============================================================                    |  75%boundary (singular) fit: see help('isSingular')

  |                                                                                      
  |================================================================                |  80%boundary (singular) fit: see help('isSingular')

  |                                                                                      
  |====================================================================            |  85%
  |                                                                                      
  |========================================================================        |  90%boundary (singular) fit: see help('isSingular')

  |                                                                                      
  |============================================================================    |  95%boundary (singular) fit: see help('isSingular')

  |                                                                                      
  |================================================================================| 100%

  |                                                                                      
  |                                                                                |   0%
  |                                                                                      
  |========================================                                        |  50%
  |                                                                                      
  |================================================================================| 100%
boundary (singular) fit: see help('isSingular')
boundary (singular) fit: see help('isSingular')
boundary (singular) fit: see help('isSingular')
boundary (singular) fit: see help('isSingular')
boundary (singular) fit: see help('isSingular')
boundary (singular) fit: see help('isSingular')
[1] "batch"
[1] "group"
Set tss-transformed counts.
Found zeros, function will add a small pseudo-count
                (1/#features) for log-ratio transformation.
Applying ComBat (sva) for batch-correction.
Found2batches
Adjusting for1covariate(s) or covariate level(s)
Standardizing Data across genes
Fitting L/S model and finding priors
Finding nonparametric adjustments
Adjusting the Data

[ FAIL 0 | WARN 101 | SKIP 0 | PASS 282 ]

[ FAIL 0 | WARN 101 | SKIP 0 | PASS 282 ]
> 
> proc.time()
   user  system elapsed 
 68.445   1.586  70.541 

Example timings

MBECS.Rcheck/MBECS-Ex.timings

nameusersystemelapsed
MbecData0.5890.0070.596
colinScore0.3310.0310.364
dot-mbecGetData0.0370.0050.042
dot-mbecGetPhyloseq0.0500.0060.059
dot-mbecSetData0.0570.0080.066
dummy.list0.0060.0010.007
dummy.mbec0.0280.0020.032
dummy.ps0.0040.0010.006
mbecBox2.9730.0753.075
mbecBoxPlot2.4450.0202.479
mbecCorrection6.1500.1316.315
mbecDummy0.1200.0020.122
mbecGetData-MbecData-method0.0320.0030.036
mbecGetData0.0380.0040.043
mbecGetPhyloseq-MbecData-method0.0460.0030.050
mbecGetPhyloseq0.0410.0030.044
mbecHeat0.1870.0100.197
mbecHeatPlot0.1370.0050.143
mbecHelpFactor0.0060.0020.008
mbecLM0.8680.0110.883
mbecMixedVariance0.0420.0030.045
mbecModelVariance6.2870.0466.362
mbecMosaic0.9180.0090.931
mbecMosaicPlot0.8770.0080.890
mbecPCA-MbecData-method0.9290.0120.945
mbecPCA0.9360.0140.954
mbecPCAPlot0.8560.0110.873
mbecPVCAStatsPlot1.1900.0181.215
mbecProcessInput-MbecData-method0.0270.0030.029
mbecProcessInput-list-method0.0280.0030.031
mbecProcessInput-phyloseq-method0.0350.0030.037
mbecProcessInput0.0300.0020.032
mbecRDAStatsPlot0.1010.0040.105
mbecRLE0.2590.0060.266
mbecRLEPlot0.1360.0040.142
mbecReportPost3.5800.0273.623
mbecReportPrelim1.7740.0131.794
mbecRunCorrections2.2120.0442.263
mbecSCOEFStatsPlot0.0680.0040.072
mbecSetData-MbecData-method0.0510.0050.057
mbecSetData0.0990.0050.105
mbecTestModel0.0350.0020.038
mbecTransform0.1510.0040.156
mbecValidateModel0.0340.0020.037
mbecVarianceStats0.0140.0030.017
mbecVarianceStatsPlot5.3090.0325.361
percentileNorm2.2650.0312.303
poscore000