Back to Multiple platform build/check report for BioC 3.21:   simplified   long
ABCDEFGHIJKL[M]NOPQRSTUVWXYZ

This page was generated on 2025-02-15 11:40 -0500 (Sat, 15 Feb 2025).

HostnameOSArch (*)R versionInstalled pkgs
nebbiolo1Linux (Ubuntu 24.04.1 LTS)x86_64R Under development (unstable) (2025-01-20 r87609) -- "Unsuffered Consequences" 4720
palomino7Windows Server 2022 Datacenterx64R Under development (unstable) (2025-01-21 r87610 ucrt) -- "Unsuffered Consequences" 4482
lconwaymacOS 12.7.1 Montereyx86_64R Under development (unstable) (2025-01-22 r87618) -- "Unsuffered Consequences" 4493
kjohnson3macOS 13.7.1 Venturaarm64R Under development (unstable) (2025-01-20 r87609) -- "Unsuffered Consequences" 4446
Click on any hostname to see more info about the system (e.g. compilers)      (*) as reported by 'uname -p', except on Windows and Mac OS X

Package 1173/2295HostnameOS / ArchINSTALLBUILDCHECKBUILD BIN
MBECS 1.11.0  (landing page)
Michael Olbrich
Snapshot Date: 2025-02-14 13:40 -0500 (Fri, 14 Feb 2025)
git_url: https://git.bioconductor.org/packages/MBECS
git_branch: devel
git_last_commit: f568758
git_last_commit_date: 2024-10-29 11:08:55 -0500 (Tue, 29 Oct 2024)
nebbiolo1Linux (Ubuntu 24.04.1 LTS) / x86_64  OK    OK    OK  UNNEEDED, same version is already published
palomino7Windows Server 2022 Datacenter / x64  OK    OK    OK    OK  UNNEEDED, same version is already published
lconwaymacOS 12.7.1 Monterey / x86_64  OK    OK    OK    OK  UNNEEDED, same version is already published
kjohnson3macOS 13.7.1 Ventura / arm64  OK    OK    OK    OK  UNNEEDED, same version is already published


CHECK results for MBECS on nebbiolo1

To the developers/maintainers of the MBECS package:
- Allow up to 24 hours (and sometimes 48 hours) for your latest push to git@git.bioconductor.org:packages/MBECS.git to reflect on this report. See Troubleshooting Build Report for more information.
- Use the following Renviron settings to reproduce errors and warnings.
- If 'R CMD check' started to fail recently on the Linux builder(s) over a missing dependency, add the missing dependency to 'Suggests:' in your DESCRIPTION file. See Renviron.bioc for more information.

raw results


Summary

Package: MBECS
Version: 1.11.0
Command: /home/biocbuild/bbs-3.21-bioc/R/bin/R CMD check --install=check:MBECS.install-out.txt --library=/home/biocbuild/bbs-3.21-bioc/R/site-library --timings MBECS_1.11.0.tar.gz
StartedAt: 2025-02-14 23:31:56 -0500 (Fri, 14 Feb 2025)
EndedAt: 2025-02-14 23:36:23 -0500 (Fri, 14 Feb 2025)
EllapsedTime: 266.3 seconds
RetCode: 0
Status:   OK  
CheckDir: MBECS.Rcheck
Warnings: 0

Command output

##############################################################################
##############################################################################
###
### Running command:
###
###   /home/biocbuild/bbs-3.21-bioc/R/bin/R CMD check --install=check:MBECS.install-out.txt --library=/home/biocbuild/bbs-3.21-bioc/R/site-library --timings MBECS_1.11.0.tar.gz
###
##############################################################################
##############################################################################


* using log directory ‘/home/biocbuild/bbs-3.21-bioc/meat/MBECS.Rcheck’
* using R Under development (unstable) (2025-01-20 r87609)
* using platform: x86_64-pc-linux-gnu
* R was compiled by
    gcc (Ubuntu 13.3.0-6ubuntu2~24.04) 13.3.0
    GNU Fortran (Ubuntu 13.3.0-6ubuntu2~24.04) 13.3.0
* running under: Ubuntu 24.04.2 LTS
* using session charset: UTF-8
* checking for file ‘MBECS/DESCRIPTION’ ... OK
* this is package ‘MBECS’ version ‘1.11.0’
* package encoding: UTF-8
* checking package namespace information ... OK
* checking package dependencies ... OK
* checking if this is a source package ... OK
* checking if there is a namespace ... OK
* checking for hidden files and directories ... OK
* checking for portable file names ... OK
* checking for sufficient/correct file permissions ... OK
* checking whether package ‘MBECS’ can be installed ... OK
* checking installed package size ... OK
* checking package directory ... OK
* checking ‘build’ directory ... OK
* checking DESCRIPTION meta-information ... OK
* checking top-level files ... OK
* checking for left-over files ... OK
* checking index information ... OK
* checking package subdirectories ... OK
* checking code files for non-ASCII characters ... OK
* checking R files for syntax errors ... OK
* checking whether the package can be loaded ... OK
* checking whether the package can be loaded with stated dependencies ... OK
* checking whether the package can be unloaded cleanly ... OK
* checking whether the namespace can be loaded with stated dependencies ... OK
* checking whether the namespace can be unloaded cleanly ... OK
* checking loading without being on the library search path ... OK
* checking dependencies in R code ... OK
* checking S3 generic/method consistency ... OK
* checking replacement functions ... OK
* checking foreign function calls ... OK
* checking R code for possible problems ... OK
* checking Rd files ... OK
* checking Rd metadata ... OK
* checking Rd cross-references ... NOTE
Found the following Rd file(s) with Rd \link{} targets missing package
anchors:
  dummy.ps.Rd: phyloseq
Please provide package anchors for all Rd \link{} targets not in the
package itself and the base packages.
* checking for missing documentation entries ... OK
* checking for code/documentation mismatches ... OK
* checking Rd \usage sections ... OK
* checking Rd contents ... OK
* checking for unstated dependencies in examples ... OK
* checking contents of ‘data’ directory ... OK
* checking data for non-ASCII characters ... OK
* checking data for ASCII and uncompressed saves ... OK
* checking files in ‘vignettes’ ... OK
* checking examples ... OK
Examples with CPU (user + system) or elapsed time > 5s
                user system elapsed
mbecCorrection 5.661  0.155   5.818
* checking for unstated dependencies in ‘tests’ ... OK
* checking tests ...
  Running ‘testthat.R’
 OK
* checking for unstated dependencies in vignettes ... OK
* checking package vignettes ... OK
* checking re-building of vignette outputs ... OK
* checking PDF version of manual ... OK
* DONE

Status: 1 NOTE
See
  ‘/home/biocbuild/bbs-3.21-bioc/meat/MBECS.Rcheck/00check.log’
for details.


Installation output

MBECS.Rcheck/00install.out

##############################################################################
##############################################################################
###
### Running command:
###
###   /home/biocbuild/bbs-3.21-bioc/R/bin/R CMD INSTALL MBECS
###
##############################################################################
##############################################################################


* installing to library ‘/home/biocbuild/bbs-3.21-bioc/R/site-library’
* installing *source* package ‘MBECS’ ...
** this is package ‘MBECS’ version ‘1.11.0’
** using staged installation
** R
** data
** inst
** byte-compile and prepare package for lazy loading
** help
*** installing help indices
** building package indices
** installing vignettes
** testing if installed package can be loaded from temporary location
** testing if installed package can be loaded from final location
** testing if installed package keeps a record of temporary installation path
* DONE (MBECS)

Tests output

MBECS.Rcheck/tests/testthat.Rout


R Under development (unstable) (2025-01-20 r87609) -- "Unsuffered Consequences"
Copyright (C) 2025 The R Foundation for Statistical Computing
Platform: x86_64-pc-linux-gnu

R is free software and comes with ABSOLUTELY NO WARRANTY.
You are welcome to redistribute it under certain conditions.
Type 'license()' or 'licence()' for distribution details.

R is a collaborative project with many contributors.
Type 'contributors()' for more information and
'citation()' on how to cite R or R packages in publications.

Type 'demo()' for some demos, 'help()' for on-line help, or
'help.start()' for an HTML browser interface to help.
Type 'q()' to quit R.

> library(testthat)
> library(MBECS)
> 
> test_check("MBECS")
Set tss-transformed counts.
Found zeros, function will add a small pseudo-count
                (1/#features) for log-ratio transformation.
Set tss-transformed counts.
Found zeros, function will add a small pseudo-count
                (1/#features) for log-ratio transformation.
Set tss-transformed counts.
Found zeros, function will add a small pseudo-count
                (1/#features) for log-ratio transformation.
Set tss-transformed counts.
Found zeros, function will add a small pseudo-count
                (1/#features) for log-ratio transformation.
Set tss-transformed counts.
Found zeros, function will add a small pseudo-count
                (1/#features) for log-ratio transformation.
No negative control features provided.
                Using pseudo-negative controls.
Applying Remove Unwanted Variantion v3 (RUV-III).
No 'sID' column present, creating from rownames now.
No 'sID' column present, creating from rownames now.
Set tss-transformed counts.
No 'sID' column present, creating from rownames now.
Set tss-transformed counts.
Construct lm-formula from covariates.
Construct lm-formula from covariates.
There is a problem with the estimatibility of your model.
            Check out covariate: 'sIDS40'
Found zeros, function will add a small pseudo-count
                (1/#features) for log-ratio transformation.
Set tss-transformed counts.
Found zeros, function will add a small pseudo-count
                (1/#features) for log-ratio transformation.
Set tss-transformed counts.
Found zeros, function will add a small pseudo-count
                (1/#features) for log-ratio transformation.
Set tss-transformed counts.
Found zeros, function will add a small pseudo-count
                (1/#features) for log-ratio transformation.
Calculating RLE for group: A
Calculating RLE for group: B
Fitting linear model to every feature and extract proportion of
          variance explained by covariates.
Construct formula from covariates.

  |                                                                                      
  |                                                                                |   0%
  |                                                                                      
  |====                                                                            |   5%
  |                                                                                      
  |========                                                                        |  10%
  |                                                                                      
  |============                                                                    |  15%
  |                                                                                      
  |================                                                                |  20%
  |                                                                                      
  |====================                                                            |  25%
  |                                                                                      
  |========================                                                        |  30%
  |                                                                                      
  |============================                                                    |  35%
  |                                                                                      
  |================================                                                |  40%
  |                                                                                      
  |====================================                                            |  45%
  |                                                                                      
  |========================================                                        |  50%
  |                                                                                      
  |============================================                                    |  55%
  |                                                                                      
  |================================================                                |  60%
  |                                                                                      
  |====================================================                            |  65%
  |                                                                                      
  |========================================================                        |  70%
  |                                                                                      
  |============================================================                    |  75%
  |                                                                                      
  |================================================================                |  80%
  |                                                                                      
  |====================================================================            |  85%
  |                                                                                      
  |========================================================================        |  90%
  |                                                                                      
  |============================================================================    |  95%
  |                                                                                      
  |================================================================================| 100%
Fitting linear-mixed model to every feature and extract proportion
            of variance explained by covariates.
Construct formula from covariates.

  |                                                                                      
  |                                                                                |   0%boundary (singular) fit: see help('isSingular')

  |                                                                                      
  |====                                                                            |   5%boundary (singular) fit: see help('isSingular')

  |                                                                                      
  |========                                                                        |  10%
  |                                                                                      
  |============                                                                    |  15%boundary (singular) fit: see help('isSingular')

  |                                                                                      
  |================                                                                |  20%
  |                                                                                      
  |====================                                                            |  25%
  |                                                                                      
  |========================                                                        |  30%boundary (singular) fit: see help('isSingular')

  |                                                                                      
  |============================                                                    |  35%
  |                                                                                      
  |================================                                                |  40%
  |                                                                                      
  |====================================                                            |  45%boundary (singular) fit: see help('isSingular')

  |                                                                                      
  |========================================                                        |  50%boundary (singular) fit: see help('isSingular')

  |                                                                                      
  |============================================                                    |  55%boundary (singular) fit: see help('isSingular')

  |                                                                                      
  |================================================                                |  60%boundary (singular) fit: see help('isSingular')

  |                                                                                      
  |====================================================                            |  65%boundary (singular) fit: see help('isSingular')

  |                                                                                      
  |========================================================                        |  70%boundary (singular) fit: see help('isSingular')

  |                                                                                      
  |============================================================                    |  75%boundary (singular) fit: see help('isSingular')

  |                                                                                      
  |================================================================                |  80%boundary (singular) fit: see help('isSingular')

  |                                                                                      
  |====================================================================            |  85%
  |                                                                                      
  |========================================================================        |  90%boundary (singular) fit: see help('isSingular')

  |                                                                                      
  |============================================================================    |  95%boundary (singular) fit: see help('isSingular')

  |                                                                                      
  |================================================================================| 100%

  |                                                                                      
  |                                                                                |   0%
  |                                                                                      
  |========================================                                        |  50%
  |                                                                                      
  |================================================================================| 100%
boundary (singular) fit: see help('isSingular')
boundary (singular) fit: see help('isSingular')
boundary (singular) fit: see help('isSingular')
boundary (singular) fit: see help('isSingular')
boundary (singular) fit: see help('isSingular')
boundary (singular) fit: see help('isSingular')
[1] "batch"
[1] "group"
Set tss-transformed counts.
Found zeros, function will add a small pseudo-count
                (1/#features) for log-ratio transformation.
Applying ComBat (sva) for batch-correction.
Found2batches
Adjusting for1covariate(s) or covariate level(s)
Standardizing Data across genes
Fitting L/S model and finding priors
Finding nonparametric adjustments
Adjusting the Data

[ FAIL 0 | WARN 101 | SKIP 0 | PASS 282 ]

[ FAIL 0 | WARN 101 | SKIP 0 | PASS 282 ]
> 
> proc.time()
   user  system elapsed 
 59.349   1.203  60.546 

Example timings

MBECS.Rcheck/MBECS-Ex.timings

nameusersystemelapsed
MbecData0.0850.0010.086
colinScore0.2720.0660.337
dot-mbecGetData0.0300.0020.032
dot-mbecGetPhyloseq0.0360.0040.041
dot-mbecSetData0.0400.0050.046
dummy.list0.0050.0000.005
dummy.mbec0.0240.0010.025
dummy.ps0.0040.0010.005
mbecBox2.3570.0552.413
mbecBoxPlot1.9460.0191.965
mbecCorrection5.6610.1555.818
mbecDummy0.1050.0000.105
mbecGetData-MbecData-method0.0310.0000.032
mbecGetData0.0290.0000.029
mbecGetPhyloseq-MbecData-method0.0420.0000.042
mbecGetPhyloseq0.0400.0000.039
mbecHeat0.1650.0000.166
mbecHeatPlot0.120.000.12
mbecHelpFactor0.0040.0010.005
mbecLM0.7620.0000.763
mbecMixedVariance0.0380.0010.040
mbecModelVariance4.7720.0374.808
mbecMosaic0.7770.0260.803
mbecMosaicPlot0.7080.0240.733
mbecPCA-MbecData-method0.7520.0040.757
mbecPCA0.7930.0040.798
mbecPCAPlot0.7030.0010.705
mbecPVCAStatsPlot0.9960.0321.029
mbecProcessInput-MbecData-method0.0250.0010.025
mbecProcessInput-list-method0.0250.0000.025
mbecProcessInput-phyloseq-method0.0250.0030.029
mbecProcessInput0.0240.0000.025
mbecRDAStatsPlot0.0920.0050.096
mbecRLE0.1890.0060.196
mbecRLEPlot0.1340.0010.134
mbecReportPost3.0500.0133.063
mbecReportPrelim1.4880.0041.492
mbecRunCorrections1.7860.0261.812
mbecSCOEFStatsPlot0.0560.0040.060
mbecSetData-MbecData-method0.0750.0010.076
mbecSetData0.0460.0000.046
mbecTestModel0.0310.0000.030
mbecTransform0.1270.0020.129
mbecValidateModel0.0270.0010.028
mbecVarianceStats0.0120.0000.013
mbecVarianceStatsPlot4.1650.0574.222
percentileNorm2.0190.0502.069
poscore000