Back to Multiple platform build/check report for BioC 3.21:   simplified   long
ABCDEFGHIJKL[M]NOPQRSTUVWXYZ

This page was generated on 2025-01-30 13:13 -0500 (Thu, 30 Jan 2025).

HostnameOSArch (*)R versionInstalled pkgs
nebbiolo1Linux (Ubuntu 24.04.1 LTS)x86_64R Under development (unstable) (2025-01-20 r87609) -- "Unsuffered Consequences" 4703
lconwaymacOS 12.7.1 Montereyx86_64R Under development (unstable) (2025-01-22 r87618) -- "Unsuffered Consequences" 4477
kjohnson3macOS 13.7.1 Venturaarm64R Under development (unstable) (2025-01-20 r87609) -- "Unsuffered Consequences" 4430
kunpeng2Linux (openEuler 22.03 LTS-SP1)aarch64R Under development (unstable) (2024-11-24 r87369) -- "Unsuffered Consequences" 4420
Click on any hostname to see more info about the system (e.g. compilers)      (*) as reported by 'uname -p', except on Windows and Mac OS X

Package 1126/2289HostnameOS / ArchINSTALLBUILDCHECKBUILD BIN
M3Drop 1.33.0  (landing page)
Tallulah Andrews
Snapshot Date: 2025-01-29 13:40 -0500 (Wed, 29 Jan 2025)
git_url: https://git.bioconductor.org/packages/M3Drop
git_branch: devel
git_last_commit: a036ab7
git_last_commit_date: 2024-10-29 10:15:21 -0500 (Tue, 29 Oct 2024)
nebbiolo1Linux (Ubuntu 24.04.1 LTS) / x86_64  OK    OK    OK  UNNEEDED, same version is already published
lconwaymacOS 12.7.1 Monterey / x86_64  OK    OK    OK    OK  UNNEEDED, same version is already published
kjohnson3macOS 13.7.1 Ventura / arm64  OK    OK    OK    OK  UNNEEDED, same version is already published
kunpeng2Linux (openEuler 22.03 LTS-SP1) / aarch64  ERROR    NA    NA  


INSTALL results for M3Drop on kunpeng2

To the developers/maintainers of the M3Drop package:
- Allow up to 24 hours (and sometimes 48 hours) for your latest push to git@git.bioconductor.org:packages/M3Drop.git to reflect on this report. See Troubleshooting Build Report for more information.
- Use the following Renviron settings to reproduce errors and warnings.
- If 'R CMD check' started to fail recently on the Linux builder(s) over a missing dependency, add the missing dependency to 'Suggests:' in your DESCRIPTION file. See Renviron.bioc for more information.
- See Martin Grigorov's blog post for how to debug Linux ARM64 related issues on a x86_64 host.

raw results


Summary

Package: M3Drop
Version: 1.33.0
Command: /home/biocbuild/R/R/bin/R CMD INSTALL M3Drop
StartedAt: 2025-01-29 20:28:10 -0000 (Wed, 29 Jan 2025)
EndedAt: 2025-01-29 20:28:20 -0000 (Wed, 29 Jan 2025)
EllapsedTime: 9.6 seconds
RetCode: 1
Status:   ERROR  

Command output

##############################################################################
##############################################################################
###
### Running command:
###
###   /home/biocbuild/R/R/bin/R CMD INSTALL M3Drop
###
##############################################################################
##############################################################################


* installing to library ‘/home/biocbuild/R/R-4.5.0-devel_2024-11-24/site-library’
* installing *source* package ‘M3Drop’ ...
** using staged installation
** R
** inst
** byte-compile and prepare package for lazy loading
Error in dyn.load(file, DLLpath = DLLpath, ...) : 
  unable to load shared object '/home/biocbuild/R/R-4.5.0-devel_2024-11-24/site-library/densEstBayes/libs/densEstBayes.so':
  libtbbmalloc.so.2: cannot open shared object file: No such file or directory
Calls: <Anonymous> ... asNamespace -> loadNamespace -> library.dynam -> dyn.load
Execution halted
ERROR: lazy loading failed for package ‘M3Drop’
* removing ‘/home/biocbuild/R/R-4.5.0-devel_2024-11-24/site-library/M3Drop’
* restoring previous ‘/home/biocbuild/R/R-4.5.0-devel_2024-11-24/site-library/M3Drop’