Back to Multiple platform build/check report for BioC 3.21: simplified long |
|
This page was generated on 2025-01-24 11:44 -0500 (Fri, 24 Jan 2025).
Hostname | OS | Arch (*) | R version | Installed pkgs |
---|---|---|---|---|
nebbiolo1 | Linux (Ubuntu 24.04.1 LTS) | x86_64 | R Under development (unstable) (2025-01-20 r87609) -- "Unsuffered Consequences" | 4609 |
palomino7 | Windows Server 2022 Datacenter | x64 | R Under development (unstable) (2025-01-21 r87610 ucrt) -- "Unsuffered Consequences" | 4393 |
lconway | macOS 12.7.1 Monterey | x86_64 | R Under development (unstable) (2025-01-20 r87609) -- "Unsuffered Consequences" | 3839 |
kjohnson3 | macOS 13.7.1 Ventura | arm64 | R Under development (unstable) (2025-01-20 r87609) -- "Unsuffered Consequences" | 3835 |
kunpeng2 | Linux (openEuler 22.03 LTS-SP1) | aarch64 | R Under development (unstable) (2024-11-24 r87369) -- "Unsuffered Consequences" | 4408 |
Click on any hostname to see more info about the system (e.g. compilers) (*) as reported by 'uname -p', except on Windows and Mac OS X |
Package 1126/2286 | Hostname | OS / Arch | INSTALL | BUILD | CHECK | BUILD BIN | ||||||||
M3Drop 1.33.0 (landing page) Tallulah Andrews
| nebbiolo1 | Linux (Ubuntu 24.04.1 LTS) / x86_64 | OK | OK | OK | ![]() | ||||||||
palomino7 | Windows Server 2022 Datacenter / x64 | OK | OK | OK | OK | ![]() | ||||||||
lconway | macOS 12.7.1 Monterey / x86_64 | ERROR | ERROR | skipped | skipped | |||||||||
kjohnson3 | macOS 13.7.1 Ventura / arm64 | ERROR | ERROR | skipped | skipped | |||||||||
kunpeng2 | Linux (openEuler 22.03 LTS-SP1) / aarch64 | OK | OK | OK | ||||||||||
To the developers/maintainers of the M3Drop package: - Allow up to 24 hours (and sometimes 48 hours) for your latest push to git@git.bioconductor.org:packages/M3Drop.git to reflect on this report. See Troubleshooting Build Report for more information. - Use the following Renviron settings to reproduce errors and warnings. - If 'R CMD check' started to fail recently on the Linux builder(s) over a missing dependency, add the missing dependency to 'Suggests:' in your DESCRIPTION file. See Renviron.bioc for more information. - See Martin Grigorov's blog post for how to debug Linux ARM64 related issues on a x86_64 host. |
Package: M3Drop |
Version: 1.33.0 |
Command: /home/biocbuild/R/R/bin/R CMD check --install=check:M3Drop.install-out.txt --library=/home/biocbuild/R/R/site-library --no-vignettes --timings M3Drop_1.33.0.tar.gz |
StartedAt: 2025-01-24 09:26:50 -0000 (Fri, 24 Jan 2025) |
EndedAt: 2025-01-24 09:35:49 -0000 (Fri, 24 Jan 2025) |
EllapsedTime: 538.7 seconds |
RetCode: 0 |
Status: OK |
CheckDir: M3Drop.Rcheck |
Warnings: 0 |
############################################################################## ############################################################################## ### ### Running command: ### ### /home/biocbuild/R/R/bin/R CMD check --install=check:M3Drop.install-out.txt --library=/home/biocbuild/R/R/site-library --no-vignettes --timings M3Drop_1.33.0.tar.gz ### ############################################################################## ############################################################################## * using log directory ‘/home/biocbuild/bbs-3.21-bioc/meat/M3Drop.Rcheck’ * using R Under development (unstable) (2024-11-24 r87369) * using platform: aarch64-unknown-linux-gnu * R was compiled by aarch64-unknown-linux-gnu-gcc (GCC) 14.2.0 GNU Fortran (GCC) 14.2.0 * running under: openEuler 24.03 (LTS) * using session charset: UTF-8 * using option ‘--no-vignettes’ * checking for file ‘M3Drop/DESCRIPTION’ ... OK * this is package ‘M3Drop’ version ‘1.33.0’ * checking package namespace information ... OK * checking package dependencies ... OK * checking if this is a source package ... OK * checking if there is a namespace ... OK * checking for hidden files and directories ... OK * checking for portable file names ... OK * checking for sufficient/correct file permissions ... OK * checking whether package ‘M3Drop’ can be installed ... OK * checking installed package size ... OK * checking package directory ... OK * checking ‘build’ directory ... OK * checking DESCRIPTION meta-information ... OK * checking top-level files ... OK * checking for left-over files ... OK * checking index information ... OK * checking package subdirectories ... OK * checking code files for non-ASCII characters ... OK * checking R files for syntax errors ... OK * checking whether the package can be loaded ... OK * checking whether the package can be loaded with stated dependencies ... OK * checking whether the package can be unloaded cleanly ... OK * checking whether the namespace can be loaded with stated dependencies ... OK * checking whether the namespace can be unloaded cleanly ... OK * checking loading without being on the library search path ... OK * checking dependencies in R code ... NOTE Namespace in Imports field not imported from: ‘scater’ All declared Imports should be used. * checking S3 generic/method consistency ... OK * checking replacement functions ... OK * checking foreign function calls ... OK * checking R code for possible problems ... NOTE M3DropConvertData: no visible global function definition for ‘assays’ NBumiConvertData: no visible global function definition for ‘assays’ bg__filter_cells: no visible binding for global variable ‘x’ bg__get_extreme_residuals: no visible binding for global variable ‘x’ Undefined global functions or variables: assays x * checking Rd files ... NOTE prepare_Rd: NBumi_FSOther.Rd:8-10: Dropping empty section \usage prepare_Rd: NBumi_TradDE.Rd:7-8: Dropping empty section \usage * checking Rd metadata ... OK * checking Rd cross-references ... OK * checking for missing documentation entries ... OK * checking for code/documentation mismatches ... OK * checking Rd \usage sections ... OK * checking Rd contents ... OK * checking for unstated dependencies in examples ... OK * checking files in ‘vignettes’ ... OK * checking examples ... OK Examples with CPU (user + system) or elapsed time > 5s user system elapsed NewSimulations 156.081 0.699 157.093 Imputation 79.522 0.271 79.957 M3D_getmarkers 49.260 0.239 49.628 M3D_ConverData 6.807 0.135 6.959 Brennecke_getVariableGenes 5.065 0.151 5.241 NBumi_CompareModels 5.086 0.040 5.138 * checking for unstated dependencies in vignettes ... OK * checking package vignettes ... OK * checking running R code from vignettes ... SKIPPED * checking re-building of vignette outputs ... SKIPPED * checking PDF version of manual ... OK * DONE Status: 3 NOTEs See ‘/home/biocbuild/bbs-3.21-bioc/meat/M3Drop.Rcheck/00check.log’ for details.
M3Drop.Rcheck/00install.out
############################################################################## ############################################################################## ### ### Running command: ### ### /home/biocbuild/R/R/bin/R CMD INSTALL M3Drop ### ############################################################################## ############################################################################## * installing to library ‘/home/biocbuild/R/R-4.5.0-devel_2024-11-24/site-library’ * installing *source* package ‘M3Drop’ ... ** using staged installation ** R ** inst ** byte-compile and prepare package for lazy loading ** help *** installing help indices ** building package indices ** installing vignettes ** testing if installed package can be loaded from temporary location ** testing if installed package can be loaded from final location ** testing if installed package keeps a record of temporary installation path * DONE (M3Drop)
M3Drop.Rcheck/M3Drop-Ex.timings
name | user | system | elapsed | |
Brennecke_getVariableGenes | 5.065 | 0.151 | 5.241 | |
Consensus_FS | 1.698 | 0.024 | 1.725 | |
Fitting_Dropout_Models | 0 | 0 | 0 | |
Imputation | 79.522 | 0.271 | 79.957 | |
M3D_Clean_Data | 2.234 | 0.043 | 2.283 | |
M3D_ConverData | 6.807 | 0.135 | 6.959 | |
M3D_Differential_Expression | 2.787 | 0.020 | 2.812 | |
M3D_Dropout_Models | 1.500 | 0.020 | 1.522 | |
M3D_Expression_Heatmap | 0.604 | 0.000 | 0.605 | |
M3D_Get_Extremes | 4.051 | 0.015 | 4.080 | |
M3D_Get_Heatmap_Cell_Clusters | 0.545 | 0.008 | 0.554 | |
M3D_Simulations | 0 | 0 | 0 | |
M3D_Test_Shift | 0.888 | 0.000 | 0.891 | |
M3D_ThreeSet_Venn | 0.333 | 0.004 | 0.338 | |
M3D_TraditionalDE | 0.013 | 0.000 | 0.012 | |
M3D_getmarkers | 49.260 | 0.239 | 49.628 | |
M3D_horz_res | 0 | 0 | 0 | |
NBumi_CheckFit | 3.359 | 0.063 | 3.435 | |
NBumi_CoExpression | 1.777 | 0.012 | 1.793 | |
NBumi_CompareModels | 5.086 | 0.040 | 5.138 | |
NBumi_ConvertToInteger | 0.000 | 0.000 | 0.001 | |
NBumi_ConvrtData | 0.363 | 0.004 | 0.372 | |
NBumi_FSDrop | 2.165 | 0.008 | 2.178 | |
NBumi_FSHighVar | 1.802 | 0.008 | 1.815 | |
NBumi_FSOther | 0.012 | 0.000 | 0.012 | |
NBumi_FitDisp | 0 | 0 | 0 | |
NBumi_FitDispVsMean | 1.344 | 0.000 | 1.348 | |
NBumi_FitModel | 2.512 | 0.004 | 2.522 | |
NBumi_HVG | 1.958 | 0.000 | 1.962 | |
NBumi_PearsonResiduals | 1.984 | 0.016 | 2.003 | |
NBumi_TradDE | 0.001 | 0.000 | 0.000 | |
NewSimulations | 156.081 | 0.699 | 157.093 | |
Other_FS | 2.390 | 0.008 | 2.400 | |
PoissonUMIFeatureSelectionDropouts | 1.541 | 0.000 | 1.544 | |
bg__fit_gamma | 0 | 0 | 0 | |
bg__get_stats | 0 | 0 | 0 | |
bg__mean2disp | 0 | 0 | 0 | |
bg__shift_size | 0.001 | 0.000 | 0.000 | |
bg__var_vs_drop | 0 | 0 | 0 | |