| Back to Multiple platform build/check report for BioC 3.21: simplified long |
|
This page was generated on 2025-04-22 13:16 -0400 (Tue, 22 Apr 2025).
| Hostname | OS | Arch (*) | R version | Installed pkgs |
|---|---|---|---|---|
| nebbiolo1 | Linux (Ubuntu 24.04.1 LTS) | x86_64 | 4.5.0 RC (2025-04-04 r88126) -- "How About a Twenty-Six" | 4831 |
| palomino7 | Windows Server 2022 Datacenter | x64 | 4.5.0 RC (2025-04-04 r88126 ucrt) -- "How About a Twenty-Six" | 4573 |
| lconway | macOS 12.7.1 Monterey | x86_64 | 4.5.0 RC (2025-04-04 r88126) -- "How About a Twenty-Six" | 4599 |
| kjohnson3 | macOS 13.7.1 Ventura | arm64 | 4.5.0 RC (2025-04-04 r88126) -- "How About a Twenty-Six" | 4553 |
| kunpeng2 | Linux (openEuler 24.03 LTS) | aarch64 | R Under development (unstable) (2025-02-19 r87757) -- "Unsuffered Consequences" | 4570 |
| Click on any hostname to see more info about the system (e.g. compilers) (*) as reported by 'uname -p', except on Windows and Mac OS X | ||||
| Package 1150/2341 | Hostname | OS / Arch | INSTALL | BUILD | CHECK | BUILD BIN | ||||||||
| LymphoSeq 1.36.0 (landing page) David Coffey
| nebbiolo1 | Linux (Ubuntu 24.04.1 LTS) / x86_64 | OK | OK | OK | |||||||||
| palomino7 | Windows Server 2022 Datacenter / x64 | OK | OK | OK | OK | |||||||||
| lconway | macOS 12.7.1 Monterey / x86_64 | OK | OK | OK | OK | |||||||||
| kjohnson3 | macOS 13.7.1 Ventura / arm64 | OK | OK | OK | OK | |||||||||
| kunpeng2 | Linux (openEuler 24.03 LTS) / aarch64 | OK | OK | OK | ||||||||||
|
To the developers/maintainers of the LymphoSeq package: - Allow up to 24 hours (and sometimes 48 hours) for your latest push to git@git.bioconductor.org:packages/LymphoSeq.git to reflect on this report. See Troubleshooting Build Report for more information. - Use the following Renviron settings to reproduce errors and warnings. - If 'R CMD check' started to fail recently on the Linux builder(s) over a missing dependency, add the missing dependency to 'Suggests:' in your DESCRIPTION file. See Renviron.bioc for more information. |
| Package: LymphoSeq |
| Version: 1.36.0 |
| Command: /Library/Frameworks/R.framework/Resources/bin/R CMD check --install=check:LymphoSeq.install-out.txt --library=/Library/Frameworks/R.framework/Resources/library --no-vignettes --timings LymphoSeq_1.36.0.tar.gz |
| StartedAt: 2025-04-21 21:36:09 -0400 (Mon, 21 Apr 2025) |
| EndedAt: 2025-04-21 21:39:37 -0400 (Mon, 21 Apr 2025) |
| EllapsedTime: 208.6 seconds |
| RetCode: 0 |
| Status: OK |
| CheckDir: LymphoSeq.Rcheck |
| Warnings: 0 |
##############################################################################
##############################################################################
###
### Running command:
###
### /Library/Frameworks/R.framework/Resources/bin/R CMD check --install=check:LymphoSeq.install-out.txt --library=/Library/Frameworks/R.framework/Resources/library --no-vignettes --timings LymphoSeq_1.36.0.tar.gz
###
##############################################################################
##############################################################################
* using log directory ‘/Users/biocbuild/bbs-3.21-bioc/meat/LymphoSeq.Rcheck’
* using R version 4.5.0 RC (2025-04-04 r88126)
* using platform: x86_64-apple-darwin20
* R was compiled by
Apple clang version 14.0.0 (clang-1400.0.29.202)
GNU Fortran (GCC) 14.2.0
* running under: macOS Monterey 12.7.6
* using session charset: UTF-8
* using option ‘--no-vignettes’
* checking for file ‘LymphoSeq/DESCRIPTION’ ... OK
* this is package ‘LymphoSeq’ version ‘1.36.0’
* checking package namespace information ... OK
* checking package dependencies ... OK
* checking if this is a source package ... OK
* checking if there is a namespace ... OK
* checking for hidden files and directories ... OK
* checking for portable file names ... OK
* checking for sufficient/correct file permissions ... OK
* checking whether package ‘LymphoSeq’ can be installed ... OK
* checking installed package size ... INFO
installed size is 5.7Mb
sub-directories of 1Mb or more:
extdata 5.5Mb
* checking package directory ... OK
* checking ‘build’ directory ... OK
* checking DESCRIPTION meta-information ... OK
* checking top-level files ... OK
* checking for left-over files ... OK
* checking index information ... OK
* checking package subdirectories ... OK
* checking code files for non-ASCII characters ... OK
* checking R files for syntax errors ... OK
* checking whether the package can be loaded ... OK
* checking whether the package can be loaded with stated dependencies ... OK
* checking whether the package can be unloaded cleanly ... OK
* checking whether the namespace can be loaded with stated dependencies ... OK
* checking whether the namespace can be unloaded cleanly ... OK
* checking dependencies in R code ... OK
* checking S3 generic/method consistency ... OK
* checking replacement functions ... OK
* checking foreign function calls ... OK
* checking R code for possible problems ... OK
* checking Rd files ... OK
* checking Rd metadata ... OK
* checking Rd cross-references ... OK
* checking for missing documentation entries ... OK
* checking for code/documentation mismatches ... OK
* checking Rd \usage sections ... OK
* checking Rd contents ... OK
* checking for unstated dependencies in examples ... OK
* checking files in ‘vignettes’ ... OK
* checking examples ... OK
Examples with CPU (user + system) or elapsed time > 5s
user system elapsed
cloneTrack 27.242 1.076 28.507
productiveSeq 18.091 0.496 18.682
* checking for unstated dependencies in vignettes ... OK
* checking package vignettes ... OK
* checking running R code from vignettes ... SKIPPED
* checking re-building of vignette outputs ... SKIPPED
* checking PDF version of manual ... OK
* DONE
Status: OK
LymphoSeq.Rcheck/00install.out
############################################################################## ############################################################################## ### ### Running command: ### ### /Library/Frameworks/R.framework/Resources/bin/R CMD INSTALL LymphoSeq ### ############################################################################## ############################################################################## * installing to library ‘/Library/Frameworks/R.framework/Versions/4.5-x86_64/Resources/library’ * installing *source* package ‘LymphoSeq’ ... ** this is package ‘LymphoSeq’ version ‘1.36.0’ ** using staged installation ** R ** inst ** byte-compile and prepare package for lazy loading ** help *** installing help indices ** building package indices ** installing vignettes ** testing if installed package can be loaded from temporary location ** testing if installed package can be loaded from final location ** testing if installed package keeps a record of temporary installation path * DONE (LymphoSeq)
LymphoSeq.Rcheck/LymphoSeq-Ex.timings
| name | user | system | elapsed | |
| alignSeq | 1.258 | 0.040 | 1.322 | |
| bhattacharyyaCoefficient | 0.177 | 0.017 | 0.212 | |
| bhattacharyyaMatrix | 0.206 | 0.011 | 0.219 | |
| chordDiagramVDJ | 0.952 | 0.040 | 1.001 | |
| clonalRelatedness | 0.675 | 0.011 | 0.690 | |
| clonality | 0.060 | 0.008 | 0.069 | |
| cloneTrack | 27.242 | 1.076 | 28.507 | |
| commonSeqs | 0.174 | 0.019 | 0.194 | |
| commonSeqsBar | 0.948 | 0.115 | 1.070 | |
| commonSeqsPlot | 0.419 | 0.045 | 0.466 | |
| commonSeqsVenn | 0.672 | 0.076 | 0.757 | |
| differentialAbundance | 3.005 | 0.142 | 3.168 | |
| exportFasta | 0.257 | 0.021 | 0.280 | |
| geneFreq | 1.125 | 0.035 | 1.168 | |
| lorenzCurve | 0.980 | 0.022 | 1.031 | |
| mergeFiles | 0.087 | 0.005 | 0.093 | |
| pairwisePlot | 1.858 | 0.029 | 1.898 | |
| phyloTree | 2.765 | 0.034 | 2.826 | |
| productive | 0.065 | 0.005 | 0.070 | |
| productiveSeq | 18.091 | 0.496 | 18.682 | |
| readImmunoSeq | 0.050 | 0.005 | 0.055 | |
| removeSeq | 0.058 | 0.004 | 0.062 | |
| searchPublished | 0.172 | 0.007 | 0.182 | |
| searchSeq | 0.458 | 0.010 | 0.471 | |
| seqMatrix | 2.908 | 0.072 | 2.999 | |
| similarityMatrix | 0.174 | 0.006 | 0.181 | |
| similarityScore | 0.173 | 0.005 | 0.180 | |
| topFreq | 1.461 | 0.011 | 1.481 | |
| topSeqs | 0.181 | 0.007 | 0.192 | |
| topSeqsPlot | 0.470 | 0.009 | 0.485 | |
| uniqueSeqs | 0.213 | 0.008 | 0.222 | |