| Back to Multiple platform build/check report for BioC 3.21: simplified long |
|
This page was generated on 2025-10-16 11:41 -0400 (Thu, 16 Oct 2025).
| Hostname | OS | Arch (*) | R version | Installed pkgs |
|---|---|---|---|---|
| nebbiolo1 | Linux (Ubuntu 24.04.3 LTS) | x86_64 | 4.5.1 (2025-06-13) -- "Great Square Root" | 4833 |
| merida1 | macOS 12.7.6 Monterey | x86_64 | 4.5.1 RC (2025-06-05 r88288) -- "Great Square Root" | 4614 |
| kjohnson1 | macOS 13.7.5 Ventura | arm64 | 4.5.1 Patched (2025-06-14 r88325) -- "Great Square Root" | 4555 |
| kunpeng2 | Linux (openEuler 24.03 LTS) | aarch64 | R Under development (unstable) (2025-02-19 r87757) -- "Unsuffered Consequences" | 4586 |
| Click on any hostname to see more info about the system (e.g. compilers) (*) as reported by 'uname -p', except on Windows and Mac OS X | ||||
| Package 1150/2341 | Hostname | OS / Arch | INSTALL | BUILD | CHECK | BUILD BIN | ||||||||
| LymphoSeq 1.36.0 (landing page) David Coffey
| nebbiolo1 | Linux (Ubuntu 24.04.3 LTS) / x86_64 | OK | OK | OK | |||||||||
| merida1 | macOS 12.7.6 Monterey / x86_64 | OK | OK | OK | OK | |||||||||
| kjohnson1 | macOS 13.7.5 Ventura / arm64 | ERROR | ERROR | skipped | skipped | |||||||||
| kunpeng2 | Linux (openEuler 24.03 LTS) / aarch64 | OK | OK | OK | ||||||||||
|
To the developers/maintainers of the LymphoSeq package: - Allow up to 24 hours (and sometimes 48 hours) for your latest push to git@git.bioconductor.org:packages/LymphoSeq.git to reflect on this report. See Troubleshooting Build Report for more information. - Use the following Renviron settings to reproduce errors and warnings. - If 'R CMD check' started to fail recently on the Linux builder(s) over a missing dependency, add the missing dependency to 'Suggests:' in your DESCRIPTION file. See Renviron.bioc for more information. - See Martin Grigorov's blog post for how to debug Linux ARM64 related issues on a x86_64 host. |
| Package: LymphoSeq |
| Version: 1.36.0 |
| Command: /home/biocbuild/R/R/bin/R CMD check --install=check:LymphoSeq.install-out.txt --library=/home/biocbuild/R/R/site-library --no-vignettes --timings LymphoSeq_1.36.0.tar.gz |
| StartedAt: 2025-10-14 10:44:08 -0000 (Tue, 14 Oct 2025) |
| EndedAt: 2025-10-14 10:48:27 -0000 (Tue, 14 Oct 2025) |
| EllapsedTime: 259.2 seconds |
| RetCode: 0 |
| Status: OK |
| CheckDir: LymphoSeq.Rcheck |
| Warnings: 0 |
##############################################################################
##############################################################################
###
### Running command:
###
### /home/biocbuild/R/R/bin/R CMD check --install=check:LymphoSeq.install-out.txt --library=/home/biocbuild/R/R/site-library --no-vignettes --timings LymphoSeq_1.36.0.tar.gz
###
##############################################################################
##############################################################################
* using log directory ‘/home/biocbuild/bbs-3.21-bioc/meat/LymphoSeq.Rcheck’
* using R Under development (unstable) (2025-02-19 r87757)
* using platform: aarch64-unknown-linux-gnu
* R was compiled by
aarch64-unknown-linux-gnu-gcc (GCC) 14.2.0
GNU Fortran (GCC) 14.2.0
* running under: openEuler 24.03 (LTS-SP1)
* using session charset: UTF-8
* using option ‘--no-vignettes’
* checking for file ‘LymphoSeq/DESCRIPTION’ ... OK
* this is package ‘LymphoSeq’ version ‘1.36.0’
* checking package namespace information ... OK
* checking package dependencies ... OK
* checking if this is a source package ... OK
* checking if there is a namespace ... OK
* checking for hidden files and directories ... OK
* checking for portable file names ... OK
* checking for sufficient/correct file permissions ... OK
* checking whether package ‘LymphoSeq’ can be installed ... OK
* checking installed package size ... INFO
installed size is 5.7Mb
sub-directories of 1Mb or more:
extdata 5.5Mb
* checking package directory ... OK
* checking ‘build’ directory ... OK
* checking DESCRIPTION meta-information ... OK
* checking top-level files ... OK
* checking for left-over files ... OK
* checking index information ... OK
* checking package subdirectories ... OK
* checking code files for non-ASCII characters ... OK
* checking R files for syntax errors ... OK
* checking whether the package can be loaded ... OK
* checking whether the package can be loaded with stated dependencies ... OK
* checking whether the package can be unloaded cleanly ... OK
* checking whether the namespace can be loaded with stated dependencies ... OK
* checking whether the namespace can be unloaded cleanly ... OK
* checking loading without being on the library search path ... OK
* checking dependencies in R code ... OK
* checking S3 generic/method consistency ... OK
* checking replacement functions ... OK
* checking foreign function calls ... OK
* checking R code for possible problems ... OK
* checking Rd files ... OK
* checking Rd metadata ... OK
* checking Rd cross-references ... OK
* checking for missing documentation entries ... OK
* checking for code/documentation mismatches ... OK
* checking Rd \usage sections ... OK
* checking Rd contents ... OK
* checking for unstated dependencies in examples ... OK
* checking files in ‘vignettes’ ... OK
* checking examples ... OK
Examples with CPU (user + system) or elapsed time > 5s
user system elapsed
cloneTrack 34.307 1.201 35.706
productiveSeq 25.594 0.463 26.104
phyloTree 6.051 0.128 6.192
* checking for unstated dependencies in vignettes ... OK
* checking package vignettes ... OK
* checking running R code from vignettes ... SKIPPED
* checking re-building of vignette outputs ... SKIPPED
* checking PDF version of manual ... OK
* DONE
Status: OK
LymphoSeq.Rcheck/00install.out
############################################################################## ############################################################################## ### ### Running command: ### ### /home/biocbuild/R/R/bin/R CMD INSTALL LymphoSeq ### ############################################################################## ############################################################################## * installing to library ‘/home/biocbuild/R/R-devel_2025-02-19/site-library’ * installing *source* package ‘LymphoSeq’ ... ** this is package ‘LymphoSeq’ version ‘1.36.0’ ** using staged installation ** R ** inst ** byte-compile and prepare package for lazy loading ** help *** installing help indices ** building package indices ** installing vignettes ** testing if installed package can be loaded from temporary location ** testing if installed package can be loaded from final location ** testing if installed package keeps a record of temporary installation path * DONE (LymphoSeq)
LymphoSeq.Rcheck/LymphoSeq-Ex.timings
| name | user | system | elapsed | |
| alignSeq | 0.829 | 0.032 | 0.893 | |
| bhattacharyyaCoefficient | 0.387 | 0.024 | 0.453 | |
| bhattacharyyaMatrix | 0.742 | 0.008 | 0.751 | |
| chordDiagramVDJ | 1.086 | 0.080 | 1.169 | |
| clonalRelatedness | 1.245 | 0.016 | 0.668 | |
| clonality | 0.066 | 0.004 | 0.071 | |
| cloneTrack | 34.307 | 1.201 | 35.706 | |
| commonSeqs | 0.177 | 0.024 | 0.202 | |
| commonSeqsBar | 1.538 | 0.187 | 1.730 | |
| commonSeqsPlot | 2.452 | 0.140 | 2.597 | |
| commonSeqsVenn | 0.896 | 0.015 | 0.916 | |
| differentialAbundance | 2.925 | 0.040 | 2.973 | |
| exportFasta | 0.267 | 0.016 | 0.285 | |
| geneFreq | 3.231 | 0.132 | 3.370 | |
| lorenzCurve | 1.754 | 0.020 | 1.778 | |
| mergeFiles | 0.090 | 0.000 | 0.089 | |
| pairwisePlot | 1.467 | 0.008 | 1.478 | |
| phyloTree | 6.051 | 0.128 | 6.192 | |
| productive | 0.065 | 0.004 | 0.069 | |
| productiveSeq | 25.594 | 0.463 | 26.104 | |
| readImmunoSeq | 0.052 | 0.000 | 0.053 | |
| removeSeq | 0.069 | 0.000 | 0.069 | |
| searchPublished | 0.192 | 0.012 | 0.203 | |
| searchSeq | 0.475 | 0.004 | 0.480 | |
| seqMatrix | 4.479 | 0.163 | 4.650 | |
| similarityMatrix | 0.202 | 0.000 | 0.202 | |
| similarityScore | 0.187 | 0.000 | 0.188 | |
| topFreq | 1.852 | 0.104 | 1.959 | |
| topSeqs | 0.182 | 0.000 | 0.183 | |
| topSeqsPlot | 0.851 | 0.016 | 0.870 | |
| uniqueSeqs | 0.216 | 0.004 | 0.221 | |