| Back to Multiple platform build/check report for BioC 3.21: simplified long |
|
This page was generated on 2025-04-22 13:16 -0400 (Tue, 22 Apr 2025).
| Hostname | OS | Arch (*) | R version | Installed pkgs |
|---|---|---|---|---|
| nebbiolo1 | Linux (Ubuntu 24.04.1 LTS) | x86_64 | 4.5.0 RC (2025-04-04 r88126) -- "How About a Twenty-Six" | 4831 |
| palomino7 | Windows Server 2022 Datacenter | x64 | 4.5.0 RC (2025-04-04 r88126 ucrt) -- "How About a Twenty-Six" | 4573 |
| lconway | macOS 12.7.1 Monterey | x86_64 | 4.5.0 RC (2025-04-04 r88126) -- "How About a Twenty-Six" | 4599 |
| kjohnson3 | macOS 13.7.1 Ventura | arm64 | 4.5.0 RC (2025-04-04 r88126) -- "How About a Twenty-Six" | 4553 |
| kunpeng2 | Linux (openEuler 24.03 LTS) | aarch64 | R Under development (unstable) (2025-02-19 r87757) -- "Unsuffered Consequences" | 4570 |
| Click on any hostname to see more info about the system (e.g. compilers) (*) as reported by 'uname -p', except on Windows and Mac OS X | ||||
| Package 1070/2341 | Hostname | OS / Arch | INSTALL | BUILD | CHECK | BUILD BIN | ||||||||
| ISAnalytics 1.18.0 (landing page) Francesco Gazzo
| nebbiolo1 | Linux (Ubuntu 24.04.1 LTS) / x86_64 | OK | OK | OK | |||||||||
| palomino7 | Windows Server 2022 Datacenter / x64 | OK | OK | OK | OK | |||||||||
| lconway | macOS 12.7.1 Monterey / x86_64 | OK | OK | OK | OK | |||||||||
| kjohnson3 | macOS 13.7.1 Ventura / arm64 | OK | OK | OK | OK | |||||||||
| kunpeng2 | Linux (openEuler 24.03 LTS) / aarch64 | OK | OK | OK | ||||||||||
|
To the developers/maintainers of the ISAnalytics package: - Allow up to 24 hours (and sometimes 48 hours) for your latest push to git@git.bioconductor.org:packages/ISAnalytics.git to reflect on this report. See Troubleshooting Build Report for more information. - Use the following Renviron settings to reproduce errors and warnings. - If 'R CMD check' started to fail recently on the Linux builder(s) over a missing dependency, add the missing dependency to 'Suggests:' in your DESCRIPTION file. See Renviron.bioc for more information. |
| Package: ISAnalytics |
| Version: 1.18.0 |
| Command: /Library/Frameworks/R.framework/Resources/bin/R CMD check --install=check:ISAnalytics.install-out.txt --library=/Library/Frameworks/R.framework/Resources/library --no-vignettes --timings ISAnalytics_1.18.0.tar.gz |
| StartedAt: 2025-04-21 21:25:09 -0400 (Mon, 21 Apr 2025) |
| EndedAt: 2025-04-21 21:35:28 -0400 (Mon, 21 Apr 2025) |
| EllapsedTime: 619.9 seconds |
| RetCode: 0 |
| Status: OK |
| CheckDir: ISAnalytics.Rcheck |
| Warnings: 0 |
##############################################################################
##############################################################################
###
### Running command:
###
### /Library/Frameworks/R.framework/Resources/bin/R CMD check --install=check:ISAnalytics.install-out.txt --library=/Library/Frameworks/R.framework/Resources/library --no-vignettes --timings ISAnalytics_1.18.0.tar.gz
###
##############################################################################
##############################################################################
* using log directory ‘/Users/biocbuild/bbs-3.21-bioc/meat/ISAnalytics.Rcheck’
* using R version 4.5.0 RC (2025-04-04 r88126)
* using platform: x86_64-apple-darwin20
* R was compiled by
Apple clang version 14.0.0 (clang-1400.0.29.202)
GNU Fortran (GCC) 14.2.0
* running under: macOS Monterey 12.7.6
* using session charset: UTF-8
* using option ‘--no-vignettes’
* checking for file ‘ISAnalytics/DESCRIPTION’ ... OK
* this is package ‘ISAnalytics’ version ‘1.18.0’
* package encoding: UTF-8
* checking package namespace information ... OK
* checking package dependencies ... OK
* checking if this is a source package ... OK
* checking if there is a namespace ... OK
* checking for hidden files and directories ... OK
* checking for portable file names ... OK
* checking for sufficient/correct file permissions ... OK
* checking whether package ‘ISAnalytics’ can be installed ... OK
* checking installed package size ... OK
* checking package directory ... OK
* checking ‘build’ directory ... OK
* checking DESCRIPTION meta-information ... OK
* checking top-level files ... OK
* checking for left-over files ... OK
* checking index information ... OK
* checking package subdirectories ... OK
* checking code files for non-ASCII characters ... OK
* checking R files for syntax errors ... OK
* checking whether the package can be loaded ... OK
* checking whether the package can be loaded with stated dependencies ... OK
* checking whether the package can be unloaded cleanly ... OK
* checking whether the namespace can be loaded with stated dependencies ... OK
* checking whether the namespace can be unloaded cleanly ... OK
* checking whether startup messages can be suppressed ... OK
* checking dependencies in R code ... OK
* checking S3 generic/method consistency ... OK
* checking replacement functions ... OK
* checking foreign function calls ... OK
* checking R code for possible problems ... OK
* checking Rd files ... NOTE
checkRd: (-1) refGenes_hg19.Rd:21: Lost braces; missing escapes or markup?
21 | \item Download from {http://hgdownload.soe.ucsc.edu/goldenPath/hg19/database/}
| ^
* checking Rd metadata ... OK
* checking Rd cross-references ... OK
* checking for missing documentation entries ... OK
* checking for code/documentation mismatches ... OK
* checking Rd \usage sections ... OK
* checking Rd contents ... OK
* checking for unstated dependencies in examples ... OK
* checking contents of ‘data’ directory ... OK
* checking data for non-ASCII characters ... OK
* checking data for ASCII and uncompressed saves ... OK
* checking files in ‘vignettes’ ... OK
* checking examples ... OK
Examples with CPU (user + system) or elapsed time > 5s
user system elapsed
integration_alluvial_plot 3.449 0.092 11.533
import_parallel_Vispa2Matrices 2.065 0.162 17.877
CIS_grubbs_overtime 1.671 0.261 7.647
top_cis_overtime_heatmap 1.595 0.109 9.977
import_Vispa2_stats 1.445 0.139 8.805
sharing_venn 1.414 0.079 38.834
sharing_heatmap 1.334 0.057 11.773
compute_near_integrations 1.075 0.072 10.597
iss_source 0.976 0.043 9.493
HSC_population_plot 0.946 0.033 6.295
realign_after_collisions 0.888 0.035 8.175
is_sharing 0.818 0.040 10.024
remove_collisions 0.813 0.030 8.112
HSC_population_size_estimate 0.663 0.030 6.150
* checking for unstated dependencies in ‘tests’ ... OK
* checking tests ...
Running ‘testthat.R’
OK
* checking for unstated dependencies in vignettes ... OK
* checking package vignettes ... OK
* checking running R code from vignettes ... SKIPPED
* checking re-building of vignette outputs ... SKIPPED
* checking PDF version of manual ... OK
* DONE
Status: 1 NOTE
See
‘/Users/biocbuild/bbs-3.21-bioc/meat/ISAnalytics.Rcheck/00check.log’
for details.
ISAnalytics.Rcheck/00install.out
############################################################################## ############################################################################## ### ### Running command: ### ### /Library/Frameworks/R.framework/Resources/bin/R CMD INSTALL ISAnalytics ### ############################################################################## ############################################################################## * installing to library ‘/Library/Frameworks/R.framework/Versions/4.5-x86_64/Resources/library’ * installing *source* package ‘ISAnalytics’ ... ** this is package ‘ISAnalytics’ version ‘1.18.0’ ** using staged installation ** R ** data ** inst ** byte-compile and prepare package for lazy loading ** help *** installing help indices *** copying figures ** building package indices ** installing vignettes ** testing if installed package can be loaded from temporary location ** testing if installed package can be loaded from final location ** testing if installed package keeps a record of temporary installation path * DONE (ISAnalytics)
ISAnalytics.Rcheck/tests/testthat.Rout
R version 4.5.0 RC (2025-04-04 r88126) -- "How About a Twenty-Six"
Copyright (C) 2025 The R Foundation for Statistical Computing
Platform: x86_64-apple-darwin20
R is free software and comes with ABSOLUTELY NO WARRANTY.
You are welcome to redistribute it under certain conditions.
Type 'license()' or 'licence()' for distribution details.
R is a collaborative project with many contributors.
Type 'contributors()' for more information and
'citation()' on how to cite R or R packages in publications.
Type 'demo()' for some demos, 'help()' for on-line help, or
'help.start()' for an HTML browser interface to help.
Type 'q()' to quit R.
> library(testthat)
> library(ISAnalytics)
>
> test_check("ISAnalytics")
Loading required namespace: plotly
Loading required namespace: rmarkdown
2025-04-21 21:30:35.298 R[49005:728072710] XType: com.apple.fonts is not accessible.
2025-04-21 21:30:35.298 R[49005:728072710] XType: XTFontStaticRegistry is enabled.
Report correctly saved
i Report saved to: /tmp/RtmpbJydyR/filebf6d68523e2c/2025-04-21_collision_removal_report.html
Report correctly saved
i Report saved to: /tmp/RtmpbJydyR/filebf6d7cfeb9cc/2025-04-21_outlier_test_pool_fragments_report.html
[ FAIL 0 | WARN 0 | SKIP 0 | PASS 834 ]
>
> proc.time()
user system elapsed
101.895 5.835 358.643
ISAnalytics.Rcheck/ISAnalytics-Ex.timings
| name | user | system | elapsed | |
| CIS_grubbs | 1.014 | 0.051 | 1.075 | |
| CIS_grubbs_overtime | 1.671 | 0.261 | 7.647 | |
| CIS_volcano_plot | 1.357 | 0.025 | 1.390 | |
| HSC_population_plot | 0.946 | 0.033 | 6.295 | |
| HSC_population_size_estimate | 0.663 | 0.030 | 6.150 | |
| NGSdataExplorer | 0 | 0 | 0 | |
| aggregate_metadata | 0.121 | 0.002 | 0.123 | |
| aggregate_values_by_key | 0.080 | 0.003 | 0.084 | |
| annotation_issues | 0.033 | 0.002 | 0.034 | |
| as_sparse_matrix | 0.055 | 0.002 | 0.057 | |
| available_outlier_tests | 0 | 0 | 0 | |
| available_tags | 0.020 | 0.000 | 0.021 | |
| blood_lineages_default | 0.040 | 0.001 | 0.040 | |
| circos_genomic_density | 0 | 0 | 0 | |
| clinical_relevant_suspicious_genes | 0.016 | 0.000 | 0.017 | |
| comparison_matrix | 0.035 | 0.001 | 0.037 | |
| compute_abundance | 0.036 | 0.001 | 0.038 | |
| compute_near_integrations | 1.075 | 0.072 | 10.597 | |
| cumulative_count_union | 0.000 | 0.000 | 0.001 | |
| cumulative_is | 0.183 | 0.004 | 0.188 | |
| date_formats | 0.000 | 0.000 | 0.001 | |
| default_af_transform | 0.000 | 0.000 | 0.001 | |
| default_iss_file_prefixes | 0 | 0 | 0 | |
| default_meta_agg | 0.018 | 0.000 | 0.017 | |
| default_rec_agg_lambdas | 0.001 | 0.000 | 0.001 | |
| default_report_path | 0.008 | 0.001 | 0.010 | |
| default_stats | 1.112 | 0.049 | 1.170 | |
| enable_progress_bars | 0.018 | 0.003 | 0.021 | |
| export_ISA_settings | 0.079 | 0.002 | 0.082 | |
| fisher_scatterplot | 1.130 | 0.025 | 1.159 | |
| gene_frequency_fisher | 0.916 | 0.011 | 0.931 | |
| generate_Vispa2_launch_AF | 0.224 | 0.019 | 0.252 | |
| generate_blank_association_file | 0.015 | 0.001 | 0.015 | |
| generate_default_folder_structure | 0.462 | 0.079 | 0.493 | |
| import_ISA_settings | 0.073 | 0.002 | 0.075 | |
| import_Vispa2_stats | 1.445 | 0.139 | 8.805 | |
| import_association_file | 0.702 | 0.113 | 0.747 | |
| import_parallel_Vispa2Matrices | 2.065 | 0.162 | 17.877 | |
| import_single_Vispa2Matrix | 0.918 | 0.121 | 1.027 | |
| inspect_tags | 0.018 | 0.000 | 0.018 | |
| integration_alluvial_plot | 3.449 | 0.092 | 11.533 | |
| is_sharing | 0.818 | 0.040 | 10.024 | |
| iss_source | 0.976 | 0.043 | 9.493 | |
| known_clinical_oncogenes | 0.014 | 0.000 | 0.014 | |
| mandatory_IS_vars | 0.111 | 0.005 | 0.116 | |
| matching_options | 0 | 0 | 0 | |
| outlier_filter | 0.175 | 0.010 | 0.186 | |
| outliers_by_pool_fragments | 0.173 | 0.002 | 0.176 | |
| pcr_id_column | 0.022 | 0.000 | 0.022 | |
| purity_filter | 0.374 | 0.005 | 0.381 | |
| quantification_types | 0 | 0 | 0 | |
| realign_after_collisions | 0.888 | 0.035 | 8.175 | |
| reduced_AF_columns | 0.047 | 0.000 | 0.047 | |
| refGene_table_cols | 0.001 | 0.000 | 0.000 | |
| remove_collisions | 0.813 | 0.030 | 8.112 | |
| reset_mandatory_IS_vars | 0.006 | 0.000 | 0.007 | |
| sample_statistics | 0.328 | 0.040 | 0.370 | |
| separate_quant_matrices | 0.016 | 0.002 | 0.017 | |
| set_mandatory_IS_vars | 0.098 | 0.007 | 0.106 | |
| set_matrix_file_suffixes | 0.023 | 0.002 | 0.025 | |
| sharing_heatmap | 1.334 | 0.057 | 11.773 | |
| sharing_venn | 1.414 | 0.079 | 38.834 | |
| threshold_filter | 0.000 | 0.000 | 0.001 | |
| top_abund_tableGrob | 0.694 | 0.008 | 0.707 | |
| top_cis_overtime_heatmap | 1.595 | 0.109 | 9.977 | |
| top_integrations | 0.033 | 0.002 | 0.036 | |
| top_targeted_genes | 0.473 | 0.007 | 0.482 | |
| transform_columns | 0.021 | 0.001 | 0.023 | |