| Back to Multiple platform build/check report for BioC 3.21: simplified long |
|
This page was generated on 2025-10-16 11:41 -0400 (Thu, 16 Oct 2025).
| Hostname | OS | Arch (*) | R version | Installed pkgs |
|---|---|---|---|---|
| nebbiolo1 | Linux (Ubuntu 24.04.3 LTS) | x86_64 | 4.5.1 (2025-06-13) -- "Great Square Root" | 4833 |
| merida1 | macOS 12.7.6 Monterey | x86_64 | 4.5.1 RC (2025-06-05 r88288) -- "Great Square Root" | 4614 |
| kjohnson1 | macOS 13.7.5 Ventura | arm64 | 4.5.1 Patched (2025-06-14 r88325) -- "Great Square Root" | 4555 |
| kunpeng2 | Linux (openEuler 24.03 LTS) | aarch64 | R Under development (unstable) (2025-02-19 r87757) -- "Unsuffered Consequences" | 4586 |
| Click on any hostname to see more info about the system (e.g. compilers) (*) as reported by 'uname -p', except on Windows and Mac OS X | ||||
| Package 1070/2341 | Hostname | OS / Arch | INSTALL | BUILD | CHECK | BUILD BIN | ||||||||
| ISAnalytics 1.18.0 (landing page) Francesco Gazzo
| nebbiolo1 | Linux (Ubuntu 24.04.3 LTS) / x86_64 | OK | OK | OK | |||||||||
| merida1 | macOS 12.7.6 Monterey / x86_64 | OK | OK | OK | OK | |||||||||
| kjohnson1 | macOS 13.7.5 Ventura / arm64 | OK | OK | OK | OK | |||||||||
| kunpeng2 | Linux (openEuler 24.03 LTS) / aarch64 | OK | OK | OK | ||||||||||
|
To the developers/maintainers of the ISAnalytics package: - Allow up to 24 hours (and sometimes 48 hours) for your latest push to git@git.bioconductor.org:packages/ISAnalytics.git to reflect on this report. See Troubleshooting Build Report for more information. - Use the following Renviron settings to reproduce errors and warnings. - If 'R CMD check' started to fail recently on the Linux builder(s) over a missing dependency, add the missing dependency to 'Suggests:' in your DESCRIPTION file. See Renviron.bioc for more information. - See Martin Grigorov's blog post for how to debug Linux ARM64 related issues on a x86_64 host. |
| Package: ISAnalytics |
| Version: 1.18.0 |
| Command: /home/biocbuild/R/R/bin/R CMD check --install=check:ISAnalytics.install-out.txt --library=/home/biocbuild/R/R/site-library --no-vignettes --timings ISAnalytics_1.18.0.tar.gz |
| StartedAt: 2025-10-14 10:26:03 -0000 (Tue, 14 Oct 2025) |
| EndedAt: 2025-10-14 10:39:22 -0000 (Tue, 14 Oct 2025) |
| EllapsedTime: 798.6 seconds |
| RetCode: 0 |
| Status: OK |
| CheckDir: ISAnalytics.Rcheck |
| Warnings: 0 |
##############################################################################
##############################################################################
###
### Running command:
###
### /home/biocbuild/R/R/bin/R CMD check --install=check:ISAnalytics.install-out.txt --library=/home/biocbuild/R/R/site-library --no-vignettes --timings ISAnalytics_1.18.0.tar.gz
###
##############################################################################
##############################################################################
* using log directory ‘/home/biocbuild/bbs-3.21-bioc/meat/ISAnalytics.Rcheck’
* using R Under development (unstable) (2025-02-19 r87757)
* using platform: aarch64-unknown-linux-gnu
* R was compiled by
aarch64-unknown-linux-gnu-gcc (GCC) 14.2.0
GNU Fortran (GCC) 14.2.0
* running under: openEuler 24.03 (LTS-SP1)
* using session charset: UTF-8
* using option ‘--no-vignettes’
* checking for file ‘ISAnalytics/DESCRIPTION’ ... OK
* this is package ‘ISAnalytics’ version ‘1.18.0’
* package encoding: UTF-8
* checking package namespace information ... OK
* checking package dependencies ... OK
* checking if this is a source package ... OK
* checking if there is a namespace ... OK
* checking for hidden files and directories ... OK
* checking for portable file names ... OK
* checking for sufficient/correct file permissions ... OK
* checking whether package ‘ISAnalytics’ can be installed ... OK
* checking installed package size ... OK
* checking package directory ... OK
* checking ‘build’ directory ... OK
* checking DESCRIPTION meta-information ... OK
* checking top-level files ... OK
* checking for left-over files ... OK
* checking index information ... OK
* checking package subdirectories ... OK
* checking code files for non-ASCII characters ... OK
* checking R files for syntax errors ... OK
* checking whether the package can be loaded ... OK
* checking whether the package can be loaded with stated dependencies ... OK
* checking whether the package can be unloaded cleanly ... OK
* checking whether the namespace can be loaded with stated dependencies ... OK
* checking whether the namespace can be unloaded cleanly ... OK
* checking loading without being on the library search path ... OK
* checking whether startup messages can be suppressed ... OK
* checking dependencies in R code ... OK
* checking S3 generic/method consistency ... OK
* checking replacement functions ... OK
* checking foreign function calls ... OK
* checking R code for possible problems ... OK
* checking Rd files ... NOTE
checkRd: (-1) refGenes_hg19.Rd:21: Lost braces; missing escapes or markup?
21 | \item Download from {http://hgdownload.soe.ucsc.edu/goldenPath/hg19/database/}
| ^
* checking Rd metadata ... OK
* checking Rd cross-references ... OK
* checking for missing documentation entries ... OK
* checking for code/documentation mismatches ... OK
* checking Rd \usage sections ... OK
* checking Rd contents ... OK
* checking for unstated dependencies in examples ... OK
* checking contents of ‘data’ directory ... OK
* checking data for non-ASCII characters ... OK
* checking data for ASCII and uncompressed saves ... OK
* checking files in ‘vignettes’ ... OK
* checking examples ... OK
Examples with CPU (user + system) or elapsed time > 5s
user system elapsed
integration_alluvial_plot 4.627 0.280 16.011
sharing_venn 3.772 0.245 47.401
import_parallel_Vispa2Matrices 2.575 0.200 23.742
sharing_heatmap 2.240 0.195 16.292
CIS_grubbs_overtime 2.124 0.234 10.057
import_Vispa2_stats 1.825 0.197 11.599
top_cis_overtime_heatmap 1.878 0.091 12.477
iss_source 1.503 0.253 12.983
remove_collisions 1.002 0.505 11.213
HSC_population_plot 1.328 0.094 8.599
is_sharing 1.196 0.118 13.642
realign_after_collisions 1.111 0.199 10.891
compute_near_integrations 1.107 0.052 13.288
HSC_population_size_estimate 0.822 0.011 7.763
* checking for unstated dependencies in ‘tests’ ... OK
* checking tests ...
Running ‘testthat.R’
OK
* checking for unstated dependencies in vignettes ... OK
* checking package vignettes ... OK
* checking running R code from vignettes ... SKIPPED
* checking re-building of vignette outputs ... SKIPPED
* checking PDF version of manual ... OK
* DONE
Status: 1 NOTE
See
‘/home/biocbuild/bbs-3.21-bioc/meat/ISAnalytics.Rcheck/00check.log’
for details.
ISAnalytics.Rcheck/00install.out
############################################################################## ############################################################################## ### ### Running command: ### ### /home/biocbuild/R/R/bin/R CMD INSTALL ISAnalytics ### ############################################################################## ############################################################################## * installing to library ‘/home/biocbuild/R/R-devel_2025-02-19/site-library’ * installing *source* package ‘ISAnalytics’ ... ** this is package ‘ISAnalytics’ version ‘1.18.0’ ** using staged installation ** R ** data ** inst ** byte-compile and prepare package for lazy loading ** help *** installing help indices *** copying figures ** building package indices ** installing vignettes ** testing if installed package can be loaded from temporary location ** testing if installed package can be loaded from final location ** testing if installed package keeps a record of temporary installation path * DONE (ISAnalytics)
ISAnalytics.Rcheck/tests/testthat.Rout
R Under development (unstable) (2025-02-19 r87757) -- "Unsuffered Consequences"
Copyright (C) 2025 The R Foundation for Statistical Computing
Platform: aarch64-unknown-linux-gnu
R is free software and comes with ABSOLUTELY NO WARRANTY.
You are welcome to redistribute it under certain conditions.
Type 'license()' or 'licence()' for distribution details.
R is a collaborative project with many contributors.
Type 'contributors()' for more information and
'citation()' on how to cite R or R packages in publications.
Type 'demo()' for some demos, 'help()' for on-line help, or
'help.start()' for an HTML browser interface to help.
Type 'q()' to quit R.
> library(testthat)
> library(ISAnalytics)
>
> test_check("ISAnalytics")
Loading required namespace: plotly
Unable to compute sharing: i In index: 1.
i With name: absolute.
Caused by error in `pm[[2]]`:
! subscript out of bounds
i Skipping
Loading required namespace: rmarkdown
Report correctly saved
i Report saved to: /home/biocbuild/tmp/RtmpEDRbxL/file12fafd37ec6640/2025-10-14_collision_removal_report.html
Report correctly saved
i Report saved to: /home/biocbuild/tmp/RtmpEDRbxL/file12fafd484fab96/2025-10-14_outlier_test_pool_fragments_report.html
[ FAIL 0 | WARN 0 | SKIP 0 | PASS 834 ]
>
> proc.time()
user system elapsed
131.699 8.154 467.982
ISAnalytics.Rcheck/ISAnalytics-Ex.timings
| name | user | system | elapsed | |
| CIS_grubbs | 1.229 | 0.028 | 1.260 | |
| CIS_grubbs_overtime | 2.124 | 0.234 | 10.057 | |
| CIS_volcano_plot | 2.531 | 0.107 | 2.645 | |
| HSC_population_plot | 1.328 | 0.094 | 8.599 | |
| HSC_population_size_estimate | 0.822 | 0.011 | 7.763 | |
| NGSdataExplorer | 0 | 0 | 0 | |
| aggregate_metadata | 0.151 | 0.000 | 0.152 | |
| aggregate_values_by_key | 0.091 | 0.000 | 0.091 | |
| annotation_issues | 0.038 | 0.000 | 0.038 | |
| as_sparse_matrix | 0.075 | 0.000 | 0.076 | |
| available_outlier_tests | 0.000 | 0.000 | 0.001 | |
| available_tags | 0.033 | 0.000 | 0.033 | |
| blood_lineages_default | 0.045 | 0.004 | 0.048 | |
| circos_genomic_density | 0 | 0 | 0 | |
| clinical_relevant_suspicious_genes | 0.02 | 0.00 | 0.02 | |
| comparison_matrix | 0.047 | 0.000 | 0.048 | |
| compute_abundance | 0.050 | 0.016 | 0.066 | |
| compute_near_integrations | 1.107 | 0.052 | 13.288 | |
| cumulative_count_union | 0 | 0 | 0 | |
| cumulative_is | 0.250 | 0.012 | 0.263 | |
| date_formats | 0.001 | 0.000 | 0.000 | |
| default_af_transform | 0.001 | 0.000 | 0.001 | |
| default_iss_file_prefixes | 0 | 0 | 0 | |
| default_meta_agg | 0.026 | 0.000 | 0.026 | |
| default_rec_agg_lambdas | 0.000 | 0.000 | 0.001 | |
| default_report_path | 0.011 | 0.000 | 0.012 | |
| default_stats | 1.061 | 0.047 | 1.111 | |
| enable_progress_bars | 0.022 | 0.000 | 0.022 | |
| export_ISA_settings | 0.133 | 0.000 | 0.133 | |
| fisher_scatterplot | 2.136 | 0.059 | 2.200 | |
| gene_frequency_fisher | 1.259 | 0.096 | 1.357 | |
| generate_Vispa2_launch_AF | 0.273 | 0.009 | 0.281 | |
| generate_blank_association_file | 0.019 | 0.000 | 0.019 | |
| generate_default_folder_structure | 0.533 | 0.113 | 0.647 | |
| import_ISA_settings | 0.104 | 0.000 | 0.105 | |
| import_Vispa2_stats | 1.825 | 0.197 | 11.599 | |
| import_association_file | 0.774 | 0.122 | 0.897 | |
| import_parallel_Vispa2Matrices | 2.575 | 0.200 | 23.742 | |
| import_single_Vispa2Matrix | 1.111 | 0.196 | 1.311 | |
| inspect_tags | 0.018 | 0.000 | 0.018 | |
| integration_alluvial_plot | 4.627 | 0.280 | 16.011 | |
| is_sharing | 1.196 | 0.118 | 13.642 | |
| iss_source | 1.503 | 0.253 | 12.983 | |
| known_clinical_oncogenes | 0.02 | 0.00 | 0.02 | |
| mandatory_IS_vars | 0.136 | 0.016 | 0.153 | |
| matching_options | 0 | 0 | 0 | |
| outlier_filter | 0.219 | 0.075 | 0.295 | |
| outliers_by_pool_fragments | 0.277 | 0.056 | 0.333 | |
| pcr_id_column | 0.029 | 0.008 | 0.037 | |
| purity_filter | 0.565 | 0.147 | 0.714 | |
| quantification_types | 0 | 0 | 0 | |
| realign_after_collisions | 1.111 | 0.199 | 10.891 | |
| reduced_AF_columns | 0.061 | 0.008 | 0.069 | |
| refGene_table_cols | 0 | 0 | 0 | |
| remove_collisions | 1.002 | 0.505 | 11.213 | |
| reset_mandatory_IS_vars | 0.008 | 0.000 | 0.008 | |
| sample_statistics | 0.476 | 0.059 | 0.537 | |
| separate_quant_matrices | 0.017 | 0.004 | 0.021 | |
| set_mandatory_IS_vars | 0.166 | 0.000 | 0.166 | |
| set_matrix_file_suffixes | 0.028 | 0.000 | 0.029 | |
| sharing_heatmap | 2.240 | 0.195 | 16.292 | |
| sharing_venn | 3.772 | 0.245 | 47.401 | |
| threshold_filter | 0.001 | 0.000 | 0.000 | |
| top_abund_tableGrob | 0.973 | 0.000 | 0.976 | |
| top_cis_overtime_heatmap | 1.878 | 0.091 | 12.477 | |
| top_integrations | 0.04 | 0.00 | 0.04 | |
| top_targeted_genes | 0.639 | 0.000 | 0.641 | |
| transform_columns | 0.027 | 0.000 | 0.027 | |