Back to Multiple platform build/check report for BioC 3.21: simplified long |
|
This page was generated on 2025-02-15 11:41 -0500 (Sat, 15 Feb 2025).
Hostname | OS | Arch (*) | R version | Installed pkgs |
---|---|---|---|---|
nebbiolo1 | Linux (Ubuntu 24.04.1 LTS) | x86_64 | R Under development (unstable) (2025-01-20 r87609) -- "Unsuffered Consequences" | 4720 |
palomino7 | Windows Server 2022 Datacenter | x64 | R Under development (unstable) (2025-01-21 r87610 ucrt) -- "Unsuffered Consequences" | 4482 |
lconway | macOS 12.7.1 Monterey | x86_64 | R Under development (unstable) (2025-01-22 r87618) -- "Unsuffered Consequences" | 4493 |
kjohnson3 | macOS 13.7.1 Ventura | arm64 | R Under development (unstable) (2025-01-20 r87609) -- "Unsuffered Consequences" | 4446 |
Click on any hostname to see more info about the system (e.g. compilers) (*) as reported by 'uname -p', except on Windows and Mac OS X |
Package 955/2295 | Hostname | OS / Arch | INSTALL | BUILD | CHECK | BUILD BIN | ||||||||
HiCBricks 1.25.0 (landing page) Koustav Pal
| nebbiolo1 | Linux (Ubuntu 24.04.1 LTS) / x86_64 | OK | OK | OK | ![]() | ||||||||
palomino7 | Windows Server 2022 Datacenter / x64 | OK | OK | OK | OK | ![]() | ||||||||
lconway | macOS 12.7.1 Monterey / x86_64 | OK | OK | OK | OK | ![]() | ||||||||
kjohnson3 | macOS 13.7.1 Ventura / arm64 | OK | OK | OK | OK | ![]() | ||||||||
To the developers/maintainers of the HiCBricks package: - Allow up to 24 hours (and sometimes 48 hours) for your latest push to git@git.bioconductor.org:packages/HiCBricks.git to reflect on this report. See Troubleshooting Build Report for more information. - Use the following Renviron settings to reproduce errors and warnings. - If 'R CMD check' started to fail recently on the Linux builder(s) over a missing dependency, add the missing dependency to 'Suggests:' in your DESCRIPTION file. See Renviron.bioc for more information. |
Package: HiCBricks |
Version: 1.25.0 |
Command: E:\biocbuild\bbs-3.21-bioc\R\bin\R.exe CMD check --no-multiarch --install=check:HiCBricks.install-out.txt --library=E:\biocbuild\bbs-3.21-bioc\R\library --no-vignettes --timings HiCBricks_1.25.0.tar.gz |
StartedAt: 2025-02-15 02:03:21 -0500 (Sat, 15 Feb 2025) |
EndedAt: 2025-02-15 02:08:38 -0500 (Sat, 15 Feb 2025) |
EllapsedTime: 317.1 seconds |
RetCode: 0 |
Status: OK |
CheckDir: HiCBricks.Rcheck |
Warnings: 0 |
############################################################################## ############################################################################## ### ### Running command: ### ### E:\biocbuild\bbs-3.21-bioc\R\bin\R.exe CMD check --no-multiarch --install=check:HiCBricks.install-out.txt --library=E:\biocbuild\bbs-3.21-bioc\R\library --no-vignettes --timings HiCBricks_1.25.0.tar.gz ### ############################################################################## ############################################################################## * using log directory 'E:/biocbuild/bbs-3.21-bioc/meat/HiCBricks.Rcheck' * using R Under development (unstable) (2025-01-21 r87610 ucrt) * using platform: x86_64-w64-mingw32 * R was compiled by gcc.exe (GCC) 13.3.0 GNU Fortran (GCC) 13.3.0 * running under: Windows Server 2022 x64 (build 20348) * using session charset: UTF-8 * using option '--no-vignettes' * checking for file 'HiCBricks/DESCRIPTION' ... OK * checking extension type ... Package * this is package 'HiCBricks' version '1.25.0' * package encoding: UTF-8 * checking package namespace information ... OK * checking package dependencies ... OK * checking if this is a source package ... OK * checking if there is a namespace ... OK * checking for hidden files and directories ... OK * checking for portable file names ... OK * checking whether package 'HiCBricks' can be installed ... OK * checking installed package size ... OK * checking package directory ... OK * checking 'build' directory ... OK * checking DESCRIPTION meta-information ... OK * checking top-level files ... OK * checking for left-over files ... OK * checking index information ... OK * checking package subdirectories ... OK * checking code files for non-ASCII characters ... OK * checking R files for syntax errors ... OK * checking whether the package can be loaded ... OK * checking whether the package can be loaded with stated dependencies ... OK * checking whether the package can be unloaded cleanly ... OK * checking whether the namespace can be loaded with stated dependencies ... OK * checking whether the namespace can be unloaded cleanly ... OK * checking dependencies in R code ... OK * checking S3 generic/method consistency ... OK * checking replacement functions ... OK * checking foreign function calls ... OK * checking R code for possible problems ... OK * checking Rd files ... OK * checking Rd metadata ... OK * checking Rd cross-references ... OK * checking for missing documentation entries ... OK * checking for code/documentation mismatches ... OK * checking Rd \usage sections ... OK * checking Rd contents ... OK * checking for unstated dependencies in examples ... OK * checking files in 'vignettes' ... OK * checking examples ... OK Examples with CPU (user + system) or elapsed time > 5s user system elapsed Brick_export_to_sparse 3.39 0.35 6.05 Brick_vizart_plot_heatmap 2.55 0.33 5.74 Brick_local_score_differentiator 2.38 0.38 5.17 BrickContainer_unlink_resolution 2.38 0.22 6.83 Brick_add_ranges 2.25 0.19 5.84 Brick_get_matrix_within_coords 2.11 0.25 8.96 BrickContainer_change_experiment_name 1.59 0.21 5.36 Brick_get_matrix_mcols 1.52 0.23 5.39 Brick_fetch_range_index 1.38 0.15 6.54 * checking for unstated dependencies in vignettes ... OK * checking package vignettes ... OK * checking running R code from vignettes ... SKIPPED * checking re-building of vignette outputs ... SKIPPED * checking PDF version of manual ... OK * DONE Status: OK
HiCBricks.Rcheck/00install.out
############################################################################## ############################################################################## ### ### Running command: ### ### E:\biocbuild\bbs-3.21-bioc\R\bin\R.exe CMD INSTALL HiCBricks ### ############################################################################## ############################################################################## * installing to library 'E:/biocbuild/bbs-3.21-bioc/R/library' * installing *source* package 'HiCBricks' ... ** this is package 'HiCBricks' version '1.25.0' ** using staged installation ** R ** inst ** byte-compile and prepare package for lazy loading ** help *** installing help indices ** building package indices ** installing vignettes ** testing if installed package can be loaded from temporary location ** testing if installed package can be loaded from final location ** testing if installed package keeps a record of temporary installation path * DONE (HiCBricks)
HiCBricks.Rcheck/HiCBricks-Ex.timings
name | user | system | elapsed | |
BrickContainer_change_experiment_name | 1.59 | 0.21 | 5.36 | |
BrickContainer_change_output_directory | 1.36 | 0.15 | 4.22 | |
BrickContainer_get_path_to_file | 1.26 | 0.14 | 3.76 | |
BrickContainer_list_chromosomes | 1.08 | 0.19 | 3.31 | |
BrickContainer_list_experiment_name | 1.06 | 0.08 | 3.35 | |
BrickContainer_list_files | 1.11 | 0.11 | 4.11 | |
BrickContainer_list_output_directory | 1.02 | 0.18 | 4.35 | |
BrickContainer_list_resolutions | 1.20 | 0.10 | 3.01 | |
BrickContainer_unlink_resolution | 2.38 | 0.22 | 6.83 | |
Brick_add_ranges | 2.25 | 0.19 | 5.84 | |
Brick_call_compartments | 1.69 | 0.34 | 4.36 | |
Brick_export_to_sparse | 3.39 | 0.35 | 6.05 | |
Brick_fetch_range_index | 1.38 | 0.15 | 6.54 | |
Brick_fetch_row_vector | 2.01 | 0.11 | 4.58 | |
Brick_get_bintable | 1.08 | 0.24 | 3.38 | |
Brick_get_chrominfo | 1.08 | 0.06 | 3.67 | |
Brick_get_entire_matrix | 1.48 | 0.27 | 4.42 | |
Brick_get_matrix | 2.00 | 0.14 | 4.38 | |
Brick_get_matrix_mcols | 1.52 | 0.23 | 5.39 | |
Brick_get_matrix_within_coords | 2.11 | 0.25 | 8.96 | |
Brick_get_ranges | 1.14 | 0.20 | 4.91 | |
Brick_get_values_by_distance | 1.44 | 0.19 | 4.34 | |
Brick_get_vector_values | 1.45 | 0.21 | 3.86 | |
Brick_list_matrices | 1.08 | 0.15 | 3.54 | |
Brick_list_matrix_mcols | 0.98 | 0.11 | 2.93 | |
Brick_list_mcool_normalisations | 0 | 0 | 0 | |
Brick_list_mcool_resolutions | 0 | 0 | 0 | |
Brick_list_rangekeys | 1.02 | 0.14 | 2.94 | |
Brick_list_ranges_mcols | 0.90 | 0.20 | 3.03 | |
Brick_load_cis_matrix_till_distance | 1.32 | 0.25 | 3.45 | |
Brick_load_data_from_mcool | 0 | 0 | 0 | |
Brick_load_data_from_sparse | 0 | 0 | 0 | |
Brick_load_matrix | 1.43 | 0.30 | 3.94 | |
Brick_local_score_differentiator | 2.38 | 0.38 | 5.17 | |
Brick_make_ranges | 0 | 0 | 0 | |
Brick_matrix_dimensions | 1.39 | 0.29 | 3.86 | |
Brick_matrix_exists | 1.40 | 0.30 | 4.58 | |
Brick_matrix_filename | 1.16 | 0.11 | 3.64 | |
Brick_matrix_isdone | 1.36 | 0.22 | 4.25 | |
Brick_matrix_issparse | 1.39 | 0.19 | 4.10 | |
Brick_matrix_maxdist | 1.45 | 0.28 | 3.84 | |
Brick_matrix_minmax | 1.29 | 0.24 | 4.04 | |
Brick_mcool_normalisation_exists | 0 | 0 | 0 | |
Brick_rangekey_exists | 1.00 | 0.18 | 3.58 | |
Brick_return_region_position | 1.10 | 0.05 | 3.17 | |
Brick_vizart_plot_heatmap | 2.55 | 0.33 | 5.74 | |
Create_many_Bricks | 1.05 | 0.09 | 3.51 | |
Create_many_Bricks_from_mcool | 0 | 0 | 0 | |
load_BrickContainer | 1.12 | 0.14 | 3.38 | |