| Back to Multiple platform build/check report for BioC 3.21: simplified long |
|
This page was generated on 2025-10-16 11:41 -0400 (Thu, 16 Oct 2025).
| Hostname | OS | Arch (*) | R version | Installed pkgs |
|---|---|---|---|---|
| nebbiolo1 | Linux (Ubuntu 24.04.3 LTS) | x86_64 | 4.5.1 (2025-06-13) -- "Great Square Root" | 4833 |
| merida1 | macOS 12.7.6 Monterey | x86_64 | 4.5.1 RC (2025-06-05 r88288) -- "Great Square Root" | 4614 |
| kjohnson1 | macOS 13.7.5 Ventura | arm64 | 4.5.1 Patched (2025-06-14 r88325) -- "Great Square Root" | 4555 |
| kunpeng2 | Linux (openEuler 24.03 LTS) | aarch64 | R Under development (unstable) (2025-02-19 r87757) -- "Unsuffered Consequences" | 4586 |
| Click on any hostname to see more info about the system (e.g. compilers) (*) as reported by 'uname -p', except on Windows and Mac OS X | ||||
| Package 970/2341 | Hostname | OS / Arch | INSTALL | BUILD | CHECK | BUILD BIN | ||||||||
| HiCBricks 1.26.0 (landing page) Koustav Pal
| nebbiolo1 | Linux (Ubuntu 24.04.3 LTS) / x86_64 | OK | OK | OK | |||||||||
| merida1 | macOS 12.7.6 Monterey / x86_64 | OK | OK | OK | OK | |||||||||
| kjohnson1 | macOS 13.7.5 Ventura / arm64 | OK | OK | OK | OK | |||||||||
| kunpeng2 | Linux (openEuler 24.03 LTS) / aarch64 | OK | OK | OK | ||||||||||
|
To the developers/maintainers of the HiCBricks package: - Allow up to 24 hours (and sometimes 48 hours) for your latest push to git@git.bioconductor.org:packages/HiCBricks.git to reflect on this report. See Troubleshooting Build Report for more information. - Use the following Renviron settings to reproduce errors and warnings. - If 'R CMD check' started to fail recently on the Linux builder(s) over a missing dependency, add the missing dependency to 'Suggests:' in your DESCRIPTION file. See Renviron.bioc for more information. - See Martin Grigorov's blog post for how to debug Linux ARM64 related issues on a x86_64 host. |
| Package: HiCBricks |
| Version: 1.26.0 |
| Command: /home/biocbuild/R/R/bin/R CMD check --install=check:HiCBricks.install-out.txt --library=/home/biocbuild/R/R/site-library --no-vignettes --timings HiCBricks_1.26.0.tar.gz |
| StartedAt: 2025-10-14 10:07:18 -0000 (Tue, 14 Oct 2025) |
| EndedAt: 2025-10-14 10:10:48 -0000 (Tue, 14 Oct 2025) |
| EllapsedTime: 210.1 seconds |
| RetCode: 0 |
| Status: OK |
| CheckDir: HiCBricks.Rcheck |
| Warnings: 0 |
##############################################################################
##############################################################################
###
### Running command:
###
### /home/biocbuild/R/R/bin/R CMD check --install=check:HiCBricks.install-out.txt --library=/home/biocbuild/R/R/site-library --no-vignettes --timings HiCBricks_1.26.0.tar.gz
###
##############################################################################
##############################################################################
* using log directory ‘/home/biocbuild/bbs-3.21-bioc/meat/HiCBricks.Rcheck’
* using R Under development (unstable) (2025-02-19 r87757)
* using platform: aarch64-unknown-linux-gnu
* R was compiled by
aarch64-unknown-linux-gnu-gcc (GCC) 14.2.0
GNU Fortran (GCC) 14.2.0
* running under: openEuler 24.03 (LTS-SP1)
* using session charset: UTF-8
* using option ‘--no-vignettes’
* checking for file ‘HiCBricks/DESCRIPTION’ ... OK
* checking extension type ... Package
* this is package ‘HiCBricks’ version ‘1.26.0’
* package encoding: UTF-8
* checking package namespace information ... OK
* checking package dependencies ... OK
* checking if this is a source package ... OK
* checking if there is a namespace ... OK
* checking for hidden files and directories ... OK
* checking for portable file names ... OK
* checking for sufficient/correct file permissions ... OK
* checking whether package ‘HiCBricks’ can be installed ... OK
* checking installed package size ... OK
* checking package directory ... OK
* checking ‘build’ directory ... OK
* checking DESCRIPTION meta-information ... OK
* checking top-level files ... OK
* checking for left-over files ... OK
* checking index information ... OK
* checking package subdirectories ... OK
* checking code files for non-ASCII characters ... OK
* checking R files for syntax errors ... OK
* checking whether the package can be loaded ... OK
* checking whether the package can be loaded with stated dependencies ... OK
* checking whether the package can be unloaded cleanly ... OK
* checking whether the namespace can be loaded with stated dependencies ... OK
* checking whether the namespace can be unloaded cleanly ... OK
* checking loading without being on the library search path ... OK
* checking dependencies in R code ... OK
* checking S3 generic/method consistency ... OK
* checking replacement functions ... OK
* checking foreign function calls ... OK
* checking R code for possible problems ... OK
* checking Rd files ... OK
* checking Rd metadata ... OK
* checking Rd cross-references ... OK
* checking for missing documentation entries ... OK
* checking for code/documentation mismatches ... OK
* checking Rd \usage sections ... OK
* checking Rd contents ... OK
* checking for unstated dependencies in examples ... OK
* checking files in ‘vignettes’ ... OK
* checking examples ... OK
* checking for unstated dependencies in vignettes ... OK
* checking package vignettes ... OK
* checking running R code from vignettes ... SKIPPED
* checking re-building of vignette outputs ... SKIPPED
* checking PDF version of manual ... OK
* DONE
Status: OK
HiCBricks.Rcheck/00install.out
############################################################################## ############################################################################## ### ### Running command: ### ### /home/biocbuild/R/R/bin/R CMD INSTALL HiCBricks ### ############################################################################## ############################################################################## * installing to library ‘/home/biocbuild/R/R-devel_2025-02-19/site-library’ * installing *source* package ‘HiCBricks’ ... ** this is package ‘HiCBricks’ version ‘1.26.0’ ** using staged installation ** R ** inst ** byte-compile and prepare package for lazy loading ** help *** installing help indices ** building package indices ** installing vignettes ** testing if installed package can be loaded from temporary location ** testing if installed package can be loaded from final location ** testing if installed package keeps a record of temporary installation path * DONE (HiCBricks)
HiCBricks.Rcheck/HiCBricks-Ex.timings
| name | user | system | elapsed | |
| BrickContainer_change_experiment_name | 1.894 | 0.032 | 1.931 | |
| BrickContainer_change_output_directory | 1.359 | 0.036 | 1.399 | |
| BrickContainer_get_path_to_file | 1.286 | 0.008 | 1.297 | |
| BrickContainer_list_chromosomes | 1.294 | 0.008 | 1.305 | |
| BrickContainer_list_experiment_name | 1.299 | 0.032 | 1.334 | |
| BrickContainer_list_files | 1.274 | 0.020 | 1.298 | |
| BrickContainer_list_output_directory | 1.277 | 0.008 | 1.289 | |
| BrickContainer_list_resolutions | 1.249 | 0.012 | 1.264 | |
| BrickContainer_unlink_resolution | 2.713 | 0.044 | 2.768 | |
| Brick_add_ranges | 2.881 | 0.080 | 2.968 | |
| Brick_call_compartments | 2.381 | 0.048 | 2.444 | |
| Brick_export_to_sparse | 3.787 | 0.095 | 3.892 | |
| Brick_fetch_range_index | 1.500 | 0.016 | 1.523 | |
| Brick_fetch_row_vector | 2.187 | 0.088 | 2.279 | |
| Brick_get_bintable | 1.765 | 0.032 | 1.804 | |
| Brick_get_chrominfo | 1.274 | 0.012 | 1.289 | |
| Brick_get_entire_matrix | 1.700 | 0.060 | 1.765 | |
| Brick_get_matrix | 1.680 | 0.024 | 1.708 | |
| Brick_get_matrix_mcols | 1.679 | 0.028 | 1.711 | |
| Brick_get_matrix_within_coords | 2.455 | 0.043 | 2.504 | |
| Brick_get_ranges | 1.354 | 0.020 | 1.377 | |
| Brick_get_values_by_distance | 1.862 | 0.048 | 1.914 | |
| Brick_get_vector_values | 1.701 | 0.036 | 1.741 | |
| Brick_list_matrices | 1.312 | 0.024 | 1.342 | |
| Brick_list_matrix_mcols | 1.315 | 0.036 | 1.354 | |
| Brick_list_mcool_normalisations | 0 | 0 | 0 | |
| Brick_list_mcool_resolutions | 0 | 0 | 0 | |
| Brick_list_rangekeys | 1.277 | 0.032 | 1.313 | |
| Brick_list_ranges_mcols | 1.264 | 0.028 | 1.295 | |
| Brick_load_cis_matrix_till_distance | 1.558 | 0.024 | 1.590 | |
| Brick_load_data_from_mcool | 0 | 0 | 0 | |
| Brick_load_data_from_sparse | 0 | 0 | 0 | |
| Brick_load_matrix | 1.611 | 0.024 | 1.638 | |
| Brick_local_score_differentiator | 2.651 | 0.060 | 2.720 | |
| Brick_make_ranges | 0.014 | 0.000 | 0.014 | |
| Brick_matrix_dimensions | 1.681 | 0.016 | 1.701 | |
| Brick_matrix_exists | 1.682 | 0.024 | 1.711 | |
| Brick_matrix_filename | 1.654 | 0.027 | 1.692 | |
| Brick_matrix_isdone | 1.670 | 0.028 | 1.702 | |
| Brick_matrix_issparse | 1.689 | 0.056 | 1.749 | |
| Brick_matrix_maxdist | 1.666 | 0.028 | 1.698 | |
| Brick_matrix_minmax | 1.620 | 0.028 | 1.652 | |
| Brick_mcool_normalisation_exists | 0 | 0 | 0 | |
| Brick_rangekey_exists | 1.321 | 0.004 | 1.328 | |
| Brick_return_region_position | 1.461 | 0.008 | 1.472 | |
| Brick_vizart_plot_heatmap | 3.325 | 0.048 | 3.382 | |
| Create_many_Bricks | 1.336 | 0.008 | 1.347 | |
| Create_many_Bricks_from_mcool | 0 | 0 | 0 | |
| load_BrickContainer | 1.342 | 0.024 | 1.369 | |