| Back to Multiple platform build/check report for BioC 3.21: simplified long |
|
This page was generated on 2025-04-22 13:16 -0400 (Tue, 22 Apr 2025).
| Hostname | OS | Arch (*) | R version | Installed pkgs |
|---|---|---|---|---|
| nebbiolo1 | Linux (Ubuntu 24.04.1 LTS) | x86_64 | 4.5.0 RC (2025-04-04 r88126) -- "How About a Twenty-Six" | 4831 |
| palomino7 | Windows Server 2022 Datacenter | x64 | 4.5.0 RC (2025-04-04 r88126 ucrt) -- "How About a Twenty-Six" | 4573 |
| lconway | macOS 12.7.1 Monterey | x86_64 | 4.5.0 RC (2025-04-04 r88126) -- "How About a Twenty-Six" | 4599 |
| kjohnson3 | macOS 13.7.1 Ventura | arm64 | 4.5.0 RC (2025-04-04 r88126) -- "How About a Twenty-Six" | 4553 |
| kunpeng2 | Linux (openEuler 24.03 LTS) | aarch64 | R Under development (unstable) (2025-02-19 r87757) -- "Unsuffered Consequences" | 4570 |
| Click on any hostname to see more info about the system (e.g. compilers) (*) as reported by 'uname -p', except on Windows and Mac OS X | ||||
| Package 799/2341 | Hostname | OS / Arch | INSTALL | BUILD | CHECK | BUILD BIN | ||||||||
| GeDi 1.4.0 (landing page) Annekathrin Nedwed
| nebbiolo1 | Linux (Ubuntu 24.04.1 LTS) / x86_64 | OK | OK | OK | |||||||||
| palomino7 | Windows Server 2022 Datacenter / x64 | OK | OK | OK | OK | |||||||||
| lconway | macOS 12.7.1 Monterey / x86_64 | OK | OK | OK | OK | |||||||||
| kjohnson3 | macOS 13.7.1 Ventura / arm64 | OK | OK | OK | OK | |||||||||
| kunpeng2 | Linux (openEuler 24.03 LTS) / aarch64 | OK | OK | ERROR | ||||||||||
|
To the developers/maintainers of the GeDi package: - Allow up to 24 hours (and sometimes 48 hours) for your latest push to git@git.bioconductor.org:packages/GeDi.git to reflect on this report. See Troubleshooting Build Report for more information. - Use the following Renviron settings to reproduce errors and warnings. - If 'R CMD check' started to fail recently on the Linux builder(s) over a missing dependency, add the missing dependency to 'Suggests:' in your DESCRIPTION file. See Renviron.bioc for more information. |
| Package: GeDi |
| Version: 1.4.0 |
| Command: /Library/Frameworks/R.framework/Resources/bin/R CMD check --install=check:GeDi.install-out.txt --library=/Library/Frameworks/R.framework/Resources/library --no-vignettes --timings GeDi_1.4.0.tar.gz |
| StartedAt: 2025-04-21 20:50:49 -0400 (Mon, 21 Apr 2025) |
| EndedAt: 2025-04-21 21:06:44 -0400 (Mon, 21 Apr 2025) |
| EllapsedTime: 955.7 seconds |
| RetCode: 0 |
| Status: OK |
| CheckDir: GeDi.Rcheck |
| Warnings: 0 |
##############################################################################
##############################################################################
###
### Running command:
###
### /Library/Frameworks/R.framework/Resources/bin/R CMD check --install=check:GeDi.install-out.txt --library=/Library/Frameworks/R.framework/Resources/library --no-vignettes --timings GeDi_1.4.0.tar.gz
###
##############################################################################
##############################################################################
* using log directory ‘/Users/biocbuild/bbs-3.21-bioc/meat/GeDi.Rcheck’
* using R version 4.5.0 RC (2025-04-04 r88126)
* using platform: x86_64-apple-darwin20
* R was compiled by
Apple clang version 14.0.0 (clang-1400.0.29.202)
GNU Fortran (GCC) 14.2.0
* running under: macOS Monterey 12.7.6
* using session charset: UTF-8
* using option ‘--no-vignettes’
* checking for file ‘GeDi/DESCRIPTION’ ... OK
* this is package ‘GeDi’ version ‘1.4.0’
* package encoding: UTF-8
* checking package namespace information ... OK
* checking package dependencies ... INFO
Imports includes 29 non-default packages.
Importing from so many packages makes the package vulnerable to any of
them becoming unavailable. Move as many as possible to Suggests and
use conditionally.
* checking if this is a source package ... OK
* checking if there is a namespace ... OK
* checking for hidden files and directories ... OK
* checking for portable file names ... OK
* checking for sufficient/correct file permissions ... OK
* checking whether package ‘GeDi’ can be installed ... OK
* checking installed package size ... OK
* checking package directory ... OK
* checking ‘build’ directory ... OK
* checking DESCRIPTION meta-information ... OK
* checking top-level files ... OK
* checking for left-over files ... OK
* checking index information ... OK
* checking package subdirectories ... OK
* checking code files for non-ASCII characters ... OK
* checking R files for syntax errors ... OK
* checking whether the package can be loaded ... OK
* checking whether the package can be loaded with stated dependencies ... OK
* checking whether the package can be unloaded cleanly ... OK
* checking whether the namespace can be loaded with stated dependencies ... OK
* checking whether the namespace can be unloaded cleanly ... OK
* checking whether startup messages can be suppressed ... OK
* checking dependencies in R code ... OK
* checking S3 generic/method consistency ... OK
* checking replacement functions ... OK
* checking foreign function calls ... OK
* checking R code for possible problems ... OK
* checking Rd files ... OK
* checking Rd metadata ... OK
* checking Rd cross-references ... NOTE
Found the following Rd file(s) with Rd \link{} targets missing package
anchors:
buildClusterGraph.Rd: igraph
dot-graphMetricsGenesetsDT.Rd: igraph
getAnnotation.Rd: STRINGdb
getId.Rd: STRINGdb
getPPI.Rd: STRINGdb
getStringDB.Rd: STRINGdb
Please provide package anchors for all Rd \link{} targets not in the
package itself and the base packages.
* checking for missing documentation entries ... OK
* checking for code/documentation mismatches ... OK
* checking Rd \usage sections ... OK
* checking Rd contents ... OK
* checking for unstated dependencies in examples ... OK
* checking contents of ‘data’ directory ... OK
* checking data for non-ASCII characters ... OK
* checking data for ASCII and uncompressed saves ... OK
* checking files in ‘vignettes’ ... OK
* checking examples ... OK
Examples with CPU (user + system) or elapsed time > 5s
user system elapsed
getAnnotation 112.545 4.683 206.652
getPPI 73.885 1.702 76.426
scaleGO 5.404 0.562 6.041
goDistance 5.503 0.445 6.014
getMeetMinMatrix 5.140 0.711 5.950
* checking for unstated dependencies in ‘tests’ ... OK
* checking tests ...
Running ‘testthat.R’
OK
* checking for unstated dependencies in vignettes ... OK
* checking package vignettes ... OK
* checking running R code from vignettes ... SKIPPED
* checking re-building of vignette outputs ... SKIPPED
* checking PDF version of manual ... OK
* DONE
Status: 1 NOTE
See
‘/Users/biocbuild/bbs-3.21-bioc/meat/GeDi.Rcheck/00check.log’
for details.
GeDi.Rcheck/00install.out
############################################################################## ############################################################################## ### ### Running command: ### ### /Library/Frameworks/R.framework/Resources/bin/R CMD INSTALL GeDi ### ############################################################################## ############################################################################## * installing to library ‘/Library/Frameworks/R.framework/Versions/4.5-x86_64/Resources/library’ * installing *source* package ‘GeDi’ ... ** this is package ‘GeDi’ version ‘1.4.0’ ** using staged installation ** R ** data ** inst ** byte-compile and prepare package for lazy loading ** help *** installing help indices *** copying figures ** building package indices ** installing vignettes ** testing if installed package can be loaded from temporary location ** testing if installed package can be loaded from final location ** testing if installed package keeps a record of temporary installation path * DONE (GeDi)
GeDi.Rcheck/tests/testthat.Rout
R version 4.5.0 RC (2025-04-04 r88126) -- "How About a Twenty-Six"
Copyright (C) 2025 The R Foundation for Statistical Computing
Platform: x86_64-apple-darwin20
R is free software and comes with ABSOLUTELY NO WARRANTY.
You are welcome to redistribute it under certain conditions.
Type 'license()' or 'licence()' for distribution details.
R is a collaborative project with many contributors.
Type 'contributors()' for more information and
'citation()' on how to cite R or R packages in publications.
Type 'demo()' for some demos, 'help()' for on-line help, or
'help.start()' for an HTML browser interface to help.
Type 'q()' to quit R.
> library(testthat)
> library(GeDi)
>
> test_check("GeDi")
trying URL 'https://stringdb-downloads.org/download/protein.aliases.v12.0/9606.protein.aliases.v12.0.txt.gz'
Content type 'application/octet-stream' length 19777800 bytes (18.9 MB)
==================================================
downloaded 18.9 MB
trying URL 'https://stringdb-downloads.org/download/protein.info.v12.0/9606.protein.info.v12.0.txt.gz'
Content type 'application/octet-stream' length 1970090 bytes (1.9 MB)
==================================================
downloaded 1.9 MB
trying URL 'https://stringdb-downloads.org/download/protein.links.v12.0/9606.protein.links.v12.0.txt.gz'
Content type 'application/octet-stream' length 83164437 bytes (79.3 MB)
==================================================
downloaded 79.3 MB
preparing gene to GO mapping data...
preparing gene to GO mapping data...
[ FAIL 0 | WARN 9 | SKIP 0 | PASS 185 ]
[ FAIL 0 | WARN 9 | SKIP 0 | PASS 185 ]
>
> proc.time()
user system elapsed
136.883 7.726 242.272
GeDi.Rcheck/GeDi-Ex.timings
| name | user | system | elapsed | |
| GeDi | 0.006 | 0.002 | 0.008 | |
| buildClusterGraph | 0.242 | 0.009 | 0.252 | |
| buildGraph | 0.006 | 0.000 | 0.006 | |
| buildHistogramData | 0.010 | 0.001 | 0.012 | |
| calculateJaccard | 0.009 | 0.001 | 0.010 | |
| calculateKappa | 0.019 | 0.002 | 0.021 | |
| calculateSorensenDice | 0.010 | 0.001 | 0.011 | |
| checkInclusion | 0.009 | 0.001 | 0.011 | |
| clustering | 0.182 | 0.005 | 0.191 | |
| deprecated | 0.001 | 0.000 | 0.000 | |
| distanceDendro | 0.137 | 0.005 | 0.144 | |
| distanceHeatmap | 0.182 | 0.012 | 0.195 | |
| enrichmentWordcloud | 0.330 | 0.013 | 0.346 | |
| fuzzyClustering | 0.006 | 0.001 | 0.008 | |
| getAdjacencyMatrix | 0.075 | 0.002 | 0.081 | |
| getAnnotation | 112.545 | 4.683 | 206.652 | |
| getBipartiteGraph | 0.009 | 0.001 | 0.011 | |
| getClusterAdjacencyMatrix | 0.060 | 0.002 | 0.063 | |
| getGraphTitle | 0.003 | 0.000 | 0.003 | |
| getId | 0.186 | 0.016 | 4.970 | |
| getInteractionScore | 0.029 | 0.037 | 0.066 | |
| getJaccardMatrix | 2.360 | 0.089 | 2.456 | |
| getKappaMatrix | 1.009 | 0.139 | 1.155 | |
| getMeetMinMatrix | 5.140 | 0.711 | 5.950 | |
| getPPI | 73.885 | 1.702 | 76.426 | |
| getSorensenDiceMatrix | 0.461 | 0.005 | 0.468 | |
| getStringDB | 0.114 | 0.009 | 3.213 | |
| getpMMMatrix | 0.902 | 0.025 | 0.933 | |
| goDistance | 5.503 | 0.445 | 6.014 | |
| gsHistogram | 0.026 | 0.004 | 0.029 | |
| kMeansClustering | 0.013 | 0.004 | 0.016 | |
| kNN_clustering | 0.008 | 0.003 | 0.011 | |
| louvainClustering | 0.059 | 0.003 | 0.063 | |
| markovClustering | 0.076 | 0.005 | 0.081 | |
| pMMlocal | 0.030 | 0.007 | 0.038 | |
| pamClustering | 0.007 | 0.004 | 0.010 | |
| prepareGenesetData | 0.009 | 0.003 | 0.013 | |
| scaleGO | 5.404 | 0.562 | 6.041 | |
| seedFinding | 0.006 | 0.003 | 0.010 | |