| Back to Multiple platform build/check report for BioC 3.21: simplified long |
|
This page was generated on 2025-10-16 11:41 -0400 (Thu, 16 Oct 2025).
| Hostname | OS | Arch (*) | R version | Installed pkgs |
|---|---|---|---|---|
| nebbiolo1 | Linux (Ubuntu 24.04.3 LTS) | x86_64 | 4.5.1 (2025-06-13) -- "Great Square Root" | 4833 |
| merida1 | macOS 12.7.6 Monterey | x86_64 | 4.5.1 RC (2025-06-05 r88288) -- "Great Square Root" | 4614 |
| kjohnson1 | macOS 13.7.5 Ventura | arm64 | 4.5.1 Patched (2025-06-14 r88325) -- "Great Square Root" | 4555 |
| kunpeng2 | Linux (openEuler 24.03 LTS) | aarch64 | R Under development (unstable) (2025-02-19 r87757) -- "Unsuffered Consequences" | 4586 |
| Click on any hostname to see more info about the system (e.g. compilers) (*) as reported by 'uname -p', except on Windows and Mac OS X | ||||
| Package 799/2341 | Hostname | OS / Arch | INSTALL | BUILD | CHECK | BUILD BIN | ||||||||
| GeDi 1.4.0 (landing page) Annekathrin Nedwed
| nebbiolo1 | Linux (Ubuntu 24.04.3 LTS) / x86_64 | OK | OK | ERROR | |||||||||
| merida1 | macOS 12.7.6 Monterey / x86_64 | OK | OK | ERROR | OK | |||||||||
| kjohnson1 | macOS 13.7.5 Ventura / arm64 | OK | OK | ERROR | OK | |||||||||
| kunpeng2 | Linux (openEuler 24.03 LTS) / aarch64 | OK | OK | ERROR | ||||||||||
|
To the developers/maintainers of the GeDi package: - Allow up to 24 hours (and sometimes 48 hours) for your latest push to git@git.bioconductor.org:packages/GeDi.git to reflect on this report. See Troubleshooting Build Report for more information. - Use the following Renviron settings to reproduce errors and warnings. - If 'R CMD check' started to fail recently on the Linux builder(s) over a missing dependency, add the missing dependency to 'Suggests:' in your DESCRIPTION file. See Renviron.bioc for more information. - See Martin Grigorov's blog post for how to debug Linux ARM64 related issues on a x86_64 host. |
| Package: GeDi |
| Version: 1.4.0 |
| Command: /home/biocbuild/R/R/bin/R CMD check --install=check:GeDi.install-out.txt --library=/home/biocbuild/R/R/site-library --no-vignettes --timings GeDi_1.4.0.tar.gz |
| StartedAt: 2025-10-14 09:21:59 -0000 (Tue, 14 Oct 2025) |
| EndedAt: 2025-10-14 09:51:15 -0000 (Tue, 14 Oct 2025) |
| EllapsedTime: 1756.0 seconds |
| RetCode: 1 |
| Status: ERROR |
| CheckDir: GeDi.Rcheck |
| Warnings: NA |
##############################################################################
##############################################################################
###
### Running command:
###
### /home/biocbuild/R/R/bin/R CMD check --install=check:GeDi.install-out.txt --library=/home/biocbuild/R/R/site-library --no-vignettes --timings GeDi_1.4.0.tar.gz
###
##############################################################################
##############################################################################
* using log directory ‘/home/biocbuild/bbs-3.21-bioc/meat/GeDi.Rcheck’
* using R Under development (unstable) (2025-02-19 r87757)
* using platform: aarch64-unknown-linux-gnu
* R was compiled by
aarch64-unknown-linux-gnu-gcc (GCC) 14.2.0
GNU Fortran (GCC) 14.2.0
* running under: openEuler 24.03 (LTS-SP1)
* using session charset: UTF-8
* using option ‘--no-vignettes’
* checking for file ‘GeDi/DESCRIPTION’ ... OK
* this is package ‘GeDi’ version ‘1.4.0’
* package encoding: UTF-8
* checking package namespace information ... OK
* checking package dependencies ... INFO
Imports includes 29 non-default packages.
Importing from so many packages makes the package vulnerable to any of
them becoming unavailable. Move as many as possible to Suggests and
use conditionally.
* checking if this is a source package ... OK
* checking if there is a namespace ... OK
* checking for hidden files and directories ... OK
* checking for portable file names ... OK
* checking for sufficient/correct file permissions ... OK
* checking whether package ‘GeDi’ can be installed ... OK
* checking installed package size ... OK
* checking package directory ... OK
* checking ‘build’ directory ... OK
* checking DESCRIPTION meta-information ... OK
* checking top-level files ... OK
* checking for left-over files ... OK
* checking index information ... OK
* checking package subdirectories ... OK
* checking code files for non-ASCII characters ... OK
* checking R files for syntax errors ... OK
* checking whether the package can be loaded ... OK
* checking whether the package can be loaded with stated dependencies ... OK
* checking whether the package can be unloaded cleanly ... OK
* checking whether the namespace can be loaded with stated dependencies ... OK
* checking whether the namespace can be unloaded cleanly ... OK
* checking loading without being on the library search path ... OK
* checking whether startup messages can be suppressed ... OK
* checking dependencies in R code ... OK
* checking S3 generic/method consistency ... OK
* checking replacement functions ... OK
* checking foreign function calls ... OK
* checking R code for possible problems ... OK
* checking Rd files ... OK
* checking Rd metadata ... OK
* checking Rd cross-references ... NOTE
Found the following Rd file(s) with Rd \link{} targets missing package
anchors:
buildClusterGraph.Rd: igraph
dot-graphMetricsGenesetsDT.Rd: igraph
getAnnotation.Rd: STRINGdb
getId.Rd: STRINGdb
getPPI.Rd: STRINGdb
getStringDB.Rd: STRINGdb
Please provide package anchors for all Rd \link{} targets not in the
package itself and the base packages.
* checking for missing documentation entries ... OK
* checking for code/documentation mismatches ... OK
* checking Rd \usage sections ... OK
* checking Rd contents ... OK
* checking for unstated dependencies in examples ... OK
* checking contents of ‘data’ directory ... OK
* checking data for non-ASCII characters ... OK
* checking data for ASCII and uncompressed saves ... OK
* checking files in ‘vignettes’ ... OK
* checking examples ... OK
Examples with CPU (user + system) or elapsed time > 5s
user system elapsed
getAnnotation 119.313 7.012 772.158
getPPI 79.365 2.077 82.543
goDistance 7.555 0.360 7.931
scaleGO 6.441 0.348 6.806
getId 0.158 0.039 25.884
getStringDB 0.135 0.056 8.216
* checking for unstated dependencies in ‘tests’ ... OK
* checking tests ...
Running ‘testthat.R’
ERROR
Running the tests in ‘tests/testthat.R’ failed.
Last 13 lines of output:
══ Failed tests ════════════════════════════════════════════════════════════════
── Failure ('test-distance_dendro.R:11:3'): distanceDendro runs correctly ──────
`dendro` has type 'object', not 'list'.
── Failure ('test-distance_dendro.R:15:3'): distanceDendro runs correctly ──────
`dendro` has type 'object', not 'list'.
── Failure ('test-gs_histogram.R:27:3'): gsHistogram runs correctly ────────────
`histogram` has type 'object', not 'list'.
── Failure ('test-gs_histogram.R:30:3'): gsHistogram runs correctly ────────────
`histogram` has type 'object', not 'list'.
[ FAIL 4 | WARN 9 | SKIP 0 | PASS 181 ]
Error: Test failures
In addition: Warning message:
In for (i in seq_len(n)) { : closing unused connection 4 ()
Execution halted
* checking for unstated dependencies in vignettes ... OK
* checking package vignettes ... OK
* checking running R code from vignettes ... SKIPPED
* checking re-building of vignette outputs ... SKIPPED
* checking PDF version of manual ... OK
* DONE
Status: 1 ERROR, 1 NOTE
See
‘/home/biocbuild/bbs-3.21-bioc/meat/GeDi.Rcheck/00check.log’
for details.
GeDi.Rcheck/00install.out
############################################################################## ############################################################################## ### ### Running command: ### ### /home/biocbuild/R/R/bin/R CMD INSTALL GeDi ### ############################################################################## ############################################################################## * installing to library ‘/home/biocbuild/R/R-devel_2025-02-19/site-library’ * installing *source* package ‘GeDi’ ... ** this is package ‘GeDi’ version ‘1.4.0’ ** using staged installation ** R ** data ** inst ** byte-compile and prepare package for lazy loading ** help *** installing help indices *** copying figures ** building package indices ** installing vignettes ** testing if installed package can be loaded from temporary location ** testing if installed package can be loaded from final location ** testing if installed package keeps a record of temporary installation path * DONE (GeDi)
GeDi.Rcheck/tests/testthat.Rout.fail
R Under development (unstable) (2025-02-19 r87757) -- "Unsuffered Consequences"
Copyright (C) 2025 The R Foundation for Statistical Computing
Platform: aarch64-unknown-linux-gnu
R is free software and comes with ABSOLUTELY NO WARRANTY.
You are welcome to redistribute it under certain conditions.
Type 'license()' or 'licence()' for distribution details.
R is a collaborative project with many contributors.
Type 'contributors()' for more information and
'citation()' on how to cite R or R packages in publications.
Type 'demo()' for some demos, 'help()' for on-line help, or
'help.start()' for an HTML browser interface to help.
Type 'q()' to quit R.
> library(testthat)
> library(GeDi)
>
> test_check("GeDi")
trying URL 'https://stringdb-downloads.org/download/protein.aliases.v12.0/9606.protein.aliases.v12.0.txt.gz'
Content type 'application/octet-stream' length 19777800 bytes (18.9 MB)
==================================================
downloaded 18.9 MB
trying URL 'https://stringdb-downloads.org/download/protein.info.v12.0/9606.protein.info.v12.0.txt.gz'
Content type 'application/octet-stream' length 1970090 bytes (1.9 MB)
==================================================
downloaded 1.9 MB
trying URL 'https://stringdb-downloads.org/download/protein.links.v12.0/9606.protein.links.v12.0.txt.gz'
Content type 'application/octet-stream' length 83164437 bytes (79.3 MB)
==================================================
downloaded 79.3 MB
preparing gene to GO mapping data...
preparing gene to GO mapping data...
[ FAIL 4 | WARN 9 | SKIP 0 | PASS 181 ]
══ Failed tests ════════════════════════════════════════════════════════════════
── Failure ('test-distance_dendro.R:11:3'): distanceDendro runs correctly ──────
`dendro` has type 'object', not 'list'.
── Failure ('test-distance_dendro.R:15:3'): distanceDendro runs correctly ──────
`dendro` has type 'object', not 'list'.
── Failure ('test-gs_histogram.R:27:3'): gsHistogram runs correctly ────────────
`histogram` has type 'object', not 'list'.
── Failure ('test-gs_histogram.R:30:3'): gsHistogram runs correctly ────────────
`histogram` has type 'object', not 'list'.
[ FAIL 4 | WARN 9 | SKIP 0 | PASS 181 ]
Error: Test failures
In addition: Warning message:
In for (i in seq_len(n)) { : closing unused connection 4 ()
Execution halted
GeDi.Rcheck/GeDi-Ex.timings
| name | user | system | elapsed | |
| GeDi | 0.007 | 0.000 | 0.007 | |
| buildClusterGraph | 0.219 | 0.011 | 0.237 | |
| buildGraph | 0.009 | 0.000 | 0.009 | |
| buildHistogramData | 0.007 | 0.004 | 0.011 | |
| calculateJaccard | 0.01 | 0.00 | 0.01 | |
| calculateKappa | 0.014 | 0.004 | 0.018 | |
| calculateSorensenDice | 0.01 | 0.00 | 0.01 | |
| checkInclusion | 0.011 | 0.000 | 0.011 | |
| clustering | 0.178 | 0.039 | 0.223 | |
| deprecated | 0.000 | 0.000 | 0.001 | |
| distanceDendro | 0.209 | 0.047 | 0.262 | |
| distanceHeatmap | 0.221 | 0.016 | 0.241 | |
| enrichmentWordcloud | 0.307 | 0.007 | 0.322 | |
| fuzzyClustering | 0.008 | 0.000 | 0.009 | |
| getAdjacencyMatrix | 0.095 | 0.000 | 0.096 | |
| getAnnotation | 119.313 | 7.012 | 772.158 | |
| getBipartiteGraph | 0.012 | 0.000 | 0.012 | |
| getClusterAdjacencyMatrix | 0.053 | 0.016 | 0.069 | |
| getGraphTitle | 0.001 | 0.004 | 0.006 | |
| getId | 0.158 | 0.039 | 25.884 | |
| getInteractionScore | 0.032 | 0.003 | 0.037 | |
| getJaccardMatrix | 3.401 | 0.104 | 3.517 | |
| getKappaMatrix | 1.154 | 0.032 | 1.190 | |
| getMeetMinMatrix | 4.626 | 0.115 | 4.760 | |
| getPPI | 79.365 | 2.077 | 82.543 | |
| getSorensenDiceMatrix | 0.693 | 0.036 | 0.730 | |
| getStringDB | 0.135 | 0.056 | 8.216 | |
| getpMMMatrix | 1.273 | 0.087 | 1.365 | |
| goDistance | 7.555 | 0.360 | 7.931 | |
| gsHistogram | 0.162 | 0.000 | 0.163 | |
| kMeansClustering | 0.019 | 0.000 | 0.019 | |
| kNN_clustering | 0.011 | 0.000 | 0.013 | |
| louvainClustering | 0.081 | 0.000 | 0.081 | |
| markovClustering | 0.090 | 0.007 | 0.098 | |
| pMMlocal | 0.036 | 0.000 | 0.037 | |
| pamClustering | 0.008 | 0.000 | 0.008 | |
| prepareGenesetData | 0.007 | 0.004 | 0.011 | |
| scaleGO | 6.441 | 0.348 | 6.806 | |
| seedFinding | 0.01 | 0.00 | 0.01 | |