| Back to Multiple platform build/check report for BioC 3.21: simplified long |
|
This page was generated on 2025-04-22 13:15 -0400 (Tue, 22 Apr 2025).
| Hostname | OS | Arch (*) | R version | Installed pkgs |
|---|---|---|---|---|
| nebbiolo1 | Linux (Ubuntu 24.04.1 LTS) | x86_64 | 4.5.0 RC (2025-04-04 r88126) -- "How About a Twenty-Six" | 4831 |
| palomino7 | Windows Server 2022 Datacenter | x64 | 4.5.0 RC (2025-04-04 r88126 ucrt) -- "How About a Twenty-Six" | 4573 |
| lconway | macOS 12.7.1 Monterey | x86_64 | 4.5.0 RC (2025-04-04 r88126) -- "How About a Twenty-Six" | 4599 |
| kjohnson3 | macOS 13.7.1 Ventura | arm64 | 4.5.0 RC (2025-04-04 r88126) -- "How About a Twenty-Six" | 4553 |
| kunpeng2 | Linux (openEuler 24.03 LTS) | aarch64 | R Under development (unstable) (2025-02-19 r87757) -- "Unsuffered Consequences" | 4570 |
| Click on any hostname to see more info about the system (e.g. compilers) (*) as reported by 'uname -p', except on Windows and Mac OS X | ||||
| Package 195/2341 | Hostname | OS / Arch | INSTALL | BUILD | CHECK | BUILD BIN | ||||||||
| BiocPkgTools 1.26.0 (landing page) Sean Davis
| nebbiolo1 | Linux (Ubuntu 24.04.1 LTS) / x86_64 | OK | OK | OK | |||||||||
| palomino7 | Windows Server 2022 Datacenter / x64 | OK | ERROR | skipped | skipped | |||||||||
| lconway | macOS 12.7.1 Monterey / x86_64 | OK | OK | OK | OK | |||||||||
| kjohnson3 | macOS 13.7.1 Ventura / arm64 | OK | OK | OK | OK | |||||||||
| kunpeng2 | Linux (openEuler 24.03 LTS) / aarch64 | OK | OK | OK | ||||||||||
|
To the developers/maintainers of the BiocPkgTools package: - Allow up to 24 hours (and sometimes 48 hours) for your latest push to git@git.bioconductor.org:packages/BiocPkgTools.git to reflect on this report. See Troubleshooting Build Report for more information. - Use the following Renviron settings to reproduce errors and warnings. - If 'R CMD check' started to fail recently on the Linux builder(s) over a missing dependency, add the missing dependency to 'Suggests:' in your DESCRIPTION file. See Renviron.bioc for more information. |
| Package: BiocPkgTools |
| Version: 1.26.0 |
| Command: /Library/Frameworks/R.framework/Resources/bin/R CMD check --install=check:BiocPkgTools.install-out.txt --library=/Library/Frameworks/R.framework/Resources/library --no-vignettes --timings BiocPkgTools_1.26.0.tar.gz |
| StartedAt: 2025-04-21 19:19:46 -0400 (Mon, 21 Apr 2025) |
| EndedAt: 2025-04-21 19:30:55 -0400 (Mon, 21 Apr 2025) |
| EllapsedTime: 668.5 seconds |
| RetCode: 0 |
| Status: OK |
| CheckDir: BiocPkgTools.Rcheck |
| Warnings: 0 |
##############################################################################
##############################################################################
###
### Running command:
###
### /Library/Frameworks/R.framework/Resources/bin/R CMD check --install=check:BiocPkgTools.install-out.txt --library=/Library/Frameworks/R.framework/Resources/library --no-vignettes --timings BiocPkgTools_1.26.0.tar.gz
###
##############################################################################
##############################################################################
* using log directory ‘/Users/biocbuild/bbs-3.21-bioc/meat/BiocPkgTools.Rcheck’
* using R version 4.5.0 RC (2025-04-04 r88126)
* using platform: x86_64-apple-darwin20
* R was compiled by
Apple clang version 14.0.0 (clang-1400.0.29.202)
GNU Fortran (GCC) 14.2.0
* running under: macOS Monterey 12.7.6
* using session charset: UTF-8
* using option ‘--no-vignettes’
* checking for file ‘BiocPkgTools/DESCRIPTION’ ... OK
* checking extension type ... Package
* this is package ‘BiocPkgTools’ version ‘1.26.0’
* package encoding: UTF-8
* checking package namespace information ... OK
* checking package dependencies ... INFO
Imports includes 25 non-default packages.
Importing from so many packages makes the package vulnerable to any of
them becoming unavailable. Move as many as possible to Suggests and
use conditionally.
* checking if this is a source package ... OK
* checking if there is a namespace ... OK
* checking for hidden files and directories ... OK
* checking for portable file names ... OK
* checking for sufficient/correct file permissions ... OK
* checking whether package ‘BiocPkgTools’ can be installed ... OK
* checking installed package size ... OK
* checking package directory ... OK
* checking ‘build’ directory ... OK
* checking DESCRIPTION meta-information ... NOTE
License stub is invalid DCF.
* checking top-level files ... OK
* checking for left-over files ... OK
* checking index information ... OK
* checking package subdirectories ... OK
* checking code files for non-ASCII characters ... OK
* checking R files for syntax errors ... OK
* checking whether the package can be loaded ... OK
* checking whether the package can be loaded with stated dependencies ... OK
* checking whether the package can be unloaded cleanly ... OK
* checking whether the namespace can be loaded with stated dependencies ... OK
* checking whether the namespace can be unloaded cleanly ... OK
* checking dependencies in R code ... NOTE
Unexported objects imported by ':::' calls:
‘BiocManager:::.repositories’ ‘BiocManager:::.repositories_bioc’
‘BiocManager:::.repository_container_version’
‘BiocManager:::.version_bioc’
See the note in ?`:::` about the use of this operator.
* checking S3 generic/method consistency ... OK
* checking replacement functions ... OK
* checking foreign function calls ... OK
* checking R code for possible problems ... OK
* checking Rd files ... OK
* checking Rd metadata ... OK
* checking Rd cross-references ... OK
* checking for missing documentation entries ... OK
* checking for code/documentation mismatches ... OK
* checking Rd \usage sections ... OK
* checking Rd contents ... OK
* checking for unstated dependencies in examples ... OK
* checking files in ‘vignettes’ ... OK
* checking examples ... OK
Examples with CPU (user + system) or elapsed time > 5s
user system elapsed
biocBuildReport 14.009 81.885 116.963
get_bioc_data 13.913 1.030 30.124
firstInBioc 13.467 1.158 29.022
biocDownloadStats 11.493 0.690 26.132
pkgCombDependencyGain 10.849 1.050 21.908
class-dependencies 6.569 0.518 28.078
pkgDepMetrics 6.084 0.239 16.086
inducedSubgraphByPkgs 3.764 0.345 9.493
biocMaintained 3.153 0.138 5.504
githubDetails 1.666 0.616 16.802
pkgDownloadRank 1.498 0.167 8.951
* checking for unstated dependencies in ‘tests’ ... OK
* checking tests ...
Running ‘testthat.R’
OK
* checking for unstated dependencies in vignettes ... OK
* checking package vignettes ... OK
* checking running R code from vignettes ... SKIPPED
* checking re-building of vignette outputs ... SKIPPED
* checking PDF version of manual ... OK
* DONE
Status: 2 NOTEs
See
‘/Users/biocbuild/bbs-3.21-bioc/meat/BiocPkgTools.Rcheck/00check.log’
for details.
BiocPkgTools.Rcheck/00install.out
############################################################################## ############################################################################## ### ### Running command: ### ### /Library/Frameworks/R.framework/Resources/bin/R CMD INSTALL BiocPkgTools ### ############################################################################## ############################################################################## * installing to library ‘/Library/Frameworks/R.framework/Versions/4.5-x86_64/Resources/library’ * installing *source* package ‘BiocPkgTools’ ... ** this is package ‘BiocPkgTools’ version ‘1.26.0’ ** using staged installation ** R ** inst ** byte-compile and prepare package for lazy loading ** help *** installing help indices ** building package indices ** installing vignettes ** testing if installed package can be loaded from temporary location ** testing if installed package can be loaded from final location ** testing if installed package keeps a record of temporary installation path * DONE (BiocPkgTools)
BiocPkgTools.Rcheck/tests/testthat.Rout
R version 4.5.0 RC (2025-04-04 r88126) -- "How About a Twenty-Six"
Copyright (C) 2025 The R Foundation for Statistical Computing
Platform: x86_64-apple-darwin20
R is free software and comes with ABSOLUTELY NO WARRANTY.
You are welcome to redistribute it under certain conditions.
Type 'license()' or 'licence()' for distribution details.
R is a collaborative project with many contributors.
Type 'contributors()' for more information and
'citation()' on how to cite R or R packages in publications.
Type 'demo()' for some demos, 'help()' for on-line help, or
'help.start()' for an HTML browser interface to help.
Type 'q()' to quit R.
> library(testthat)
> library(BiocPkgTools)
Loading required package: htmlwidgets
>
> test_check("BiocPkgTools")
trying URL 'https://bioconductor.org/packages/3.21/bioc/vignettes/a4/inst/doc/a4vignette.pdf'
Content type 'application/pdf' length 1397541 bytes (1.3 MB)
==================================================
downloaded 1.3 MB
[ FAIL 0 | WARN 2 | SKIP 0 | PASS 27 ]
[ FAIL 0 | WARN 2 | SKIP 0 | PASS 27 ]
>
> proc.time()
user system elapsed
34.787 43.611 83.547
BiocPkgTools.Rcheck/BiocPkgTools-Ex.timings
| name | user | system | elapsed | |
| activitySince | 0.000 | 0.000 | 0.001 | |
| anacondaDownloadStats | 2.933 | 0.075 | 3.466 | |
| biocBuildReport | 14.009 | 81.885 | 116.963 | |
| biocDownloadStats | 11.493 | 0.690 | 26.132 | |
| biocMaintained | 3.153 | 0.138 | 5.504 | |
| biocPkgList | 1.282 | 0.063 | 1.927 | |
| biocPkgRanges | 0.000 | 0.000 | 0.001 | |
| biocRevDepEmail | 2.146 | 0.163 | 4.565 | |
| buildPkgDependencyDataFrame | 2.792 | 0.107 | 4.689 | |
| buildPkgDependencyIgraph | 1.827 | 0.063 | 3.172 | |
| class-dependencies | 6.569 | 0.518 | 28.078 | |
| firstInBioc | 13.467 | 1.158 | 29.022 | |
| generateBiocPkgDOI | 0 | 0 | 0 | |
| getBiocVignette | 1.294 | 0.116 | 4.798 | |
| getPkgYearsInBioc | 0.000 | 0.000 | 0.001 | |
| get_bioc_data | 13.913 | 1.030 | 30.124 | |
| get_cre_orcids | 0.009 | 0.002 | 0.038 | |
| githubDetails | 1.666 | 0.616 | 16.802 | |
| githubURLParts | 1.334 | 0.063 | 2.560 | |
| inducedSubgraphByPkgs | 3.764 | 0.345 | 9.493 | |
| latestPkgStats | 0.001 | 0.000 | 0.001 | |
| orcid_table | 0.001 | 0.000 | 0.001 | |
| pkgBiocDeps | 1.348 | 0.070 | 1.617 | |
| pkgBiocRevDeps | 1.907 | 0.080 | 2.220 | |
| pkgCombDependencyGain | 10.849 | 1.050 | 21.908 | |
| pkgDepImports | 0.191 | 0.008 | 0.203 | |
| pkgDepMetrics | 6.084 | 0.239 | 16.086 | |
| pkgDownloadRank | 1.498 | 0.167 | 8.951 | |
| pkgDownloadStats | 0.028 | 0.003 | 0.067 | |
| problemPage | 0.000 | 0.000 | 0.001 | |
| repositoryStats | 0.071 | 0.003 | 0.077 | |
| subgraphByDegree | 1.541 | 0.037 | 1.848 | |