Back to Multiple platform build/check report for BioC 3.21:   simplified   long
A[B]CDEFGHIJKLMNOPQRSTUVWXYZ

This page was generated on 2025-02-13 11:39 -0500 (Thu, 13 Feb 2025).

HostnameOSArch (*)R versionInstalled pkgs
nebbiolo1Linux (Ubuntu 24.04.1 LTS)x86_64R Under development (unstable) (2025-01-20 r87609) -- "Unsuffered Consequences" 4719
palomino7Windows Server 2022 Datacenterx64R Under development (unstable) (2025-01-21 r87610 ucrt) -- "Unsuffered Consequences" 4481
lconwaymacOS 12.7.1 Montereyx86_64R Under development (unstable) (2025-01-22 r87618) -- "Unsuffered Consequences" 4492
kjohnson3macOS 13.7.1 Venturaarm64R Under development (unstable) (2025-01-20 r87609) -- "Unsuffered Consequences" 4445
Click on any hostname to see more info about the system (e.g. compilers)      (*) as reported by 'uname -p', except on Windows and Mac OS X

Package 191/2295HostnameOS / ArchINSTALLBUILDCHECKBUILD BIN
BiocPkgTools 1.25.2  (landing page)
Sean Davis
Snapshot Date: 2025-02-12 13:40 -0500 (Wed, 12 Feb 2025)
git_url: https://git.bioconductor.org/packages/BiocPkgTools
git_branch: devel
git_last_commit: 19ff678
git_last_commit_date: 2024-11-01 19:43:38 -0500 (Fri, 01 Nov 2024)
nebbiolo1Linux (Ubuntu 24.04.1 LTS) / x86_64  OK    OK    OK  UNNEEDED, same version is already published
palomino7Windows Server 2022 Datacenter / x64  OK    OK    OK    OK  UNNEEDED, same version is already published
lconwaymacOS 12.7.1 Monterey / x86_64  OK    OK    OK    OK  UNNEEDED, same version is already published
kjohnson3macOS 13.7.1 Ventura / arm64  OK    OK    OK    OK  UNNEEDED, same version is already published


CHECK results for BiocPkgTools on nebbiolo1

To the developers/maintainers of the BiocPkgTools package:
- Allow up to 24 hours (and sometimes 48 hours) for your latest push to git@git.bioconductor.org:packages/BiocPkgTools.git to reflect on this report. See Troubleshooting Build Report for more information.
- Use the following Renviron settings to reproduce errors and warnings.
- If 'R CMD check' started to fail recently on the Linux builder(s) over a missing dependency, add the missing dependency to 'Suggests:' in your DESCRIPTION file. See Renviron.bioc for more information.

raw results


Summary

Package: BiocPkgTools
Version: 1.25.2
Command: /home/biocbuild/bbs-3.21-bioc/R/bin/R CMD check --install=check:BiocPkgTools.install-out.txt --library=/home/biocbuild/bbs-3.21-bioc/R/site-library --timings BiocPkgTools_1.25.2.tar.gz
StartedAt: 2025-02-12 20:20:04 -0500 (Wed, 12 Feb 2025)
EndedAt: 2025-02-12 20:24:54 -0500 (Wed, 12 Feb 2025)
EllapsedTime: 289.8 seconds
RetCode: 0
Status:   OK  
CheckDir: BiocPkgTools.Rcheck
Warnings: 0

Command output

##############################################################################
##############################################################################
###
### Running command:
###
###   /home/biocbuild/bbs-3.21-bioc/R/bin/R CMD check --install=check:BiocPkgTools.install-out.txt --library=/home/biocbuild/bbs-3.21-bioc/R/site-library --timings BiocPkgTools_1.25.2.tar.gz
###
##############################################################################
##############################################################################


* using log directory ‘/home/biocbuild/bbs-3.21-bioc/meat/BiocPkgTools.Rcheck’
* using R Under development (unstable) (2025-01-20 r87609)
* using platform: x86_64-pc-linux-gnu
* R was compiled by
    gcc (Ubuntu 13.3.0-6ubuntu2~24.04) 13.3.0
    GNU Fortran (Ubuntu 13.3.0-6ubuntu2~24.04) 13.3.0
* running under: Ubuntu 24.04.1 LTS
* using session charset: UTF-8
* checking for file ‘BiocPkgTools/DESCRIPTION’ ... OK
* checking extension type ... Package
* this is package ‘BiocPkgTools’ version ‘1.25.2’
* package encoding: UTF-8
* checking package namespace information ... OK
* checking package dependencies ... OK
* checking if this is a source package ... OK
* checking if there is a namespace ... OK
* checking for hidden files and directories ... OK
* checking for portable file names ... OK
* checking for sufficient/correct file permissions ... OK
* checking whether package ‘BiocPkgTools’ can be installed ... OK
* checking installed package size ... OK
* checking package directory ... OK
* checking ‘build’ directory ... OK
* checking DESCRIPTION meta-information ... NOTE
License stub is invalid DCF.
* checking top-level files ... OK
* checking for left-over files ... OK
* checking index information ... OK
* checking package subdirectories ... OK
* checking code files for non-ASCII characters ... OK
* checking R files for syntax errors ... OK
* checking whether the package can be loaded ... OK
* checking whether the package can be loaded with stated dependencies ... OK
* checking whether the package can be unloaded cleanly ... OK
* checking whether the namespace can be loaded with stated dependencies ... OK
* checking whether the namespace can be unloaded cleanly ... OK
* checking loading without being on the library search path ... OK
* checking dependencies in R code ... NOTE
Unexported objects imported by ':::' calls:
  ‘BiocManager:::.repositories’ ‘BiocManager:::.repositories_base’
  ‘BiocManager:::.repositories_bioc’
  ‘BiocManager:::.repository_container_version’
  ‘BiocManager:::.version_bioc’
  See the note in ?`:::` about the use of this operator.
* checking S3 generic/method consistency ... OK
* checking replacement functions ... OK
* checking foreign function calls ... OK
* checking R code for possible problems ... OK
* checking Rd files ... OK
* checking Rd metadata ... OK
* checking Rd cross-references ... OK
* checking for missing documentation entries ... OK
* checking for code/documentation mismatches ... OK
* checking Rd \usage sections ... OK
* checking Rd contents ... OK
* checking for unstated dependencies in examples ... OK
* checking files in ‘vignettes’ ... OK
* checking examples ... OK
Examples with CPU (user + system) or elapsed time > 5s
                        user system elapsed
biocBuildReport       12.383  6.231  16.392
get_bioc_data         12.639  1.180  14.653
firstInBioc           12.695  0.428  13.707
biocDownloadStats     11.338  0.568  12.569
pkgCombDependencyGain 10.409  0.539  11.200
class-dependencies     6.085  0.329   6.417
pkgDepMetrics          5.483  0.178   5.998
* checking for unstated dependencies in ‘tests’ ... OK
* checking tests ...
  Running ‘testthat.R’
 OK
* checking for unstated dependencies in vignettes ... OK
* checking package vignettes ... OK
* checking re-building of vignette outputs ... OK
* checking PDF version of manual ... OK
* DONE

Status: 2 NOTEs
See
  ‘/home/biocbuild/bbs-3.21-bioc/meat/BiocPkgTools.Rcheck/00check.log’
for details.


Installation output

BiocPkgTools.Rcheck/00install.out

##############################################################################
##############################################################################
###
### Running command:
###
###   /home/biocbuild/bbs-3.21-bioc/R/bin/R CMD INSTALL BiocPkgTools
###
##############################################################################
##############################################################################


* installing to library ‘/home/biocbuild/bbs-3.21-bioc/R/site-library’
* installing *source* package ‘BiocPkgTools’ ...
** this is package ‘BiocPkgTools’ version ‘1.25.2’
** using staged installation
** R
** inst
** byte-compile and prepare package for lazy loading
** help
*** installing help indices
** building package indices
** installing vignettes
** testing if installed package can be loaded from temporary location
** testing if installed package can be loaded from final location
** testing if installed package keeps a record of temporary installation path
* DONE (BiocPkgTools)

Tests output

BiocPkgTools.Rcheck/tests/testthat.Rout


R Under development (unstable) (2025-01-20 r87609) -- "Unsuffered Consequences"
Copyright (C) 2025 The R Foundation for Statistical Computing
Platform: x86_64-pc-linux-gnu

R is free software and comes with ABSOLUTELY NO WARRANTY.
You are welcome to redistribute it under certain conditions.
Type 'license()' or 'licence()' for distribution details.

R is a collaborative project with many contributors.
Type 'contributors()' for more information and
'citation()' on how to cite R or R packages in publications.

Type 'demo()' for some demos, 'help()' for on-line help, or
'help.start()' for an HTML browser interface to help.
Type 'q()' to quit R.

> library(testthat)
> library(BiocPkgTools)
Loading required package: htmlwidgets
> 
> test_check("BiocPkgTools")
trying URL 'https://bioconductor.org/packages/3.21/bioc/vignettes/a4/inst/doc/a4vignette.pdf'
Content type 'application/pdf' length 1397722 bytes (1.3 MB)
==================================================
downloaded 1.3 MB

[ FAIL 0 | WARN 2 | SKIP 0 | PASS 27 ]

[ FAIL 0 | WARN 2 | SKIP 0 | PASS 27 ]
> 
> proc.time()
   user  system elapsed 
 28.309   4.461  31.885 

Example timings

BiocPkgTools.Rcheck/BiocPkgTools-Ex.timings

nameusersystemelapsed
activitySince0.0010.0000.001
anacondaDownloadStats2.1740.0992.892
biocBuildReport12.383 6.23116.392
biocDownloadStats11.338 0.56812.569
biocMaintained3.0950.1683.925
biocPkgList1.2180.0481.408
biocPkgRanges0.0000.0010.000
biocRevDepEmail2.3900.0853.361
buildPkgDependencyDataFrame2.3840.1252.729
buildPkgDependencyIgraph1.2510.0461.405
class-dependencies6.0850.3296.417
firstInBioc12.695 0.42813.707
generateBiocPkgDOI000
getBiocVignette1.1550.0811.612
get_bioc_data12.639 1.18014.653
get_cre_orcids0.0080.0010.009
githubDetails1.4860.0431.734
githubURLParts1.1220.0571.287
inducedSubgraphByPkgs3.5910.2084.059
latestPkgStats0.0000.0010.001
orcid_table000
pkgBiocDeps1.3670.0831.451
pkgBiocRevDeps1.6290.1091.739
pkgCombDependencyGain10.409 0.53911.200
pkgDepImports0.1490.0000.149
pkgDepMetrics5.4830.1785.998
pkgDownloadRank1.5910.0371.788
pkgDownloadStats0.0650.0100.187
problemPage000
repositoryStats0.0570.0010.058
subgraphByDegree1.1400.0171.266