See here for how to subscribe to these builds.
This page was generated on 2025-03-29 23:55 -0400 (Sat, 29 Mar 2025).
| |
| See this page for all the Bioconductor builds and their schedule. |
| Hostname | OS | Arch (*) | R version | Installed pkgs |
|---|---|---|---|---|
| nebbiolo2 | Linux (Ubuntu 24.04.1 LTS) | x86_64 | 4.4.3 (2025-02-28) -- "Trophy Case" | 4764 |
| palomino8 | Windows Server 2022 Datacenter | x64 | 4.4.3 (2025-02-28 ucrt) -- "Trophy Case" | 4495 |
| merida1 | macOS 12.7.5 Monterey | x86_64 | 4.4.3 (2025-02-28) -- "Trophy Case" | 4522 |
| Click on any hostname to see more info about the system (e.g. compilers) (*) as reported by 'uname -p', except on Windows and Mac OS X | ||||
| QUICK STATS | OS / Arch | CHECK | |||||||
| nebbiolo2 | Linux (Ubuntu 24.04.1 LTS) / x86_64 |
| |||||||
| palomino8 | Windows Server 2022 Datacenter / x64 |
| |||||||
| merida1 | macOS 12.7.5 Monterey / x86_64 |
| |||||||
| Package 1/32 | Hostname | OS / Arch | CHECK | ||||||
| APAlyzer 1.20.0 (landing page) Ruijia Wang
| nebbiolo2 | Linux (Ubuntu 24.04.1 LTS) / x86_64 | ERROR | ||||||
| palomino8 | Windows Server 2022 Datacenter / x64 | ERROR | |||||||
| merida1 | macOS 12.7.5 Monterey / x86_64 | ERROR | |||||||
| Package 2/32 | Hostname | OS / Arch | CHECK | ||||||
| autonomics 1.14.9 (landing page) Aditya Bhagwat
| nebbiolo2 | Linux (Ubuntu 24.04.1 LTS) / x86_64 | ERROR | ||||||
| palomino8 | Windows Server 2022 Datacenter / x64 | ERROR | |||||||
| merida1 | macOS 12.7.5 Monterey / x86_64 | ERROR | |||||||
| Package 3/32 | Hostname | OS / Arch | CHECK | ||||||
| basilisk 1.18.0 (landing page) Aaron Lun
| nebbiolo2 | Linux (Ubuntu 24.04.1 LTS) / x86_64 | OK | ||||||
| palomino8 | Windows Server 2022 Datacenter / x64 | OK | |||||||
| merida1 | macOS 12.7.5 Monterey / x86_64 | OK | |||||||
| Package 4/32 | Hostname | OS / Arch | CHECK | ||||||
| beachmat 2.22.0 (landing page) Aaron Lun
| nebbiolo2 | Linux (Ubuntu 24.04.1 LTS) / x86_64 | WARNINGS | ||||||
| palomino8 | Windows Server 2022 Datacenter / x64 | WARNINGS | |||||||
| merida1 | macOS 12.7.5 Monterey / x86_64 | WARNINGS | |||||||
| Package 5/32 | Hostname | OS / Arch | CHECK | ||||||
| biodb 1.14.0 (landing page) Pierrick Roger
| nebbiolo2 | Linux (Ubuntu 24.04.1 LTS) / x86_64 | WARNINGS | ||||||
| palomino8 | Windows Server 2022 Datacenter / x64 | ERROR | |||||||
| merida1 | macOS 12.7.5 Monterey / x86_64 | OK | |||||||
| Package 6/32 | Hostname | OS / Arch | CHECK | ||||||
| biodbChebi 1.12.0 (landing page) Pierrick Roger
| nebbiolo2 | Linux (Ubuntu 24.04.1 LTS) / x86_64 | OK | ||||||
| palomino8 | Windows Server 2022 Datacenter / x64 | OK | |||||||
| merida1 | macOS 12.7.5 Monterey / x86_64 | OK | |||||||
| Package 7/32 | Hostname | OS / Arch | CHECK | ||||||
Pierrick Roger
| nebbiolo2 | Linux (Ubuntu 24.04.1 LTS) / x86_64 | ERROR | ||||||
| palomino8 | Windows Server 2022 Datacenter / x64 | ERROR | |||||||
| merida1 | macOS 12.7.5 Monterey / x86_64 | ERROR | |||||||
| Package 8/32 | Hostname | OS / Arch | CHECK | ||||||
| biodbHmdb 1.12.0 (landing page) Pierrick Roger
| nebbiolo2 | Linux (Ubuntu 24.04.1 LTS) / x86_64 | WARNINGS | ||||||
| palomino8 | Windows Server 2022 Datacenter / x64 | WARNINGS | |||||||
| merida1 | macOS 12.7.5 Monterey / x86_64 | WARNINGS | |||||||
| Package 9/32 | Hostname | OS / Arch | CHECK | ||||||
Pierrick Roger
| nebbiolo2 | Linux (Ubuntu 24.04.1 LTS) / x86_64 | ERROR | ||||||
| palomino8 | Windows Server 2022 Datacenter / x64 | ERROR | |||||||
| merida1 | macOS 12.7.5 Monterey / x86_64 | ERROR | |||||||
| Package 10/32 | Hostname | OS / Arch | CHECK | ||||||
| biodbNcbi 1.10.0 (landing page) Pierrick Roger
| nebbiolo2 | Linux (Ubuntu 24.04.1 LTS) / x86_64 | ERROR | ||||||
| palomino8 | Windows Server 2022 Datacenter / x64 | WARNINGS | |||||||
| merida1 | macOS 12.7.5 Monterey / x86_64 | WARNINGS | |||||||
| Package 11/32 | Hostname | OS / Arch | CHECK | ||||||
| biodbNci 1.10.0 (landing page) Pierrick Roger
| nebbiolo2 | Linux (Ubuntu 24.04.1 LTS) / x86_64 | OK | ||||||
| palomino8 | Windows Server 2022 Datacenter / x64 | OK | |||||||
| merida1 | macOS 12.7.5 Monterey / x86_64 | OK | |||||||
| Package 12/32 | Hostname | OS / Arch | CHECK | ||||||
| biodbUniprot 1.12.0 (landing page) Pierrick Roger
| nebbiolo2 | Linux (Ubuntu 24.04.1 LTS) / x86_64 | OK | ||||||
| palomino8 | Windows Server 2022 Datacenter / x64 | OK | |||||||
| merida1 | macOS 12.7.5 Monterey / x86_64 | OK | |||||||
| Package 13/32 | Hostname | OS / Arch | CHECK | ||||||
| cBioPortalData 2.18.2 (landing page) Marcel Ramos
| nebbiolo2 | Linux (Ubuntu 24.04.1 LTS) / x86_64 | OK | ||||||
| palomino8 | Windows Server 2022 Datacenter / x64 | OK | |||||||
| merida1 | macOS 12.7.5 Monterey / x86_64 | OK | |||||||
| Package 14/32 | Hostname | OS / Arch | CHECK | ||||||
| ChromSCape 1.16.0 (landing page) Pacome Prompsy
| nebbiolo2 | Linux (Ubuntu 24.04.1 LTS) / x86_64 | ERROR | ||||||
| palomino8 | Windows Server 2022 Datacenter / x64 | ERROR | |||||||
| merida1 | macOS 12.7.5 Monterey / x86_64 | ERROR | |||||||
| Package 15/32 | Hostname | OS / Arch | CHECK | ||||||
| clusterExperiment 2.26.0 (landing page) Elizabeth Purdom
| nebbiolo2 | Linux (Ubuntu 24.04.1 LTS) / x86_64 | ERROR | ||||||
| palomino8 | Windows Server 2022 Datacenter / x64 | ERROR | |||||||
| merida1 | macOS 12.7.5 Monterey / x86_64 | ERROR | |||||||
| Package 16/32 | Hostname | OS / Arch | CHECK | ||||||
| CRISPRball 1.2.0 (landing page) Jared Andrews
| nebbiolo2 | Linux (Ubuntu 24.04.1 LTS) / x86_64 | OK | ||||||
| palomino8 | Windows Server 2022 Datacenter / x64 | OK | |||||||
| merida1 | macOS 12.7.5 Monterey / x86_64 | OK | |||||||
| Package 17/32 | Hostname | OS / Arch | CHECK | ||||||
| crisprScore 1.10.0 (landing page) Jean-Philippe Fortin
| nebbiolo2 | Linux (Ubuntu 24.04.1 LTS) / x86_64 | OK | ||||||
| palomino8 | Windows Server 2022 Datacenter / x64 | ERROR | |||||||
| merida1 | macOS 12.7.5 Monterey / x86_64 | OK | |||||||
| Package 18/32 | Hostname | OS / Arch | CHECK | ||||||
| DelayedMatrixStats 1.28.1 (landing page) Peter Hickey
| nebbiolo2 | Linux (Ubuntu 24.04.1 LTS) / x86_64 | OK | ||||||
| palomino8 | Windows Server 2022 Datacenter / x64 | OK | |||||||
| merida1 | macOS 12.7.5 Monterey / x86_64 | OK | |||||||
| Package 19/32 | Hostname | OS / Arch | CHECK | ||||||
| DropletUtils 1.26.0 (landing page) Jonathan Griffiths
| nebbiolo2 | Linux (Ubuntu 24.04.1 LTS) / x86_64 | OK | ||||||
| palomino8 | Windows Server 2022 Datacenter / x64 | OK | |||||||
| merida1 | macOS 12.7.5 Monterey / x86_64 | OK | |||||||
| Package 20/32 | Hostname | OS / Arch | CHECK | ||||||
| EpiMix 1.8.0 (landing page) Yuanning Zheng
| nebbiolo2 | Linux (Ubuntu 24.04.1 LTS) / x86_64 | OK | ||||||
| palomino8 | Windows Server 2022 Datacenter / x64 | OK | |||||||
| merida1 | macOS 12.7.5 Monterey / x86_64 | OK | |||||||
| Package 21/32 | Hostname | OS / Arch | CHECK | ||||||
| extraChIPs 1.10.0 (landing page) Stevie Pederson
| nebbiolo2 | Linux (Ubuntu 24.04.1 LTS) / x86_64 | OK | ||||||
| palomino8 | Windows Server 2022 Datacenter / x64 | OK | |||||||
| merida1 | macOS 12.7.5 Monterey / x86_64 | OK | |||||||
| Package 22/32 | Hostname | OS / Arch | CHECK | ||||||
| GenomicFeatures 1.58.0 (landing page) H. Pagès
| nebbiolo2 | Linux (Ubuntu 24.04.1 LTS) / x86_64 | WARNINGS | ||||||
| palomino8 | Windows Server 2022 Datacenter / x64 | WARNINGS | |||||||
| merida1 | macOS 12.7.5 Monterey / x86_64 | WARNINGS | |||||||
| Package 23/32 | Hostname | OS / Arch | CHECK | ||||||
| ginmappeR 1.2.3 (landing page) Fernando Sola
| nebbiolo2 | Linux (Ubuntu 24.04.1 LTS) / x86_64 | ERROR | ||||||
| palomino8 | Windows Server 2022 Datacenter / x64 | ERROR | |||||||
| merida1 | macOS 12.7.5 Monterey / x86_64 | ERROR | |||||||
| Package 24/32 | Hostname | OS / Arch | CHECK | ||||||
| HDF5Array 1.34.0 (landing page) Hervé Pagès
| nebbiolo2 | Linux (Ubuntu 24.04.1 LTS) / x86_64 | OK | ||||||
| palomino8 | Windows Server 2022 Datacenter / x64 | WARNINGS | |||||||
| merida1 | macOS 12.7.5 Monterey / x86_64 | WARNINGS | |||||||
| Package 25/32 | Hostname | OS / Arch | CHECK | ||||||
| midasHLA 1.14.0 (landing page) Maciej Migdał
| nebbiolo2 | Linux (Ubuntu 24.04.1 LTS) / x86_64 | ERROR | ||||||
| palomino8 | Windows Server 2022 Datacenter / x64 | ERROR | |||||||
| merida1 | macOS 12.7.5 Monterey / x86_64 | ERROR | |||||||
| Package 26/32 | Hostname | OS / Arch | CHECK | ||||||
| mosdef 1.2.0 (landing page) Federico Marini
| nebbiolo2 | Linux (Ubuntu 24.04.1 LTS) / x86_64 | OK | ||||||
| palomino8 | Windows Server 2022 Datacenter / x64 | OK | |||||||
| merida1 | macOS 12.7.5 Monterey / x86_64 | OK | |||||||
| Package 27/32 | Hostname | OS / Arch | CHECK | ||||||
| MungeSumstats 1.14.1 (landing page) Alan Murphy
| nebbiolo2 | Linux (Ubuntu 24.04.1 LTS) / x86_64 | OK | ||||||
| palomino8 | Windows Server 2022 Datacenter / x64 | OK | |||||||
| merida1 | macOS 12.7.5 Monterey / x86_64 | OK | |||||||
| Package 28/32 | Hostname | OS / Arch | CHECK | ||||||
| rhdf5 2.50.2 (landing page) Mike Smith
| nebbiolo2 | Linux (Ubuntu 24.04.1 LTS) / x86_64 | OK | ||||||
| palomino8 | Windows Server 2022 Datacenter / x64 | WARNINGS | |||||||
| merida1 | macOS 12.7.5 Monterey / x86_64 | OK | |||||||
| Package 29/32 | Hostname | OS / Arch | CHECK | ||||||
| SimBu 1.8.0 (landing page) Alexander Dietrich
| nebbiolo2 | Linux (Ubuntu 24.04.1 LTS) / x86_64 | ERROR | ||||||
| palomino8 | Windows Server 2022 Datacenter / x64 | ERROR | |||||||
| merida1 | macOS 12.7.5 Monterey / x86_64 | OK | |||||||
| Package 30/32 | Hostname | OS / Arch | CHECK | ||||||
| TENxIO 1.8.2 (landing page) Marcel Ramos
| nebbiolo2 | Linux (Ubuntu 24.04.1 LTS) / x86_64 | OK | ||||||
| palomino8 | Windows Server 2022 Datacenter / x64 | OK | |||||||
| merida1 | macOS 12.7.5 Monterey / x86_64 | OK | |||||||
| Package 31/32 | Hostname | OS / Arch | CHECK | ||||||
| xcms 4.4.0 (landing page) Steffen Neumann
| nebbiolo2 | Linux (Ubuntu 24.04.1 LTS) / x86_64 | ERROR | ||||||
| palomino8 | Windows Server 2022 Datacenter / x64 | ERROR | |||||||
| merida1 | macOS 12.7.5 Monterey / x86_64 | ERROR | |||||||
| Package 32/32 | Hostname | OS / Arch | CHECK | ||||||
| zellkonverter 1.16.0 (landing page) Luke Zappia
| nebbiolo2 | Linux (Ubuntu 24.04.1 LTS) / x86_64 | OK | ||||||
| palomino8 | Windows Server 2022 Datacenter / x64 | ERROR | |||||||
| merida1 | macOS 12.7.5 Monterey / x86_64 | OK | |||||||