| Back to Long Tests report for BioC 3.20 |
This page was generated on 2025-03-29 23:55 -0400 (Sat, 29 Mar 2025).
| Hostname | OS | Arch (*) | R version | Installed pkgs |
|---|---|---|---|---|
| nebbiolo2 | Linux (Ubuntu 24.04.1 LTS) | x86_64 | 4.4.3 (2025-02-28) -- "Trophy Case" | 4764 |
| palomino8 | Windows Server 2022 Datacenter | x64 | 4.4.3 (2025-02-28 ucrt) -- "Trophy Case" | 4495 |
| merida1 | macOS 12.7.5 Monterey | x86_64 | 4.4.3 (2025-02-28) -- "Trophy Case" | 4522 |
| Click on any hostname to see more info about the system (e.g. compilers) (*) as reported by 'uname -p', except on Windows and Mac OS X | ||||
| Package 4/32 | Hostname | OS / Arch | CHECK | |||||||
| beachmat 2.22.0 (landing page) Aaron Lun
| nebbiolo2 | Linux (Ubuntu 24.04.1 LTS) / x86_64 | WARNINGS | |||||||
| palomino8 | Windows Server 2022 Datacenter / x64 | WARNINGS | ||||||||
| merida1 | macOS 12.7.5 Monterey / x86_64 | WARNINGS | ||||||||
|
To the developers/maintainers of the beachmat package: - Use the following Renviron settings to reproduce errors and warnings. - If 'R CMD check' started to fail recently on the Linux builder(s) over a missing dependency, add the missing dependency to 'Suggests:' in your DESCRIPTION file. See Renviron.bioc for more information. |
| Package: beachmat |
| Version: 2.22.0 |
| Command: /home/biocbuild/bbs-3.20-bioc/R/bin/R CMD check --test-dir=longtests --no-stop-on-test-error --no-codoc --no-examples --no-manual --ignore-vignettes --check-subdirs=no beachmat_2.22.0.tar.gz |
| StartedAt: 2025-03-29 16:01:08 -0400 (Sat, 29 Mar 2025) |
| EndedAt: 2025-03-29 16:06:31 -0400 (Sat, 29 Mar 2025) |
| EllapsedTime: 323.2 seconds |
| RetCode: 0 |
| Status: WARNINGS |
| CheckDir: beachmat.Rcheck |
| Warnings: 1 |
##############################################################################
##############################################################################
###
### Running command:
###
### /home/biocbuild/bbs-3.20-bioc/R/bin/R CMD check --test-dir=longtests --no-stop-on-test-error --no-codoc --no-examples --no-manual --ignore-vignettes --check-subdirs=no beachmat_2.22.0.tar.gz
###
##############################################################################
##############################################################################
* using log directory ‘/home/biocbuild/bbs-3.20-bioc-longtests/meat/beachmat.Rcheck’
* using R version 4.4.3 (2025-02-28)
* using platform: x86_64-pc-linux-gnu
* R was compiled by
gcc (Ubuntu 13.3.0-6ubuntu2~24.04) 13.3.0
GNU Fortran (Ubuntu 13.3.0-6ubuntu2~24.04) 13.3.0
* running under: Ubuntu 24.04.2 LTS
* using session charset: UTF-8
* using options ‘--no-codoc --no-examples --no-manual --ignore-vignettes --no-stop-on-test-error’
* checking for file ‘beachmat/DESCRIPTION’ ... OK
* this is package ‘beachmat’ version ‘2.22.0’
* package encoding: UTF-8
* checking package namespace information ... OK
* checking package dependencies ... OK
* checking if this is a source package ... OK
* checking if there is a namespace ... OK
* checking for hidden files and directories ... OK
* checking for portable file names ... OK
* checking for sufficient/correct file permissions ... OK
* checking whether package ‘beachmat’ can be installed ... OK
* used C++ compiler: ‘g++ (Ubuntu 13.3.0-6ubuntu2~24.04) 13.3.0’
* checking C++ specification ... OK
Not all R platforms support C++17
* checking installed package size ... NOTE
installed size is 105.9Mb
sub-directories of 1Mb or more:
libs 105.4Mb
* checking package directory ... OK
* checking DESCRIPTION meta-information ... OK
* checking top-level files ... OK
* checking for left-over files ... OK
* checking index information ... OK
* checking package subdirectories ... OK
* checking code files for non-ASCII characters ... OK
* checking R files for syntax errors ... OK
* checking whether the package can be loaded ... OK
* checking whether the package can be loaded with stated dependencies ... OK
* checking whether the package can be unloaded cleanly ... OK
* checking whether the namespace can be loaded with stated dependencies ... OK
* checking whether the namespace can be unloaded cleanly ... OK
* checking loading without being on the library search path ... OK
* checking dependencies in R code ... NOTE
Unexported object imported by a ':::' call: ‘DelayedArray:::bplapply2’
See the note in ?`:::` about the use of this operator.
* checking S3 generic/method consistency ... OK
* checking replacement functions ... OK
* checking foreign function calls ... OK
* checking R code for possible problems ... OK
* checking Rd files ... OK
* checking Rd metadata ... OK
* checking Rd cross-references ... OK
* checking for missing documentation entries ... OK
* checking for code/documentation mismatches ... SKIPPED
* checking Rd \usage sections ... OK
* checking Rd contents ... OK
* checking for unstated dependencies in examples ... OK
* checking line endings in C/C++/Fortran sources/headers ... OK
* checking line endings in Makefiles ... OK
* checking compilation flags in Makevars ... OK
* checking for GNU extensions in Makefiles ... OK
* checking for portable use of $(BLAS_LIBS) and $(LAPACK_LIBS) ... OK
* checking use of PKG_*FLAGS in Makefiles ... OK
* checking compiled code ... OK
* checking files in ‘vignettes’ ... SKIPPED
* checking examples ... SKIPPED
WARNING
directory ‘longtests’ not found
* DONE
Status: 1 WARNING, 2 NOTEs
See
‘/home/biocbuild/bbs-3.20-bioc-longtests/meat/beachmat.Rcheck/00check.log’
for details.
beachmat.Rcheck/00install.out
* installing *source* package ‘beachmat’ ...
** using staged installation
** libs
using C++ compiler: ‘g++ (Ubuntu 13.3.0-6ubuntu2~24.04) 13.3.0’
using C++17
g++ -std=gnu++17 -I"/home/biocbuild/bbs-3.20-bioc/R/include" -DNDEBUG -I../inst/include -I'/home/biocbuild/bbs-3.20-bioc/R/site-library/Rcpp/include' -I'/home/biocbuild/bbs-3.20-bioc/R/site-library/assorthead/include' -I/usr/local/include -fpic -g -O2 -Wall -c RcppExports.cpp -o RcppExports.o
g++ -std=gnu++17 -I"/home/biocbuild/bbs-3.20-bioc/R/include" -DNDEBUG -I../inst/include -I'/home/biocbuild/bbs-3.20-bioc/R/site-library/Rcpp/include' -I'/home/biocbuild/bbs-3.20-bioc/R/site-library/assorthead/include' -I/usr/local/include -fpic -g -O2 -Wall -c delayed_isometric_binary.cpp -o delayed_isometric_binary.o
g++ -std=gnu++17 -I"/home/biocbuild/bbs-3.20-bioc/R/include" -DNDEBUG -I../inst/include -I'/home/biocbuild/bbs-3.20-bioc/R/site-library/Rcpp/include' -I'/home/biocbuild/bbs-3.20-bioc/R/site-library/assorthead/include' -I/usr/local/include -fpic -g -O2 -Wall -c delayed_isometric_math.cpp -o delayed_isometric_math.o
g++ -std=gnu++17 -I"/home/biocbuild/bbs-3.20-bioc/R/include" -DNDEBUG -I../inst/include -I'/home/biocbuild/bbs-3.20-bioc/R/site-library/Rcpp/include' -I'/home/biocbuild/bbs-3.20-bioc/R/site-library/assorthead/include' -I/usr/local/include -fpic -g -O2 -Wall -c delayed_isometric_unary.cpp -o delayed_isometric_unary.o
g++ -std=gnu++17 -I"/home/biocbuild/bbs-3.20-bioc/R/include" -DNDEBUG -I../inst/include -I'/home/biocbuild/bbs-3.20-bioc/R/site-library/Rcpp/include' -I'/home/biocbuild/bbs-3.20-bioc/R/site-library/assorthead/include' -I/usr/local/include -fpic -g -O2 -Wall -c delayed_other.cpp -o delayed_other.o
g++ -std=gnu++17 -I"/home/biocbuild/bbs-3.20-bioc/R/include" -DNDEBUG -I../inst/include -I'/home/biocbuild/bbs-3.20-bioc/R/site-library/Rcpp/include' -I'/home/biocbuild/bbs-3.20-bioc/R/site-library/assorthead/include' -I/usr/local/include -fpic -g -O2 -Wall -c dense_matrix.cpp -o dense_matrix.o
g++ -std=gnu++17 -I"/home/biocbuild/bbs-3.20-bioc/R/include" -DNDEBUG -I../inst/include -I'/home/biocbuild/bbs-3.20-bioc/R/site-library/Rcpp/include' -I'/home/biocbuild/bbs-3.20-bioc/R/site-library/assorthead/include' -I/usr/local/include -fpic -g -O2 -Wall -c fragment_sparse_rows.cpp -o fragment_sparse_rows.o
g++ -std=gnu++17 -I"/home/biocbuild/bbs-3.20-bioc/R/include" -DNDEBUG -I../inst/include -I'/home/biocbuild/bbs-3.20-bioc/R/site-library/Rcpp/include' -I'/home/biocbuild/bbs-3.20-bioc/R/site-library/assorthead/include' -I/usr/local/include -fpic -g -O2 -Wall -c sparse_matrix.cpp -o sparse_matrix.o
In file included from /home/biocbuild/bbs-3.20-bioc/R/site-library/assorthead/include/tatami/tatami.hpp:8,
from /home/biocbuild/bbs-3.20-bioc/R/site-library/assorthead/include/tatami_r/UnknownMatrix.hpp:5,
from /home/biocbuild/bbs-3.20-bioc/R/site-library/assorthead/include/tatami_r/tatami_r.hpp:4,
from ../inst/include/Rtatami.h:8,
from sparse_matrix.cpp:1:
/home/biocbuild/bbs-3.20-bioc/R/site-library/assorthead/include/tatami/sparse/CompressedSparseMatrix.hpp: In instantiation of ‘tatami::CompressedSparseMatrix<Value_, Index_, ValueStorage_, IndexStorage_, PointerStorage_>::CompressedSparseMatrix(Index_, Index_, ValueStorage_, IndexStorage_, PointerStorage_, bool, bool) [with Value_ = double; Index_ = int; ValueStorage_ = tatami::ArrayView<int>; IndexStorage_ = tatami::ArrayView<int>; PointerStorage_ = tatami::ArrayView<int>]’:
sparse_matrix.cpp:13:12: required from ‘tatami::NumericMatrix* store_sparse_matrix(XVector_, Rcpp::IntegerVector, Rcpp::IntegerVector, int, int, bool) [with T_ = int; XVector_ = Rcpp::Vector<10, Rcpp::PreserveStorage>; tatami::NumericMatrix = tatami::Matrix<double, int>; Rcpp::IntegerVector = Rcpp::Vector<13>]’
sparse_matrix.cpp:36:51: required from here
/home/biocbuild/bbs-3.20-bioc/R/site-library/assorthead/include/tatami/sparse/CompressedSparseMatrix.hpp:534:46: warning: comparison of integer expressions of different signedness: ‘size_t’ {aka ‘long unsigned int’} and ‘int’ [-Wsign-compare]
534 | for (size_t j = start + 1; j < end; ++j) {
| ~~^~~~~
/home/biocbuild/bbs-3.20-bioc/R/site-library/assorthead/include/tatami/sparse/CompressedSparseMatrix.hpp: In instantiation of ‘tatami::CompressedSparseMatrix<Value_, Index_, ValueStorage_, IndexStorage_, PointerStorage_>::CompressedSparseMatrix(Index_, Index_, ValueStorage_, IndexStorage_, PointerStorage_, bool, bool) [with Value_ = double; Index_ = int; ValueStorage_ = tatami::ArrayView<double>; IndexStorage_ = tatami::ArrayView<int>; PointerStorage_ = tatami::ArrayView<int>]’:
sparse_matrix.cpp:13:12: required from ‘tatami::NumericMatrix* store_sparse_matrix(XVector_, Rcpp::IntegerVector, Rcpp::IntegerVector, int, int, bool) [with T_ = double; XVector_ = Rcpp::Vector<14, Rcpp::PreserveStorage>; tatami::NumericMatrix = tatami::Matrix<double, int>; Rcpp::IntegerVector = Rcpp::Vector<13>]’
sparse_matrix.cpp:40:54: required from here
/home/biocbuild/bbs-3.20-bioc/R/site-library/assorthead/include/tatami/sparse/CompressedSparseMatrix.hpp:534:46: warning: comparison of integer expressions of different signedness: ‘size_t’ {aka ‘long unsigned int’} and ‘int’ [-Wsign-compare]
g++ -std=gnu++17 -I"/home/biocbuild/bbs-3.20-bioc/R/include" -DNDEBUG -I../inst/include -I'/home/biocbuild/bbs-3.20-bioc/R/site-library/Rcpp/include' -I'/home/biocbuild/bbs-3.20-bioc/R/site-library/assorthead/include' -I/usr/local/include -fpic -g -O2 -Wall -c tatami_utils.cpp -o tatami_utils.o
g++ -std=gnu++17 -I"/home/biocbuild/bbs-3.20-bioc/R/include" -DNDEBUG -I../inst/include -I'/home/biocbuild/bbs-3.20-bioc/R/site-library/Rcpp/include' -I'/home/biocbuild/bbs-3.20-bioc/R/site-library/assorthead/include' -I/usr/local/include -fpic -g -O2 -Wall -c unknown_matrix.cpp -o unknown_matrix.o
g++ -std=gnu++17 -shared -L/home/biocbuild/bbs-3.20-bioc/R/lib -L/usr/local/lib -o beachmat.so RcppExports.o delayed_isometric_binary.o delayed_isometric_math.o delayed_isometric_unary.o delayed_other.o dense_matrix.o fragment_sparse_rows.o sparse_matrix.o tatami_utils.o unknown_matrix.o -L/home/biocbuild/bbs-3.20-bioc/R/lib -lR
installing to /home/biocbuild/bbs-3.20-bioc-longtests/meat/beachmat.Rcheck/00LOCK-beachmat/00new/beachmat/libs
** R
** inst
** byte-compile and prepare package for lazy loading
** help
*** installing help indices
** building package indices
** installing vignettes
** testing if installed package can be loaded from temporary location
** checking absolute paths in shared objects and dynamic libraries
** testing if installed package can be loaded from final location
** testing if installed package keeps a record of temporary installation path
* DONE (beachmat)