| Back to Multiple platform build/check report for BioC 3.20: simplified long |
|
This page was generated on 2024-06-11 15:41 -0400 (Tue, 11 Jun 2024).
| Hostname | OS | Arch (*) | R version | Installed pkgs |
|---|---|---|---|---|
| nebbiolo2 | Linux (Ubuntu 22.04.3 LTS) | x86_64 | 4.4.0 RC (2024-04-16 r86468) -- "Puppy Cup" | 4679 |
| palomino4 | Windows Server 2022 Datacenter | x64 | 4.4.0 RC (2024-04-16 r86468 ucrt) -- "Puppy Cup" | 4414 |
| merida1 | macOS 12.7.4 Monterey | x86_64 | 4.4.0 Patched (2024-04-24 r86482) -- "Puppy Cup" | 4441 |
| kjohnson1 | macOS 13.6.6 Ventura | arm64 | 4.4.0 Patched (2024-04-24 r86482) -- "Puppy Cup" | 4394 |
| Click on any hostname to see more info about the system (e.g. compilers) (*) as reported by 'uname -p', except on Windows and Mac OS X | ||||
| Package 2186/2239 | Hostname | OS / Arch | INSTALL | BUILD | CHECK | BUILD BIN | ||||||||
| variancePartition 1.35.1 (landing page) Gabriel E. Hoffman
| nebbiolo2 | Linux (Ubuntu 22.04.3 LTS) / x86_64 | OK | OK | OK | |||||||||
| palomino4 | Windows Server 2022 Datacenter / x64 | OK | OK | OK | OK | |||||||||
| merida1 | macOS 12.7.4 Monterey / x86_64 | OK | OK | OK | OK | |||||||||
| kjohnson1 | macOS 13.6.6 Ventura / arm64 | OK | OK | OK | OK | |||||||||
|
To the developers/maintainers of the variancePartition package: - Allow up to 24 hours (and sometimes 48 hours) for your latest push to git@git.bioconductor.org:packages/variancePartition.git to reflect on this report. See Troubleshooting Build Report for more information. - Use the following Renviron settings to reproduce errors and warnings. - If 'R CMD check' started to fail recently on the Linux builder(s) over a missing dependency, add the missing dependency to 'Suggests:' in your DESCRIPTION file. See Renviron.bioc for more information. |
| Package: variancePartition |
| Version: 1.35.1 |
| Command: F:\biocbuild\bbs-3.20-bioc\R\bin\R.exe CMD check --no-multiarch --install=check:variancePartition.install-out.txt --library=F:\biocbuild\bbs-3.20-bioc\R\library --no-vignettes --timings variancePartition_1.35.1.tar.gz |
| StartedAt: 2024-06-10 11:51:33 -0400 (Mon, 10 Jun 2024) |
| EndedAt: 2024-06-10 12:08:09 -0400 (Mon, 10 Jun 2024) |
| EllapsedTime: 996.3 seconds |
| RetCode: 0 |
| Status: OK |
| CheckDir: variancePartition.Rcheck |
| Warnings: 0 |
##############################################################################
##############################################################################
###
### Running command:
###
### F:\biocbuild\bbs-3.20-bioc\R\bin\R.exe CMD check --no-multiarch --install=check:variancePartition.install-out.txt --library=F:\biocbuild\bbs-3.20-bioc\R\library --no-vignettes --timings variancePartition_1.35.1.tar.gz
###
##############################################################################
##############################################################################
* using log directory 'F:/biocbuild/bbs-3.20-bioc/meat/variancePartition.Rcheck'
* using R version 4.4.0 RC (2024-04-16 r86468 ucrt)
* using platform: x86_64-w64-mingw32
* R was compiled by
gcc.exe (GCC) 13.2.0
GNU Fortran (GCC) 13.2.0
* running under: Windows Server 2022 x64 (build 20348)
* using session charset: UTF-8
* using option '--no-vignettes'
* checking for file 'variancePartition/DESCRIPTION' ... OK
* checking extension type ... Package
* this is package 'variancePartition' version '1.35.1'
* package encoding: UTF-8
* checking package namespace information ... OK
* checking package dependencies ... OK
* checking if this is a source package ... OK
* checking if there is a namespace ... OK
* checking for hidden files and directories ... OK
* checking for portable file names ... OK
* checking whether package 'variancePartition' can be installed ... OK
* checking installed package size ... OK
* checking package directory ... OK
* checking 'build' directory ... OK
* checking DESCRIPTION meta-information ... OK
* checking top-level files ... OK
* checking for left-over files ... OK
* checking index information ... OK
* checking package subdirectories ... OK
* checking code files for non-ASCII characters ... OK
* checking R files for syntax errors ... OK
* checking whether the package can be loaded ... OK
* checking whether the package can be loaded with stated dependencies ... OK
* checking whether the package can be unloaded cleanly ... OK
* checking whether the namespace can be loaded with stated dependencies ... OK
* checking whether the namespace can be unloaded cleanly ... OK
* checking dependencies in R code ... NOTE
Unexported object imported by a ':::' call: 'lmerTest:::as_lmerModLT'
See the note in ?`:::` about the use of this operator.
* checking S3 generic/method consistency ... OK
* checking replacement functions ... OK
* checking foreign function calls ... OK
* checking R code for possible problems ... OK
* checking Rd files ... OK
* checking Rd metadata ... OK
* checking Rd cross-references ... OK
* checking for missing documentation entries ... OK
* checking for code/documentation mismatches ... OK
* checking Rd \usage sections ... NOTE
S3 methods shown with full name in Rd file 'residuals.MArrayLM2.Rd':
'residuals.MArrayLM2'
The \usage entries for S3 methods should use the \method markup and not
their full name.
See chapter 'Writing R documentation files' in the 'Writing R
Extensions' manual.
* checking Rd contents ... OK
* checking for unstated dependencies in examples ... OK
* checking contents of 'data' directory ... OK
* checking data for non-ASCII characters ... OK
* checking data for ASCII and uncompressed saves ... OK
* checking files in 'vignettes' ... NOTE
The following directory looks like a leftover from 'knitr':
'figure'
Please remove from your package.
* checking examples ... OK
Examples with CPU (user + system) or elapsed time > 5s
user system elapsed
fitVarPartModel-method 29.63 0.35 29.99
fitExtractVarPartModel-method 20.45 0.15 20.62
getTreat-method 18.22 0.18 18.41
extractVarPart 14.66 0.27 14.93
plotCompareP-method 13.55 0.09 13.65
varPartConfInf 8.36 0.11 8.47
residuals-VarParFitList-method 7.85 0.04 7.89
sortCols-method 7.18 0.09 7.28
plotVarPart-method 7.14 0.06 7.26
plotPercentBars-method 6.96 0.07 7.06
mvTest-method 5.01 0.25 29.42
dream-method 3.57 0.23 38.00
* checking for unstated dependencies in 'tests' ... OK
* checking tests ...
Running 'runTests.R'
OK
* checking for unstated dependencies in vignettes ... OK
* checking package vignettes ... OK
* checking running R code from vignettes ... SKIPPED
* checking re-building of vignette outputs ... SKIPPED
* checking PDF version of manual ... OK
* DONE
Status: 3 NOTEs
See
'F:/biocbuild/bbs-3.20-bioc/meat/variancePartition.Rcheck/00check.log'
for details.
variancePartition.Rcheck/00install.out
############################################################################## ############################################################################## ### ### Running command: ### ### F:\biocbuild\bbs-3.20-bioc\R\bin\R.exe CMD INSTALL variancePartition ### ############################################################################## ############################################################################## * installing to library 'F:/biocbuild/bbs-3.20-bioc/R/library' * installing *source* package 'variancePartition' ... ** using staged installation ** R ** data ** inst ** byte-compile and prepare package for lazy loading in method for 'calcVarPart' with signature '"negbin"': no definition for class "negbin" in method for 'checkModelStatus' with signature '"negbin"': no definition for class "negbin" Creating a new generic function for 'classifyTestsF' in package 'variancePartition' Creating a new generic function for 'topTable' in package 'variancePartition' ** help Loading required namespace: variancePartition *** installing help indices *** copying figures ** building package indices ** installing vignettes ** testing if installed package can be loaded from temporary location ** testing if installed package can be loaded from final location ** testing if installed package keeps a record of temporary installation path * DONE (variancePartition)
variancePartition.Rcheck/tests/runTests.Rout
R version 4.4.0 RC (2024-04-16 r86468 ucrt) -- "Puppy Cup"
Copyright (C) 2024 The R Foundation for Statistical Computing
Platform: x86_64-w64-mingw32/x64
R is free software and comes with ABSOLUTELY NO WARRANTY.
You are welcome to redistribute it under certain conditions.
Type 'license()' or 'licence()' for distribution details.
R is a collaborative project with many contributors.
Type 'contributors()' for more information and
'citation()' on how to cite R or R packages in publications.
Type 'demo()' for some demos, 'help()' for on-line help, or
'help.start()' for an HTML browser interface to help.
Type 'q()' to quit R.
> BiocGenerics:::testPackage("variancePartition")
Attaching package: 'variancePartition'
The following object is masked from 'package:limma':
topTable
Loading required package: lme4
Loading required package: Matrix
Attaching package: 'lmerTest'
The following object is masked from 'package:lme4':
lmer
The following object is masked from 'package:stats':
step
boundary (singular) fit: see help('isSingular')
boundary (singular) fit: see help('isSingular')
Removing intercept from test coefficients
Removing intercept from test coefficients
boundary (singular) fit: see help('isSingular')
boundary (singular) fit: see help('isSingular')
boundary (singular) fit: see help('isSingular')
boundary (singular) fit: see help('isSingular')
boundary (singular) fit: see help('isSingular')
boundary (singular) fit: see help('isSingular')
boundary (singular) fit: see help('isSingular')
boundary (singular) fit: see help('isSingular')
boundary (singular) fit: see help('isSingular')
boundary (singular) fit: see help('isSingular')
boundary (singular) fit: see help('isSingular')
boundary (singular) fit: see help('isSingular')
boundary (singular) fit: see help('isSingular')
boundary (singular) fit: see help('isSingular')
boundary (singular) fit: see help('isSingular')
boundary (singular) fit: see help('isSingular')
boundary (singular) fit: see help('isSingular')
boundary (singular) fit: see help('isSingular')
Removing intercept from test coefficients
Removing intercept from test coefficients
Loading required package: Rcpp
Loading required package: RcppZiggurat
Loading required package: RcppParallel
Attaching package: 'RcppParallel'
The following object is masked from 'package:Rcpp':
LdFlags
Rfast: 2.1.0
___ __ __ __ __ __ __ __ __ __ _ _ __ __ __ __ __ __ __ __ __ __ __
| __ __ __ __ | | __ __ __ __ _/ / \ | __ __ __ __ / /__ __ _ _ __ __\
| | | | | | / _ \ | | / /
| | | | | | / / \ \ | | / /
| | | | | | / / \ \ | | / /
| |__ __ __ __| | | |__ __ __ __ / / \ \ | |__ __ __ __ _ / /__/\
| __ __ __ __| | __ __ __ __| / /__ _ __\ \ |_ __ __ __ _ | / ___ /
| \ | | / _ _ _ _ _ _ \ | | \/ / /
| |\ \ | | / / \ \ | | / /
| | \ \ | | / / \ \ | | / /
| | \ \ | | / / \ \ | | / /
| | \ \__ __ _ | | / / \ \ _ __ __ __ _| | / /
|_| \__ __ __\ |_| /_/ \_\ /_ __ __ __ ___| \/ team
Warning:
Variables contain NA's: Disease
Samples with missing data will be dropped.
RUNIT TEST PROTOCOL -- Mon Jun 10 12:07:44 2024
***********************************************
Number of test functions: 30
Number of errors: 0
Number of failures: 0
1 Test Suite :
variancePartition RUnit Tests - 30 test functions, 0 errors, 0 failures
Number of test functions: 30
Number of errors: 0
Number of failures: 0
There were 29 warnings (use warnings() to see them)
>
> proc.time()
user system elapsed
165.78 17.68 365.65
variancePartition.Rcheck/variancePartition-Ex.timings
| name | user | system | elapsed | |
| ESS-method | 0.14 | 0.39 | 0.54 | |
| as.data.frame.varPartResults | 0.25 | 0.02 | 0.26 | |
| as.matrix-varPartResults-method | 0.34 | 0.00 | 0.34 | |
| augmentPriorCount | 0.83 | 0.12 | 0.95 | |
| calcVarPart-method | 0.11 | 0.32 | 0.46 | |
| canCorPairs | 0.09 | 0.01 | 0.11 | |
| colinearityScore | 0.59 | 0.03 | 0.62 | |
| deviation-method | 1.11 | 0.10 | 1.20 | |
| diffVar-method | 1.18 | 0.08 | 1.25 | |
| dream-method | 3.57 | 0.23 | 38.00 | |
| extractVarPart | 14.66 | 0.27 | 14.93 | |
| fitExtractVarPartModel-method | 20.45 | 0.15 | 20.62 | |
| fitVarPartModel-method | 29.63 | 0.35 | 29.99 | |
| getContrast-method | 0.01 | 0.00 | 0.01 | |
| getTreat-method | 18.22 | 0.18 | 18.41 | |
| get_prediction-method | 0.05 | 0.32 | 0.64 | |
| ggColorHue | 0 | 0 | 0 | |
| makeContrastsDream | 1.36 | 0.01 | 1.37 | |
| mvTest-method | 5.01 | 0.25 | 29.42 | |
| plotCompareP-method | 13.55 | 0.09 | 13.65 | |
| plotContrasts | 0.17 | 0.00 | 0.17 | |
| plotCorrMatrix | 0.07 | 0.00 | 0.06 | |
| plotCorrStructure | 0.67 | 0.04 | 0.70 | |
| plotPercentBars-method | 6.96 | 0.07 | 7.06 | |
| plotStratify | 0.64 | 0.04 | 0.67 | |
| plotStratifyBy | 0.87 | 0.00 | 0.88 | |
| plotVarPart-method | 7.14 | 0.06 | 7.26 | |
| rdf | 0.05 | 0.33 | 0.44 | |
| rdf.merMod | 0.06 | 0.32 | 0.41 | |
| residuals-VarParFitList-method | 7.85 | 0.04 | 7.89 | |
| sortCols-method | 7.18 | 0.09 | 7.28 | |
| varPartConfInf | 8.36 | 0.11 | 8.47 | |
| vcovSqrt-method | 0.00 | 0.02 | 0.02 | |
| voomWithDreamWeights | 2.51 | 0.12 | 2.63 | |