| Back to Multiple platform build/check report for BioC 3.20: simplified long |
|
This page was generated on 2025-03-13 12:10 -0400 (Thu, 13 Mar 2025).
| Hostname | OS | Arch (*) | R version | Installed pkgs |
|---|---|---|---|---|
| nebbiolo2 | Linux (Ubuntu 24.04.1 LTS) | x86_64 | 4.4.3 (2025-02-28) -- "Trophy Case" | 4722 |
| palomino8 | Windows Server 2022 Datacenter | x64 | 4.4.3 (2025-02-28 ucrt) -- "Trophy Case" | 4487 |
| merida1 | macOS 12.7.5 Monterey | x86_64 | 4.4.3 (2025-02-28) -- "Trophy Case" | 4514 |
| kjohnson1 | macOS 13.6.6 Ventura | arm64 | 4.4.3 (2025-02-28) -- "Trophy Case" | 4441 |
| taishan | Linux (openEuler 24.03 LTS) | aarch64 | 4.4.3 (2025-02-28) -- "Trophy Case" | 4391 |
| Click on any hostname to see more info about the system (e.g. compilers) (*) as reported by 'uname -p', except on Windows and Mac OS X | ||||
| Package 2235/2289 | Hostname | OS / Arch | INSTALL | BUILD | CHECK | BUILD BIN | ||||||||
| variancePartition 1.36.3 (landing page) Gabriel E. Hoffman
| nebbiolo2 | Linux (Ubuntu 24.04.1 LTS) / x86_64 | OK | OK | OK | |||||||||
| palomino8 | Windows Server 2022 Datacenter / x64 | OK | OK | OK | OK | |||||||||
| merida1 | macOS 12.7.5 Monterey / x86_64 | OK | OK | OK | OK | |||||||||
| kjohnson1 | macOS 13.6.6 Ventura / arm64 | OK | OK | OK | OK | |||||||||
| taishan | Linux (openEuler 24.03 LTS) / aarch64 | OK | OK | OK | ||||||||||
|
To the developers/maintainers of the variancePartition package: - Allow up to 24 hours (and sometimes 48 hours) for your latest push to git@git.bioconductor.org:packages/variancePartition.git to reflect on this report. See Troubleshooting Build Report for more information. - Use the following Renviron settings to reproduce errors and warnings. - If 'R CMD check' started to fail recently on the Linux builder(s) over a missing dependency, add the missing dependency to 'Suggests:' in your DESCRIPTION file. See Renviron.bioc for more information. |
| Package: variancePartition |
| Version: 1.36.3 |
| Command: /Library/Frameworks/R.framework/Resources/bin/R CMD check --install=check:variancePartition.install-out.txt --library=/Library/Frameworks/R.framework/Resources/library --no-vignettes --timings variancePartition_1.36.3.tar.gz |
| StartedAt: 2025-03-12 12:20:05 -0400 (Wed, 12 Mar 2025) |
| EndedAt: 2025-03-12 12:28:56 -0400 (Wed, 12 Mar 2025) |
| EllapsedTime: 531.5 seconds |
| RetCode: 0 |
| Status: OK |
| CheckDir: variancePartition.Rcheck |
| Warnings: 0 |
##############################################################################
##############################################################################
###
### Running command:
###
### /Library/Frameworks/R.framework/Resources/bin/R CMD check --install=check:variancePartition.install-out.txt --library=/Library/Frameworks/R.framework/Resources/library --no-vignettes --timings variancePartition_1.36.3.tar.gz
###
##############################################################################
##############################################################################
* using log directory ‘/Users/biocbuild/bbs-3.20-bioc/meat/variancePartition.Rcheck’
* using R version 4.4.3 (2025-02-28)
* using platform: aarch64-apple-darwin20
* R was compiled by
Apple clang version 14.0.0 (clang-1400.0.29.202)
GNU Fortran (GCC) 12.2.0
* running under: macOS Ventura 13.7.1
* using session charset: UTF-8
* using option ‘--no-vignettes’
* checking for file ‘variancePartition/DESCRIPTION’ ... OK
* checking extension type ... Package
* this is package ‘variancePartition’ version ‘1.36.3’
* package encoding: UTF-8
* checking package namespace information ... OK
* checking package dependencies ... OK
* checking if this is a source package ... OK
* checking if there is a namespace ... OK
* checking for hidden files and directories ... OK
* checking for portable file names ... OK
* checking for sufficient/correct file permissions ... OK
* checking whether package ‘variancePartition’ can be installed ... OK
* checking installed package size ... OK
* checking package directory ... OK
* checking ‘build’ directory ... OK
* checking DESCRIPTION meta-information ... OK
* checking top-level files ... OK
* checking for left-over files ... OK
* checking index information ... OK
* checking package subdirectories ... OK
* checking code files for non-ASCII characters ... OK
* checking R files for syntax errors ... OK
* checking whether the package can be loaded ... OK
* checking whether the package can be loaded with stated dependencies ... OK
* checking whether the package can be unloaded cleanly ... OK
* checking whether the namespace can be loaded with stated dependencies ... OK
* checking whether the namespace can be unloaded cleanly ... OK
* checking dependencies in R code ... NOTE
Unexported object imported by a ':::' call: ‘lmerTest:::as_lmerModLT’
See the note in ?`:::` about the use of this operator.
* checking S3 generic/method consistency ... OK
* checking replacement functions ... OK
* checking foreign function calls ... OK
* checking R code for possible problems ... OK
* checking Rd files ... OK
* checking Rd metadata ... OK
* checking Rd cross-references ... OK
* checking for missing documentation entries ... OK
* checking for code/documentation mismatches ... OK
* checking Rd \usage sections ... NOTE
S3 methods shown with full name in Rd file 'residuals.MArrayLM2.Rd':
‘residuals.MArrayLM2’
The \usage entries for S3 methods should use the \method markup and not
their full name.
See chapter ‘Writing R documentation files’ in the ‘Writing R
Extensions’ manual.
* checking Rd contents ... OK
* checking for unstated dependencies in examples ... OK
* checking contents of ‘data’ directory ... OK
* checking data for non-ASCII characters ... OK
* checking data for ASCII and uncompressed saves ... OK
* checking files in ‘vignettes’ ... NOTE
The following directory looks like a leftover from 'knitr':
‘figure’
Please remove from your package.
* checking examples ... OK
Examples with CPU (user + system) or elapsed time > 5s
user system elapsed
fitVarPartModel-method 31.518 0.134 32.022
fitExtractVarPartModel-method 23.924 0.114 24.574
getTreat-method 21.339 0.088 21.602
plotCompareP-method 16.115 0.072 16.310
extractVarPart 15.232 0.077 15.466
varPartConfInf 10.316 0.042 10.408
sortCols-method 8.186 0.039 8.278
plotVarPart-method 7.991 0.034 8.086
plotPercentBars-method 7.944 0.038 8.032
residuals-VarParFitList-method 7.473 0.029 7.528
mvTest-method 6.033 0.119 13.065
dream-method 3.504 0.068 17.608
* checking for unstated dependencies in ‘tests’ ... OK
* checking tests ...
Running ‘runTests.R’
OK
* checking for unstated dependencies in vignettes ... OK
* checking package vignettes ... OK
* checking running R code from vignettes ... SKIPPED
* checking re-building of vignette outputs ... SKIPPED
* checking PDF version of manual ... OK
* DONE
Status: 3 NOTEs
See
‘/Users/biocbuild/bbs-3.20-bioc/meat/variancePartition.Rcheck/00check.log’
for details.
variancePartition.Rcheck/00install.out
############################################################################## ############################################################################## ### ### Running command: ### ### /Library/Frameworks/R.framework/Resources/bin/R CMD INSTALL variancePartition ### ############################################################################## ############################################################################## * installing to library ‘/Library/Frameworks/R.framework/Versions/4.4-arm64/Resources/library’ * installing *source* package ‘variancePartition’ ... ** using staged installation ** R ** data ** inst ** byte-compile and prepare package for lazy loading in method for ‘calcVarPart’ with signature ‘"negbin"’: no definition for class “negbin” in method for ‘checkModelStatus’ with signature ‘"negbin"’: no definition for class “negbin” Creating a new generic function for ‘classifyTestsF’ in package ‘variancePartition’ Creating a new generic function for ‘topTable’ in package ‘variancePartition’ ** help Loading required namespace: variancePartition *** installing help indices *** copying figures ** building package indices ** installing vignettes ** testing if installed package can be loaded from temporary location ** testing if installed package can be loaded from final location ** testing if installed package keeps a record of temporary installation path * DONE (variancePartition)
variancePartition.Rcheck/tests/runTests.Rout
R version 4.4.3 (2025-02-28) -- "Trophy Case"
Copyright (C) 2025 The R Foundation for Statistical Computing
Platform: aarch64-apple-darwin20
R is free software and comes with ABSOLUTELY NO WARRANTY.
You are welcome to redistribute it under certain conditions.
Type 'license()' or 'licence()' for distribution details.
R is a collaborative project with many contributors.
Type 'contributors()' for more information and
'citation()' on how to cite R or R packages in publications.
Type 'demo()' for some demos, 'help()' for on-line help, or
'help.start()' for an HTML browser interface to help.
Type 'q()' to quit R.
> BiocGenerics:::testPackage("variancePartition")
Attaching package: 'variancePartition'
The following object is masked from 'package:limma':
topTable
Loading required package: lme4
Loading required package: Matrix
Attaching package: 'lmerTest'
The following object is masked from 'package:lme4':
lmer
The following object is masked from 'package:stats':
step
boundary (singular) fit: see help('isSingular')
boundary (singular) fit: see help('isSingular')
Removing intercept from test coefficients
Removing intercept from test coefficients
boundary (singular) fit: see help('isSingular')
boundary (singular) fit: see help('isSingular')
boundary (singular) fit: see help('isSingular')
boundary (singular) fit: see help('isSingular')
boundary (singular) fit: see help('isSingular')
boundary (singular) fit: see help('isSingular')
boundary (singular) fit: see help('isSingular')
boundary (singular) fit: see help('isSingular')
boundary (singular) fit: see help('isSingular')
boundary (singular) fit: see help('isSingular')
boundary (singular) fit: see help('isSingular')
boundary (singular) fit: see help('isSingular')
boundary (singular) fit: see help('isSingular')
boundary (singular) fit: see help('isSingular')
boundary (singular) fit: see help('isSingular')
boundary (singular) fit: see help('isSingular')
boundary (singular) fit: see help('isSingular')
boundary (singular) fit: see help('isSingular')
Removing intercept from test coefficients
Removing intercept from test coefficients
Loading required package: Rcpp
Loading required package: zigg
Loading required package: RcppParallel
Attaching package: 'RcppParallel'
The following object is masked from 'package:Rcpp':
LdFlags
Rfast: 2.1.5
___ __ __ __ __ __ __ __ __ __ _ _ __ __ __ __ __ __ __ __ __ __ __
| __ __ __ __ | | __ __ __ __ _/ / \ | __ __ __ __ / /__ __ _ _ __ __\
| | | | | | / _ \ | | / /
| | | | | | / / \ \ | | / /
| | | | | | / / \ \ | | / /
| |__ __ __ __| | | |__ __ __ __ / / \ \ | |__ __ __ __ _ / /__/\
| __ __ __ __| | __ __ __ __| / /__ _ __\ \ |_ __ __ __ _ | / ___ /
| \ | | / _ _ _ _ _ _ \ | | \/ / /
| |\ \ | | / / \ \ | | / /
| | \ \ | | / / \ \ | | / /
| | \ \ | | / / \ \ | | / /
| | \ \__ __ _ | | / / \ \ _ __ __ __ _| | / /
|_| \__ __ __\ |_| /_/ \_\ /_ __ __ __ ___| \/ team
Attaching package: 'Rfast'
The following object is masked from 'package:edgeR':
gini
Warning:
Variables contain NA's: Disease
Samples with missing data will be dropped.
RUNIT TEST PROTOCOL -- Wed Mar 12 12:28:43 2025
***********************************************
Number of test functions: 30
Number of errors: 0
Number of failures: 0
1 Test Suite :
variancePartition RUnit Tests - 30 test functions, 0 errors, 0 failures
Number of test functions: 30
Number of errors: 0
Number of failures: 0
There were 30 warnings (use warnings() to see them)
>
> proc.time()
user system elapsed
168.236 4.823 231.529
variancePartition.Rcheck/variancePartition-Ex.timings
| name | user | system | elapsed | |
| ESS-method | 0.085 | 0.008 | 0.094 | |
| as.data.frame.varPartResults | 0.203 | 0.006 | 0.210 | |
| as.matrix-varPartResults-method | 0.138 | 0.002 | 0.147 | |
| augmentPriorCount | 0.639 | 0.036 | 0.727 | |
| calcVarPart-method | 0.039 | 0.003 | 0.043 | |
| canCorPairs | 0.061 | 0.005 | 0.066 | |
| colinearityScore | 0.270 | 0.008 | 0.283 | |
| deviation-method | 0.789 | 0.031 | 0.864 | |
| diffVar-method | 0.739 | 0.033 | 0.819 | |
| dream-method | 3.504 | 0.068 | 17.608 | |
| extractVarPart | 15.232 | 0.077 | 15.466 | |
| fitExtractVarPartModel-method | 23.924 | 0.114 | 24.574 | |
| fitVarPartModel-method | 31.518 | 0.134 | 32.022 | |
| getContrast-method | 0.008 | 0.002 | 0.011 | |
| getTreat-method | 21.339 | 0.088 | 21.602 | |
| get_prediction-method | 0.099 | 0.012 | 0.115 | |
| ggColorHue | 0 | 0 | 0 | |
| makeContrastsDream | 1.574 | 0.011 | 1.596 | |
| mvTest-method | 6.033 | 0.119 | 13.065 | |
| plotCompareP-method | 16.115 | 0.072 | 16.310 | |
| plotContrasts | 0.114 | 0.004 | 0.119 | |
| plotCorrMatrix | 0.030 | 0.005 | 0.035 | |
| plotCorrStructure | 0.613 | 0.025 | 0.653 | |
| plotPercentBars-method | 7.944 | 0.038 | 8.032 | |
| plotStratify | 0.674 | 0.009 | 0.685 | |
| plotStratifyBy | 0.677 | 0.009 | 0.688 | |
| plotVarPart-method | 7.991 | 0.034 | 8.086 | |
| rdf | 0.035 | 0.003 | 0.038 | |
| rdf.merMod | 0.060 | 0.002 | 0.062 | |
| residuals-VarParFitList-method | 7.473 | 0.029 | 7.528 | |
| sortCols-method | 8.186 | 0.039 | 8.278 | |
| varPartConfInf | 10.316 | 0.042 | 10.408 | |
| vcovSqrt-method | 0.017 | 0.003 | 0.019 | |
| voomWithDreamWeights | 3.216 | 0.079 | 3.331 | |