| Back to Multiple platform build/check report for BioC 3.20: simplified long | 
  | 
This page was generated on 2024-11-20 12:07 -0500 (Wed, 20 Nov 2024).
| Hostname | OS | Arch (*) | R version | Installed pkgs | 
|---|---|---|---|---|
| teran2 | Linux (Ubuntu 24.04.1 LTS) | x86_64 | 4.4.2 (2024-10-31) -- "Pile of Leaves" | 4481 | 
| nebbiolo2 | Linux (Ubuntu 24.04.1 LTS) | x86_64 | 4.4.2 (2024-10-31) -- "Pile of Leaves" | 4479 | 
| palomino8 | Windows Server 2022 Datacenter | x64 | 4.4.2 (2024-10-31 ucrt) -- "Pile of Leaves" | 4359 | 
| lconway | macOS 12.7.1 Monterey | x86_64 | 4.4.1 (2024-06-14) -- "Race for Your Life" | 4539 | 
| kunpeng2 | Linux (openEuler 22.03 LTS-SP1) | aarch64 | 4.4.1 (2024-06-14) -- "Race for Your Life" | 4493 | 
| Click on any hostname to see more info about the system (e.g. compilers) (*) as reported by 'uname -p', except on Windows and Mac OS X | ||||
| Package 2147/2289 | Hostname | OS / Arch | INSTALL | BUILD | CHECK | BUILD BIN | ||||||||
| tidytof 1.0.0  (landing page) Timothy Keyes 
  | teran2 | Linux (Ubuntu 24.04.1 LTS) / x86_64 | OK | OK | OK | |||||||||
| nebbiolo2 | Linux (Ubuntu 24.04.1 LTS) / x86_64 | OK | OK | OK | ||||||||||
| palomino8 | Windows Server 2022 Datacenter / x64 | OK | OK | ERROR | OK | |||||||||
| lconway | macOS 12.7.1 Monterey / x86_64 | OK | OK | OK | OK | |||||||||
| kunpeng2 | Linux (openEuler 22.03 LTS-SP1) / aarch64 | OK | OK | OK | ||||||||||
| 
To the developers/maintainers of the tidytof package: - Allow up to 24 hours (and sometimes 48 hours) for your latest push to git@git.bioconductor.org:packages/tidytof.git to reflect on this report. See Troubleshooting Build Report for more information. - Use the following Renviron settings to reproduce errors and warnings. - If 'R CMD check' started to fail recently on the Linux builder(s) over a missing dependency, add the missing dependency to 'Suggests:' in your DESCRIPTION file. See Renviron.bioc for more information.  | 
| Package: tidytof | 
| Version: 1.0.0 | 
| Command: /Library/Frameworks/R.framework/Resources/bin/R CMD check --install=check:tidytof.install-out.txt --library=/Library/Frameworks/R.framework/Resources/library --no-vignettes --timings tidytof_1.0.0.tar.gz | 
| StartedAt: 2024-11-20 03:25:09 -0500 (Wed, 20 Nov 2024) | 
| EndedAt: 2024-11-20 03:33:56 -0500 (Wed, 20 Nov 2024) | 
| EllapsedTime: 527.4 seconds | 
| RetCode: 0 | 
| Status: OK | 
| CheckDir: tidytof.Rcheck | 
| Warnings: 0 | 
##############################################################################
##############################################################################
###
### Running command:
###
###   /Library/Frameworks/R.framework/Resources/bin/R CMD check --install=check:tidytof.install-out.txt --library=/Library/Frameworks/R.framework/Resources/library --no-vignettes --timings tidytof_1.0.0.tar.gz
###
##############################################################################
##############################################################################
* using log directory ‘/Users/biocbuild/bbs-3.20-bioc/meat/tidytof.Rcheck’
* using R version 4.4.1 (2024-06-14)
* using platform: x86_64-apple-darwin20
* R was compiled by
    Apple clang version 14.0.0 (clang-1400.0.29.202)
    GNU Fortran (GCC) 12.2.0
* running under: macOS Monterey 12.7.6
* using session charset: UTF-8
* using option ‘--no-vignettes’
* checking for file ‘tidytof/DESCRIPTION’ ... OK
* checking extension type ... Package
* this is package ‘tidytof’ version ‘1.0.0’
* package encoding: UTF-8
* checking package namespace information ... OK
* checking package dependencies ...Warning: unable to access index for repository https://CRAN.R-project.org/src/contrib:
  cannot open URL 'https://CRAN.R-project.org/src/contrib/PACKAGES'
 OK
* checking if this is a source package ... OK
* checking if there is a namespace ... OK
* checking for hidden files and directories ... OK
* checking for portable file names ... OK
* checking for sufficient/correct file permissions ... OK
* checking whether package ‘tidytof’ can be installed ... OK
* used C++ compiler: ‘Apple clang version 14.0.0 (clang-1400.0.29.202)’
* used SDK: ‘MacOSX11.3.sdk’
* checking installed package size ... OK
* checking package directory ... OK
* checking ‘build’ directory ... OK
* checking DESCRIPTION meta-information ... OK
* checking top-level files ... OK
* checking for left-over files ... OK
* checking index information ... OK
* checking package subdirectories ... OK
* checking code files for non-ASCII characters ... OK
* checking R files for syntax errors ... OK
* checking whether the package can be loaded ... OK
* checking whether the package can be loaded with stated dependencies ... OK
* checking whether the package can be unloaded cleanly ... OK
* checking whether the namespace can be loaded with stated dependencies ... OK
* checking whether the namespace can be unloaded cleanly ... OK
* checking dependencies in R code ... OK
* checking S3 generic/method consistency ... OK
* checking replacement functions ... OK
* checking foreign function calls ... OK
* checking R code for possible problems ... OK
* checking Rd files ... OK
* checking Rd metadata ... OK
* checking Rd cross-references ... OK
* checking for missing documentation entries ... OK
* checking for code/documentation mismatches ... OK
* checking Rd \usage sections ... OK
* checking Rd contents ... OK
* checking for unstated dependencies in examples ... OK
* checking contents of ‘data’ directory ... OK
* checking data for non-ASCII characters ... OK
* checking data for ASCII and uncompressed saves ... OK
* checking R/sysdata.rda ... OK
* checking line endings in C/C++/Fortran sources/headers ... OK
* checking compiled code ... NOTE
Note: information on .o files is not available
* checking files in ‘vignettes’ ... OK
* checking examples ... OK
Examples with CPU (user + system) or elapsed time > 5s
                         user system elapsed
tof_assess_clusters_knn 6.165  0.052   6.245
* checking for unstated dependencies in ‘tests’ ... OK
* checking tests ...
  Running ‘spelling.R’
  Running ‘testthat.R’
 OK
* checking for unstated dependencies in vignettes ... OK
* checking package vignettes ... OK
* checking running R code from vignettes ... SKIPPED
* checking re-building of vignette outputs ... SKIPPED
* checking PDF version of manual ... OK
* DONE
Status: 1 NOTE
See
  ‘/Users/biocbuild/bbs-3.20-bioc/meat/tidytof.Rcheck/00check.log’
for details.
tidytof.Rcheck/00install.out
############################################################################## ############################################################################## ### ### Running command: ### ### /Library/Frameworks/R.framework/Resources/bin/R CMD INSTALL tidytof ### ############################################################################## ############################################################################## * installing to library ‘/Library/Frameworks/R.framework/Versions/4.4-x86_64/Resources/library’ * installing *source* package ‘tidytof’ ... ** using staged installation ** libs using C++ compiler: ‘Apple clang version 14.0.0 (clang-1400.0.29.202)’ using SDK: ‘MacOSX11.3.sdk’ clang++ -arch x86_64 -std=gnu++17 -I"/Library/Frameworks/R.framework/Resources/include" -DNDEBUG -I'/Library/Frameworks/R.framework/Versions/4.4-x86_64/Resources/library/Rcpp/include' -I/opt/R/x86_64/include -fPIC -falign-functions=64 -Wall -g -O2 -c RcppExports.cpp -o RcppExports.o clang++ -arch x86_64 -std=gnu++17 -I"/Library/Frameworks/R.framework/Resources/include" -DNDEBUG -I'/Library/Frameworks/R.framework/Versions/4.4-x86_64/Resources/library/Rcpp/include' -I/opt/R/x86_64/include -fPIC -falign-functions=64 -Wall -g -O2 -c code.cpp -o code.o clang++ -arch x86_64 -std=gnu++17 -dynamiclib -Wl,-headerpad_max_install_names -undefined dynamic_lookup -L/Library/Frameworks/R.framework/Resources/lib -L/opt/R/x86_64/lib -o tidytof.so RcppExports.o code.o -F/Library/Frameworks/R.framework/.. -framework R -Wl,-framework -Wl,CoreFoundation installing to /Library/Frameworks/R.framework/Versions/4.4-x86_64/Resources/library/00LOCK-tidytof/00new/tidytof/libs ** R ** data ** inst ** byte-compile and prepare package for lazy loading ** help *** installing help indices *** copying figures ** building package indices ** installing vignettes ** testing if installed package can be loaded from temporary location ** checking absolute paths in shared objects and dynamic libraries ** testing if installed package can be loaded from final location ** testing if installed package keeps a record of temporary installation path * DONE (tidytof)
tidytof.Rcheck/tests/spelling.Rout
R version 4.4.1 (2024-06-14) -- "Race for Your Life"
Copyright (C) 2024 The R Foundation for Statistical Computing
Platform: x86_64-apple-darwin20
R is free software and comes with ABSOLUTELY NO WARRANTY.
You are welcome to redistribute it under certain conditions.
Type 'license()' or 'licence()' for distribution details.
R is a collaborative project with many contributors.
Type 'contributors()' for more information and
'citation()' on how to cite R or R packages in publications.
Type 'demo()' for some demos, 'help()' for on-line help, or
'help.start()' for an HTML browser interface to help.
Type 'q()' to quit R.
> if (requireNamespace("spelling", quietly = TRUE)) {
+     spelling::spell_check_test(
+         vignettes = TRUE, error = FALSE,
+         skip_on_cran = TRUE
+     )
+ }
NULL
> 
> proc.time()
   user  system elapsed 
  0.180   0.072   0.250 
tidytof.Rcheck/tests/testthat.Rout
R version 4.4.1 (2024-06-14) -- "Race for Your Life"
Copyright (C) 2024 The R Foundation for Statistical Computing
Platform: x86_64-apple-darwin20
R is free software and comes with ABSOLUTELY NO WARRANTY.
You are welcome to redistribute it under certain conditions.
Type 'license()' or 'licence()' for distribution details.
R is a collaborative project with many contributors.
Type 'contributors()' for more information and
'citation()' on how to cite R or R packages in publications.
Type 'demo()' for some demos, 'help()' for on-line help, or
'help.start()' for an HTML browser interface to help.
Type 'q()' to quit R.
> Sys.setenv(R_TESTS="")
> library(testthat)
> library(tidytof)
Attaching package: 'tidytof'
The following object is masked from 'package:testthat':
    matches
> test_check("tidytof")
Attaching package: 'dplyr'
The following object is masked from 'package:testthat':
    matches
The following objects are masked from 'package:stats':
    filter, lag
The following objects are masked from 'package:base':
    intersect, setdiff, setequal, union
Attaching package: 'purrr'
The following object is masked from 'package:testthat':
    is_null
Attaching package: 'tidyr'
The following object is masked from 'package:testthat':
    matches
Loading required namespace: diffcyt
Attaching package: 'readr'
The following objects are masked from 'package:testthat':
    edition_get, local_edition
[ FAIL 0 | WARN 0 | SKIP 0 | PASS 709 ]
> 
> proc.time()
   user  system elapsed 
147.190   4.987 150.296 
tidytof.Rcheck/tidytof-Ex.timings
| name | user | system | elapsed | |
| as_SingleCellExperiment | 0 | 0 | 0 | |
| as_flowFrame | 0.000 | 0.001 | 0.000 | |
| as_flowSet | 0.000 | 0.000 | 0.001 | |
| as_seurat | 0.000 | 0.000 | 0.001 | |
| as_tof_tbl | 0.046 | 0.004 | 0.051 | |
| make_flowcore_annotated_data_frame | 0 | 0 | 0 | |
| reexports | 0 | 0 | 0 | |
| rev_asinh | 0 | 0 | 0 | |
| tidytof_example_data | 0.002 | 0.001 | 0.003 | |
| tof_analyze_abundance | 0.000 | 0.000 | 0.001 | |
| tof_analyze_abundance_diffcyt | 0 | 0 | 0 | |
| tof_analyze_abundance_glmm | 0 | 0 | 0 | |
| tof_analyze_abundance_ttest | 0.000 | 0.001 | 0.000 | |
| tof_analyze_expression | 0 | 0 | 0 | |
| tof_analyze_expression_diffcyt | 0 | 0 | 0 | |
| tof_analyze_expression_lmm | 0.000 | 0.000 | 0.001 | |
| tof_analyze_expression_ttest | 0 | 0 | 0 | |
| tof_annotate_clusters | 0.081 | 0.009 | 0.090 | |
| tof_apply_classifier | 0 | 0 | 0 | |
| tof_assess_channels | 0.070 | 0.005 | 0.075 | |
| tof_assess_clusters_distance | 0.354 | 0.029 | 0.384 | |
| tof_assess_clusters_entropy | 0.519 | 0.005 | 0.526 | |
| tof_assess_clusters_knn | 6.165 | 0.052 | 6.245 | |
| tof_assess_flow_rate | 0.543 | 0.008 | 0.554 | |
| tof_assess_flow_rate_tibble | 0.139 | 0.002 | 0.142 | |
| tof_assess_model | 0.268 | 0.005 | 0.275 | |
| tof_batch_correct | 0.000 | 0.000 | 0.001 | |
| tof_batch_correct_quantile | 0 | 0 | 0 | |
| tof_batch_correct_quantile_tibble | 0 | 0 | 0 | |
| tof_batch_correct_rescale | 0 | 0 | 0 | |
| tof_calculate_flow_rate | 0.011 | 0.001 | 0.012 | |
| tof_cluster | 0.400 | 0.010 | 0.414 | |
| tof_cluster_ddpr | 0.139 | 0.002 | 0.141 | |
| tof_cluster_flowsom | 3.847 | 0.588 | 4.478 | |
| tof_cluster_kmeans | 0.028 | 0.001 | 0.030 | |
| tof_cluster_phenograph | 1.406 | 0.056 | 1.470 | |
| tof_cosine_dist | 0 | 0 | 0 | |
| tof_create_grid | 0.041 | 0.000 | 0.042 | |
| tof_downsample | 0.133 | 0.001 | 0.134 | |
| tof_downsample_constant | 0.076 | 0.008 | 0.085 | |
| tof_downsample_density | 0.463 | 0.004 | 0.469 | |
| tof_downsample_prop | 0.055 | 0.000 | 0.055 | |
| tof_estimate_density | 0.318 | 0.003 | 0.323 | |
| tof_extract_central_tendency | 0.162 | 0.010 | 0.173 | |
| tof_extract_emd | 1.025 | 0.086 | 1.128 | |
| tof_extract_features | 0.488 | 0.010 | 0.501 | |
| tof_extract_jsd | 0.826 | 0.107 | 0.965 | |
| tof_extract_proportion | 0.099 | 0.001 | 0.100 | |
| tof_extract_threshold | 0.128 | 0.000 | 0.129 | |
| tof_find_knn | 0.168 | 0.146 | 0.315 | |
| tof_generate_palette | 0 | 0 | 0 | |
| tof_get_model_mixture | 0.175 | 0.001 | 0.177 | |
| tof_get_model_outcomes | 0.157 | 0.001 | 0.158 | |
| tof_get_model_penalty | 0.165 | 0.002 | 0.166 | |
| tof_get_model_training_data | 0.181 | 0.000 | 0.182 | |
| tof_get_model_type | 0.161 | 0.000 | 0.163 | |
| tof_get_model_x | 0.170 | 0.002 | 0.172 | |
| tof_get_model_y | 0.165 | 0.001 | 0.166 | |
| tof_get_panel | 0.031 | 0.001 | 0.032 | |
| tof_log_rank_test | 0 | 0 | 0 | |
| tof_make_knn_graph | 0 | 0 | 0 | |
| tof_make_roc_curve | 0.233 | 0.001 | 0.234 | |
| tof_metacluster | 0.515 | 0.040 | 0.562 | |
| tof_metacluster_consensus | 0.229 | 0.019 | 0.253 | |
| tof_metacluster_flowsom | 0.523 | 0.057 | 0.586 | |
| tof_metacluster_hierarchical | 0.039 | 0.000 | 0.040 | |
| tof_metacluster_kmeans | 0.04 | 0.00 | 0.04 | |
| tof_metacluster_phenograph | 0.055 | 0.001 | 0.055 | |
| tof_plot_cells_density | 0.025 | 0.000 | 0.025 | |
| tof_plot_cells_embedding | 2.270 | 0.099 | 2.399 | |
| tof_plot_cells_layout | 2.793 | 0.007 | 2.807 | |
| tof_plot_cells_scatter | 0.002 | 0.000 | 0.002 | |
| tof_plot_clusters_heatmap | 0.043 | 0.000 | 0.043 | |
| tof_plot_clusters_mst | 0.155 | 0.001 | 0.157 | |
| tof_plot_clusters_volcano | 0.025 | 0.000 | 0.025 | |
| tof_plot_model | 0.453 | 0.007 | 0.462 | |
| tof_plot_sample_features | 0.074 | 0.000 | 0.074 | |
| tof_plot_sample_heatmap | 0.047 | 0.000 | 0.048 | |
| tof_postprocess | 0.081 | 0.002 | 0.083 | |
| tof_predict | 0.191 | 0.002 | 0.195 | |
| tof_preprocess | 0.131 | 0.002 | 0.133 | |
| tof_read_data | 0.062 | 0.001 | 0.063 | |
| tof_reduce_dimensions | 1.804 | 0.042 | 1.846 | |
| tof_reduce_pca | 0.119 | 0.001 | 0.120 | |
| tof_reduce_tsne | 0.661 | 0.026 | 0.690 | |
| tof_reduce_umap | 2.813 | 0.047 | 2.830 | |
| tof_set_panel | 0.070 | 0.002 | 0.073 | |
| tof_spade_density | 0.441 | 0.003 | 0.446 | |
| tof_split_data | 0.044 | 0.002 | 0.046 | |
| tof_split_tidytof_reduced_dimensions | 0 | 0 | 0 | |
| tof_train_model | 1.110 | 0.014 | 1.128 | |
| tof_transform | 0.125 | 0.001 | 0.127 | |
| tof_upsample | 0.180 | 0.002 | 0.184 | |
| tof_upsample_distance | 0.321 | 0.004 | 0.327 | |
| tof_upsample_neighbor | 0.052 | 0.001 | 0.054 | |
| tof_write_data | 0 | 0 | 0 | |
| tof_write_fcs | 0.001 | 0.000 | 0.000 | |
| where | 0 | 0 | 0 | |