| Back to Multiple platform build/check report for BioC 3.20: simplified long |
|
This page was generated on 2025-04-02 19:29 -0400 (Wed, 02 Apr 2025).
| Hostname | OS | Arch (*) | R version | Installed pkgs |
|---|---|---|---|---|
| nebbiolo2 | Linux (Ubuntu 24.04.1 LTS) | x86_64 | 4.4.3 (2025-02-28) -- "Trophy Case" | 4764 |
| palomino8 | Windows Server 2022 Datacenter | x64 | 4.4.3 (2025-02-28 ucrt) -- "Trophy Case" | 4495 |
| merida1 | macOS 12.7.5 Monterey | x86_64 | 4.4.3 (2025-02-28) -- "Trophy Case" | 4522 |
| kjohnson1 | macOS 13.6.6 Ventura | arm64 | 4.4.3 (2025-02-28) -- "Trophy Case" | 4449 |
| taishan | Linux (openEuler 24.03 LTS) | aarch64 | 4.4.3 (2025-02-28) -- "Trophy Case" | 4426 |
| Click on any hostname to see more info about the system (e.g. compilers) (*) as reported by 'uname -p', except on Windows and Mac OS X | ||||
| Package 2145/2289 | Hostname | OS / Arch | INSTALL | BUILD | CHECK | BUILD BIN | ||||||||
| tidySpatialExperiment 1.2.0 (landing page) William Hutchison
| nebbiolo2 | Linux (Ubuntu 24.04.1 LTS) / x86_64 | OK | OK | OK | |||||||||
| palomino8 | Windows Server 2022 Datacenter / x64 | OK | OK | OK | OK | |||||||||
| merida1 | macOS 12.7.5 Monterey / x86_64 | OK | OK | OK | OK | |||||||||
| kjohnson1 | macOS 13.6.6 Ventura / arm64 | OK | OK | OK | OK | |||||||||
| taishan | Linux (openEuler 24.03 LTS) / aarch64 | OK | OK | OK | ||||||||||
|
To the developers/maintainers of the tidySpatialExperiment package: - Allow up to 24 hours (and sometimes 48 hours) for your latest push to git@git.bioconductor.org:packages/tidySpatialExperiment.git to reflect on this report. See Troubleshooting Build Report for more information. - Use the following Renviron settings to reproduce errors and warnings. - If 'R CMD check' started to fail recently on the Linux builder(s) over a missing dependency, add the missing dependency to 'Suggests:' in your DESCRIPTION file. See Renviron.bioc for more information. |
| Package: tidySpatialExperiment |
| Version: 1.2.0 |
| Command: /home/biocbuild/bbs-3.20-bioc/R/bin/R CMD check --install=check:tidySpatialExperiment.install-out.txt --library=/home/biocbuild/bbs-3.20-bioc/R/site-library --timings tidySpatialExperiment_1.2.0.tar.gz |
| StartedAt: 2025-04-01 02:56:17 -0400 (Tue, 01 Apr 2025) |
| EndedAt: 2025-04-01 03:00:30 -0400 (Tue, 01 Apr 2025) |
| EllapsedTime: 252.2 seconds |
| RetCode: 0 |
| Status: OK |
| CheckDir: tidySpatialExperiment.Rcheck |
| Warnings: 0 |
##############################################################################
##############################################################################
###
### Running command:
###
### /home/biocbuild/bbs-3.20-bioc/R/bin/R CMD check --install=check:tidySpatialExperiment.install-out.txt --library=/home/biocbuild/bbs-3.20-bioc/R/site-library --timings tidySpatialExperiment_1.2.0.tar.gz
###
##############################################################################
##############################################################################
* using log directory ‘/home/biocbuild/bbs-3.20-bioc/meat/tidySpatialExperiment.Rcheck’
* using R version 4.4.3 (2025-02-28)
* using platform: x86_64-pc-linux-gnu
* R was compiled by
gcc (Ubuntu 13.3.0-6ubuntu2~24.04) 13.3.0
GNU Fortran (Ubuntu 13.3.0-6ubuntu2~24.04) 13.3.0
* running under: Ubuntu 24.04.2 LTS
* using session charset: UTF-8
* checking for file ‘tidySpatialExperiment/DESCRIPTION’ ... OK
* checking extension type ... Package
* this is package ‘tidySpatialExperiment’ version ‘1.2.0’
* package encoding: UTF-8
* checking package namespace information ... OK
* checking package dependencies ... OK
* checking if this is a source package ... OK
* checking if there is a namespace ... OK
* checking for hidden files and directories ... OK
* checking for portable file names ... OK
* checking for sufficient/correct file permissions ... OK
* checking whether package ‘tidySpatialExperiment’ can be installed ... OK
* checking installed package size ... OK
* checking package directory ... OK
* checking ‘build’ directory ... OK
* checking DESCRIPTION meta-information ... OK
* checking top-level files ... OK
* checking for left-over files ... OK
* checking index information ... OK
* checking package subdirectories ... OK
* checking code files for non-ASCII characters ... OK
* checking R files for syntax errors ... OK
* checking whether the package can be loaded ... OK
* checking whether the package can be loaded with stated dependencies ... OK
* checking whether the package can be unloaded cleanly ... OK
* checking whether the namespace can be loaded with stated dependencies ... OK
* checking whether the namespace can be unloaded cleanly ... OK
* checking loading without being on the library search path ... OK
* checking dependencies in R code ... OK
* checking S3 generic/method consistency ... OK
* checking replacement functions ... OK
* checking foreign function calls ... OK
* checking R code for possible problems ... OK
* checking Rd files ... OK
* checking Rd metadata ... OK
* checking Rd cross-references ... OK
* checking for missing documentation entries ... OK
* checking for code/documentation mismatches ... OK
* checking Rd \usage sections ... OK
* checking Rd contents ... OK
* checking for unstated dependencies in examples ... OK
* checking contents of ‘data’ directory ... OK
* checking data for non-ASCII characters ... OK
* checking LazyData ... OK
* checking data for ASCII and uncompressed saves ... OK
* checking files in ‘vignettes’ ... OK
* checking examples ... OK
* checking for unstated dependencies in ‘tests’ ... OK
* checking tests ...
Running ‘testthat.R’
OK
* checking for unstated dependencies in vignettes ... OK
* checking package vignettes ... OK
* checking re-building of vignette outputs ... OK
* checking PDF version of manual ... OK
* DONE
Status: OK
tidySpatialExperiment.Rcheck/00install.out
############################################################################## ############################################################################## ### ### Running command: ### ### /home/biocbuild/bbs-3.20-bioc/R/bin/R CMD INSTALL tidySpatialExperiment ### ############################################################################## ############################################################################## * installing to library ‘/home/biocbuild/bbs-3.20-bioc/R/site-library’ * installing *source* package ‘tidySpatialExperiment’ ... ** using staged installation ** R ** data *** moving datasets to lazyload DB ** inst ** byte-compile and prepare package for lazy loading ** help *** installing help indices *** copying figures ** building package indices ** installing vignettes ** testing if installed package can be loaded from temporary location ** testing if installed package can be loaded from final location ** testing if installed package keeps a record of temporary installation path * DONE (tidySpatialExperiment)
tidySpatialExperiment.Rcheck/tests/testthat.Rout
R version 4.4.3 (2025-02-28) -- "Trophy Case"
Copyright (C) 2025 The R Foundation for Statistical Computing
Platform: x86_64-pc-linux-gnu
R is free software and comes with ABSOLUTELY NO WARRANTY.
You are welcome to redistribute it under certain conditions.
Type 'license()' or 'licence()' for distribution details.
R is a collaborative project with many contributors.
Type 'contributors()' for more information and
'citation()' on how to cite R or R packages in publications.
Type 'demo()' for some demos, 'help()' for on-line help, or
'help.start()' for an HTML browser interface to help.
Type 'q()' to quit R.
> library(testthat)
> library(tidySpatialExperiment)
Loading required package: SpatialExperiment
Loading required package: SingleCellExperiment
Loading required package: SummarizedExperiment
Loading required package: MatrixGenerics
Loading required package: matrixStats
Attaching package: 'MatrixGenerics'
The following objects are masked from 'package:matrixStats':
colAlls, colAnyNAs, colAnys, colAvgsPerRowSet, colCollapse,
colCounts, colCummaxs, colCummins, colCumprods, colCumsums,
colDiffs, colIQRDiffs, colIQRs, colLogSumExps, colMadDiffs,
colMads, colMaxs, colMeans2, colMedians, colMins, colOrderStats,
colProds, colQuantiles, colRanges, colRanks, colSdDiffs, colSds,
colSums2, colTabulates, colVarDiffs, colVars, colWeightedMads,
colWeightedMeans, colWeightedMedians, colWeightedSds,
colWeightedVars, rowAlls, rowAnyNAs, rowAnys, rowAvgsPerColSet,
rowCollapse, rowCounts, rowCummaxs, rowCummins, rowCumprods,
rowCumsums, rowDiffs, rowIQRDiffs, rowIQRs, rowLogSumExps,
rowMadDiffs, rowMads, rowMaxs, rowMeans2, rowMedians, rowMins,
rowOrderStats, rowProds, rowQuantiles, rowRanges, rowRanks,
rowSdDiffs, rowSds, rowSums2, rowTabulates, rowVarDiffs, rowVars,
rowWeightedMads, rowWeightedMeans, rowWeightedMedians,
rowWeightedSds, rowWeightedVars
Loading required package: GenomicRanges
Loading required package: stats4
Loading required package: BiocGenerics
Attaching package: 'BiocGenerics'
The following objects are masked from 'package:stats':
IQR, mad, sd, var, xtabs
The following objects are masked from 'package:base':
Filter, Find, Map, Position, Reduce, anyDuplicated, aperm, append,
as.data.frame, basename, cbind, colnames, dirname, do.call,
duplicated, eval, evalq, get, grep, grepl, intersect, is.unsorted,
lapply, mapply, match, mget, order, paste, pmax, pmax.int, pmin,
pmin.int, rank, rbind, rownames, sapply, saveRDS, setdiff, table,
tapply, union, unique, unsplit, which.max, which.min
Loading required package: S4Vectors
Attaching package: 'S4Vectors'
The following object is masked from 'package:utils':
findMatches
The following objects are masked from 'package:base':
I, expand.grid, unname
Loading required package: IRanges
Loading required package: GenomeInfoDb
Loading required package: Biobase
Welcome to Bioconductor
Vignettes contain introductory material; view with
'browseVignettes()'. To cite Bioconductor, see
'citation("Biobase")', and for packages 'citation("pkgname")'.
Attaching package: 'Biobase'
The following object is masked from 'package:MatrixGenerics':
rowMedians
The following objects are masked from 'package:matrixStats':
anyMissing, rowMedians
Loading required package: tidySingleCellExperiment
Attaching package: 'tidySpatialExperiment'
The following object is masked from 'package:tidySingleCellExperiment':
unnest_single_cell_experiment
>
> test_check("tidySpatialExperiment")
rd10xV> dir <- system.file(
rd10xV+ file.path("extdata", "10xVisium"),
rd10xV+ package = "SpatialExperiment")
rd10xV> sample_ids <- c("section1", "section2")
rd10xV> samples <- file.path(dir, sample_ids, "outs")
rd10xV> list.files(samples[1])
[1] "raw_feature_bc_matrix" "spatial"
rd10xV> list.files(file.path(samples[1], "spatial"))
[1] "scalefactors_json.json" "tissue_lowres_image.png"
[3] "tissue_positions_list.csv"
rd10xV> file.path(samples[1], "raw_feature_bc_matrix")
[1] "/home/biocbuild/bbs-3.20-bioc/R/site-library/SpatialExperiment/extdata/10xVisium/section1/outs/raw_feature_bc_matrix"
rd10xV> (spe <- read10xVisium(samples, sample_ids,
rd10xV+ type = "sparse", data = "raw",
rd10xV+ images = "lowres", load = FALSE))
# A SpatialExperiment-tibble abstraction: 99 × 7
# Features = 50 | Cells = 99 | Assays = counts
.cell in_tissue array_row array_col sample_id pxl_col_in_fullres
<chr> <lgl> <int> <int> <chr> <int>
1 AAACAACGAATAGTTC-1 FALSE 0 16 section1 2312
2 AAACAAGTATCTCCCA-1 TRUE 50 102 section1 8230
3 AAACAATCTACTAGCA-1 TRUE 3 43 section1 4170
4 AAACACCAATAACTGC-1 TRUE 59 19 section1 2519
5 AAACAGAGCGACTCCT-1 TRUE 14 94 section1 7679
6 AAACAGCTTTCAGAAG-1 FALSE 43 9 section1 1831
7 AAACAGGGTCTATATT-1 FALSE 47 13 section1 2106
8 AAACAGTGTTCCTGGG-1 FALSE 73 43 section1 4170
9 AAACATGGTGAGAGGA-1 FALSE 62 0 section1 1212
10 AAACATTTCCCGGATT-1 FALSE 61 97 section1 7886
# ℹ 89 more rows
# ℹ 1 more variable: pxl_row_in_fullres <int>
rd10xV> # base directory 'outs/' from Space Ranger can also be omitted
rd10xV> samples2 <- file.path(dir, sample_ids)
rd10xV> (spe2 <- read10xVisium(samples2, sample_ids,
rd10xV+ type = "sparse", data = "raw",
rd10xV+ images = "lowres", load = FALSE))
# A SpatialExperiment-tibble abstraction: 99 × 7
# Features = 50 | Cells = 99 | Assays = counts
.cell in_tissue array_row array_col sample_id pxl_col_in_fullres
<chr> <lgl> <int> <int> <chr> <int>
1 AAACAACGAATAGTTC-1 FALSE 0 16 section1 2312
2 AAACAAGTATCTCCCA-1 TRUE 50 102 section1 8230
3 AAACAATCTACTAGCA-1 TRUE 3 43 section1 4170
4 AAACACCAATAACTGC-1 TRUE 59 19 section1 2519
5 AAACAGAGCGACTCCT-1 TRUE 14 94 section1 7679
6 AAACAGCTTTCAGAAG-1 FALSE 43 9 section1 1831
7 AAACAGGGTCTATATT-1 FALSE 47 13 section1 2106
8 AAACAGTGTTCCTGGG-1 FALSE 73 43 section1 4170
9 AAACATGGTGAGAGGA-1 FALSE 62 0 section1 1212
10 AAACATTTCCCGGATT-1 FALSE 61 97 section1 7886
# ℹ 89 more rows
# ℹ 1 more variable: pxl_row_in_fullres <int>
rd10xV> # tabulate number of spots mapped to tissue
rd10xV> cd <- colData(spe)
rd10xV> table(
rd10xV+ in_tissue = cd$in_tissue,
rd10xV+ sample_id = cd$sample_id)
sample_id
in_tissue section1 section2
FALSE 28 27
TRUE 22 22
rd10xV> # view available images
rd10xV> imgData(spe)
DataFrame with 2 rows and 4 columns
sample_id image_id data scaleFactor
<character> <character> <list> <numeric>
1 section1 lowres #### 0.0510334
2 section2 lowres #### 0.0510334
rd10xV> dir <- system.file(
rd10xV+ file.path("extdata", "10xVisium"),
rd10xV+ package = "SpatialExperiment")
rd10xV> sample_ids <- c("section1", "section2")
rd10xV> samples <- file.path(dir, sample_ids, "outs")
rd10xV> list.files(samples[1])
[1] "raw_feature_bc_matrix" "spatial"
rd10xV> list.files(file.path(samples[1], "spatial"))
[1] "scalefactors_json.json" "tissue_lowres_image.png"
[3] "tissue_positions_list.csv"
rd10xV> file.path(samples[1], "raw_feature_bc_matrix")
[1] "/home/biocbuild/bbs-3.20-bioc/R/site-library/SpatialExperiment/extdata/10xVisium/section1/outs/raw_feature_bc_matrix"
rd10xV> (spe <- read10xVisium(samples, sample_ids,
rd10xV+ type = "sparse", data = "raw",
rd10xV+ images = "lowres", load = FALSE))
# A SpatialExperiment-tibble abstraction: 99 × 7
# Features = 50 | Cells = 99 | Assays = counts
.cell in_tissue array_row array_col sample_id pxl_col_in_fullres
<chr> <lgl> <int> <int> <chr> <int>
1 AAACAACGAATAGTTC-1 FALSE 0 16 section1 2312
2 AAACAAGTATCTCCCA-1 TRUE 50 102 section1 8230
3 AAACAATCTACTAGCA-1 TRUE 3 43 section1 4170
4 AAACACCAATAACTGC-1 TRUE 59 19 section1 2519
5 AAACAGAGCGACTCCT-1 TRUE 14 94 section1 7679
6 AAACAGCTTTCAGAAG-1 FALSE 43 9 section1 1831
7 AAACAGGGTCTATATT-1 FALSE 47 13 section1 2106
8 AAACAGTGTTCCTGGG-1 FALSE 73 43 section1 4170
9 AAACATGGTGAGAGGA-1 FALSE 62 0 section1 1212
10 AAACATTTCCCGGATT-1 FALSE 61 97 section1 7886
# ℹ 89 more rows
# ℹ 1 more variable: pxl_row_in_fullres <int>
rd10xV> # base directory 'outs/' from Space Ranger can also be omitted
rd10xV> samples2 <- file.path(dir, sample_ids)
rd10xV> (spe2 <- read10xVisium(samples2, sample_ids,
rd10xV+ type = "sparse", data = "raw",
rd10xV+ images = "lowres", load = FALSE))
# A SpatialExperiment-tibble abstraction: 99 × 7
# Features = 50 | Cells = 99 | Assays = counts
.cell in_tissue array_row array_col sample_id pxl_col_in_fullres
<chr> <lgl> <int> <int> <chr> <int>
1 AAACAACGAATAGTTC-1 FALSE 0 16 section1 2312
2 AAACAAGTATCTCCCA-1 TRUE 50 102 section1 8230
3 AAACAATCTACTAGCA-1 TRUE 3 43 section1 4170
4 AAACACCAATAACTGC-1 TRUE 59 19 section1 2519
5 AAACAGAGCGACTCCT-1 TRUE 14 94 section1 7679
6 AAACAGCTTTCAGAAG-1 FALSE 43 9 section1 1831
7 AAACAGGGTCTATATT-1 FALSE 47 13 section1 2106
8 AAACAGTGTTCCTGGG-1 FALSE 73 43 section1 4170
9 AAACATGGTGAGAGGA-1 FALSE 62 0 section1 1212
10 AAACATTTCCCGGATT-1 FALSE 61 97 section1 7886
# ℹ 89 more rows
# ℹ 1 more variable: pxl_row_in_fullres <int>
rd10xV> # tabulate number of spots mapped to tissue
rd10xV> cd <- colData(spe)
rd10xV> table(
rd10xV+ in_tissue = cd$in_tissue,
rd10xV+ sample_id = cd$sample_id)
sample_id
in_tissue section1 section2
FALSE 28 27
TRUE 22 22
rd10xV> # view available images
rd10xV> imgData(spe)
DataFrame with 2 rows and 4 columns
sample_id image_id data scaleFactor
<character> <character> <list> <numeric>
1 section1 lowres #### 0.0510334
2 section2 lowres #### 0.0510334
rd10xV> dir <- system.file(
rd10xV+ file.path("extdata", "10xVisium"),
rd10xV+ package = "SpatialExperiment")
rd10xV> sample_ids <- c("section1", "section2")
rd10xV> samples <- file.path(dir, sample_ids, "outs")
rd10xV> list.files(samples[1])
[1] "raw_feature_bc_matrix" "spatial"
rd10xV> list.files(file.path(samples[1], "spatial"))
[1] "scalefactors_json.json" "tissue_lowres_image.png"
[3] "tissue_positions_list.csv"
rd10xV> file.path(samples[1], "raw_feature_bc_matrix")
[1] "/home/biocbuild/bbs-3.20-bioc/R/site-library/SpatialExperiment/extdata/10xVisium/section1/outs/raw_feature_bc_matrix"
rd10xV> (spe <- read10xVisium(samples, sample_ids,
rd10xV+ type = "sparse", data = "raw",
rd10xV+ images = "lowres", load = FALSE))
# A SpatialExperiment-tibble abstraction: 99 × 7
# Features = 50 | Cells = 99 | Assays = counts
.cell in_tissue array_row array_col sample_id pxl_col_in_fullres
<chr> <lgl> <int> <int> <chr> <int>
1 AAACAACGAATAGTTC-1 FALSE 0 16 section1 2312
2 AAACAAGTATCTCCCA-1 TRUE 50 102 section1 8230
3 AAACAATCTACTAGCA-1 TRUE 3 43 section1 4170
4 AAACACCAATAACTGC-1 TRUE 59 19 section1 2519
5 AAACAGAGCGACTCCT-1 TRUE 14 94 section1 7679
6 AAACAGCTTTCAGAAG-1 FALSE 43 9 section1 1831
7 AAACAGGGTCTATATT-1 FALSE 47 13 section1 2106
8 AAACAGTGTTCCTGGG-1 FALSE 73 43 section1 4170
9 AAACATGGTGAGAGGA-1 FALSE 62 0 section1 1212
10 AAACATTTCCCGGATT-1 FALSE 61 97 section1 7886
# ℹ 89 more rows
# ℹ 1 more variable: pxl_row_in_fullres <int>
rd10xV> # base directory 'outs/' from Space Ranger can also be omitted
rd10xV> samples2 <- file.path(dir, sample_ids)
rd10xV> (spe2 <- read10xVisium(samples2, sample_ids,
rd10xV+ type = "sparse", data = "raw",
rd10xV+ images = "lowres", load = FALSE))
# A SpatialExperiment-tibble abstraction: 99 × 7
# Features = 50 | Cells = 99 | Assays = counts
.cell in_tissue array_row array_col sample_id pxl_col_in_fullres
<chr> <lgl> <int> <int> <chr> <int>
1 AAACAACGAATAGTTC-1 FALSE 0 16 section1 2312
2 AAACAAGTATCTCCCA-1 TRUE 50 102 section1 8230
3 AAACAATCTACTAGCA-1 TRUE 3 43 section1 4170
4 AAACACCAATAACTGC-1 TRUE 59 19 section1 2519
5 AAACAGAGCGACTCCT-1 TRUE 14 94 section1 7679
6 AAACAGCTTTCAGAAG-1 FALSE 43 9 section1 1831
7 AAACAGGGTCTATATT-1 FALSE 47 13 section1 2106
8 AAACAGTGTTCCTGGG-1 FALSE 73 43 section1 4170
9 AAACATGGTGAGAGGA-1 FALSE 62 0 section1 1212
10 AAACATTTCCCGGATT-1 FALSE 61 97 section1 7886
# ℹ 89 more rows
# ℹ 1 more variable: pxl_row_in_fullres <int>
rd10xV> # tabulate number of spots mapped to tissue
rd10xV> cd <- colData(spe)
rd10xV> table(
rd10xV+ in_tissue = cd$in_tissue,
rd10xV+ sample_id = cd$sample_id)
sample_id
in_tissue section1 section2
FALSE 28 27
TRUE 22 22
rd10xV> # view available images
rd10xV> imgData(spe)
DataFrame with 2 rows and 4 columns
sample_id image_id data scaleFactor
<character> <character> <list> <numeric>
1 section1 lowres #### 0.0510334
2 section2 lowres #### 0.0510334
[ FAIL 0 | WARN 3 | SKIP 0 | PASS 39 ]
[ FAIL 0 | WARN 3 | SKIP 0 | PASS 39 ]
>
> proc.time()
user system elapsed
17.628 0.850 18.468
tidySpatialExperiment.Rcheck/tidySpatialExperiment-Ex.timings
| name | user | system | elapsed | |
| aggregate_cells | 3.471 | 0.092 | 3.564 | |
| arrange | 1.201 | 0.009 | 1.210 | |
| as_tibble | 1.125 | 0.013 | 1.138 | |
| bind_cols | 1.243 | 0.014 | 1.257 | |
| bind_rows | 1.215 | 0.016 | 1.231 | |
| count | 1.330 | 0.009 | 1.339 | |
| distinct | 1.129 | 0.006 | 1.136 | |
| ellipse | 1.176 | 0.011 | 1.188 | |
| extract | 1.222 | 0.009 | 1.231 | |
| filter | 1.230 | 0.009 | 1.240 | |
| formatting | 1.172 | 0.010 | 1.182 | |
| gate | 1.294 | 0.010 | 1.304 | |
| gate_interactive | 1.099 | 0.010 | 1.108 | |
| gate_programmatic | 1.269 | 0.012 | 1.281 | |
| ggplot | 1.255 | 0.011 | 1.266 | |
| glimpse | 1.130 | 0.011 | 1.141 | |
| group_by | 1.158 | 0.013 | 1.170 | |
| inner_join | 1.991 | 0.010 | 2.002 | |
| join_features | 1.208 | 0.007 | 1.216 | |
| left_join | 1.289 | 0.012 | 1.302 | |
| mutate | 1.157 | 0.010 | 1.168 | |
| nest | 1.149 | 0.009 | 1.158 | |
| pivot_longer | 1.106 | 0.008 | 1.114 | |
| plot_ly | 1.182 | 0.019 | 1.201 | |
| pull | 1.102 | 0.007 | 1.109 | |
| rectangle | 1.162 | 0.012 | 1.173 | |
| rename | 1.258 | 0.009 | 1.267 | |
| right_join | 1.290 | 0.008 | 1.298 | |
| rowwise | 1.120 | 0.010 | 1.131 | |
| sample_n | 1.299 | 0.010 | 1.309 | |
| select | 1.095 | 0.013 | 1.108 | |
| separate | 1.190 | 0.009 | 1.199 | |
| slice | 1.191 | 0.014 | 1.205 | |
| summarise | 1.135 | 0.014 | 1.149 | |
| tbl_format_header | 0 | 0 | 0 | |
| unite | 1.199 | 0.010 | 1.209 | |
| unnest | 1.300 | 0.013 | 1.313 | |