| Back to Multiple platform build/check report for BioC 3.20: simplified long |
|
This page was generated on 2025-04-02 19:35 -0400 (Wed, 02 Apr 2025).
| Hostname | OS | Arch (*) | R version | Installed pkgs |
|---|---|---|---|---|
| nebbiolo2 | Linux (Ubuntu 24.04.1 LTS) | x86_64 | 4.4.3 (2025-02-28) -- "Trophy Case" | 4764 |
| palomino8 | Windows Server 2022 Datacenter | x64 | 4.4.3 (2025-02-28 ucrt) -- "Trophy Case" | 4495 |
| merida1 | macOS 12.7.5 Monterey | x86_64 | 4.4.3 (2025-02-28) -- "Trophy Case" | 4522 |
| kjohnson1 | macOS 13.6.6 Ventura | arm64 | 4.4.3 (2025-02-28) -- "Trophy Case" | 4449 |
| taishan | Linux (openEuler 24.03 LTS) | aarch64 | 4.4.3 (2025-02-28) -- "Trophy Case" | 4426 |
| Click on any hostname to see more info about the system (e.g. compilers) (*) as reported by 'uname -p', except on Windows and Mac OS X | ||||
| Package 2145/2289 | Hostname | OS / Arch | INSTALL | BUILD | CHECK | BUILD BIN | ||||||||
| tidySpatialExperiment 1.2.0 (landing page) William Hutchison
| nebbiolo2 | Linux (Ubuntu 24.04.1 LTS) / x86_64 | OK | OK | OK | |||||||||
| palomino8 | Windows Server 2022 Datacenter / x64 | OK | OK | OK | OK | |||||||||
| merida1 | macOS 12.7.5 Monterey / x86_64 | OK | OK | OK | OK | |||||||||
| kjohnson1 | macOS 13.6.6 Ventura / arm64 | OK | OK | OK | OK | |||||||||
| taishan | Linux (openEuler 24.03 LTS) / aarch64 | OK | OK | OK | ||||||||||
|
To the developers/maintainers of the tidySpatialExperiment package: - Allow up to 24 hours (and sometimes 48 hours) for your latest push to git@git.bioconductor.org:packages/tidySpatialExperiment.git to reflect on this report. See Troubleshooting Build Report for more information. - Use the following Renviron settings to reproduce errors and warnings. - If 'R CMD check' started to fail recently on the Linux builder(s) over a missing dependency, add the missing dependency to 'Suggests:' in your DESCRIPTION file. See Renviron.bioc for more information. |
| Package: tidySpatialExperiment |
| Version: 1.2.0 |
| Command: /Library/Frameworks/R.framework/Resources/bin/R CMD check --install=check:tidySpatialExperiment.install-out.txt --library=/Library/Frameworks/R.framework/Resources/library --no-vignettes --timings tidySpatialExperiment_1.2.0.tar.gz |
| StartedAt: 2025-04-02 11:21:39 -0400 (Wed, 02 Apr 2025) |
| EndedAt: 2025-04-02 11:26:33 -0400 (Wed, 02 Apr 2025) |
| EllapsedTime: 294.0 seconds |
| RetCode: 0 |
| Status: OK |
| CheckDir: tidySpatialExperiment.Rcheck |
| Warnings: 0 |
##############################################################################
##############################################################################
###
### Running command:
###
### /Library/Frameworks/R.framework/Resources/bin/R CMD check --install=check:tidySpatialExperiment.install-out.txt --library=/Library/Frameworks/R.framework/Resources/library --no-vignettes --timings tidySpatialExperiment_1.2.0.tar.gz
###
##############################################################################
##############################################################################
* using log directory ‘/Users/biocbuild/bbs-3.20-bioc/meat/tidySpatialExperiment.Rcheck’
* using R version 4.4.3 (2025-02-28)
* using platform: aarch64-apple-darwin20
* R was compiled by
Apple clang version 14.0.0 (clang-1400.0.29.202)
GNU Fortran (GCC) 12.2.0
* running under: macOS Ventura 13.7.1
* using session charset: UTF-8
* using option ‘--no-vignettes’
* checking for file ‘tidySpatialExperiment/DESCRIPTION’ ... OK
* checking extension type ... Package
* this is package ‘tidySpatialExperiment’ version ‘1.2.0’
* package encoding: UTF-8
* checking package namespace information ... OK
* checking package dependencies ... OK
* checking if this is a source package ... OK
* checking if there is a namespace ... OK
* checking for hidden files and directories ... OK
* checking for portable file names ... OK
* checking for sufficient/correct file permissions ... OK
* checking whether package ‘tidySpatialExperiment’ can be installed ... OK
* checking installed package size ... OK
* checking package directory ... OK
* checking ‘build’ directory ... OK
* checking DESCRIPTION meta-information ... OK
* checking top-level files ... OK
* checking for left-over files ... OK
* checking index information ... OK
* checking package subdirectories ... OK
* checking code files for non-ASCII characters ... OK
* checking R files for syntax errors ... OK
* checking whether the package can be loaded ... OK
* checking whether the package can be loaded with stated dependencies ... OK
* checking whether the package can be unloaded cleanly ... OK
* checking whether the namespace can be loaded with stated dependencies ... OK
* checking whether the namespace can be unloaded cleanly ... OK
* checking dependencies in R code ... OK
* checking S3 generic/method consistency ... OK
* checking replacement functions ... OK
* checking foreign function calls ... OK
* checking R code for possible problems ... OK
* checking Rd files ... OK
* checking Rd metadata ... OK
* checking Rd cross-references ... OK
* checking for missing documentation entries ... OK
* checking for code/documentation mismatches ... OK
* checking Rd \usage sections ... OK
* checking Rd contents ... OK
* checking for unstated dependencies in examples ... OK
* checking contents of ‘data’ directory ... OK
* checking data for non-ASCII characters ... OK
* checking LazyData ... OK
* checking data for ASCII and uncompressed saves ... OK
* checking files in ‘vignettes’ ... OK
* checking examples ... OK
* checking for unstated dependencies in ‘tests’ ... OK
* checking tests ...
Running ‘testthat.R’
OK
* checking for unstated dependencies in vignettes ... OK
* checking package vignettes ... OK
* checking running R code from vignettes ... SKIPPED
* checking re-building of vignette outputs ... SKIPPED
* checking PDF version of manual ... OK
* DONE
Status: OK
tidySpatialExperiment.Rcheck/00install.out
############################################################################## ############################################################################## ### ### Running command: ### ### /Library/Frameworks/R.framework/Resources/bin/R CMD INSTALL tidySpatialExperiment ### ############################################################################## ############################################################################## * installing to library ‘/Library/Frameworks/R.framework/Versions/4.4-arm64/Resources/library’ * installing *source* package ‘tidySpatialExperiment’ ... ** using staged installation ** R ** data *** moving datasets to lazyload DB ** inst ** byte-compile and prepare package for lazy loading ** help *** installing help indices *** copying figures ** building package indices ** installing vignettes ** testing if installed package can be loaded from temporary location ** testing if installed package can be loaded from final location ** testing if installed package keeps a record of temporary installation path * DONE (tidySpatialExperiment)
tidySpatialExperiment.Rcheck/tests/testthat.Rout
R version 4.4.3 (2025-02-28) -- "Trophy Case"
Copyright (C) 2025 The R Foundation for Statistical Computing
Platform: aarch64-apple-darwin20
R is free software and comes with ABSOLUTELY NO WARRANTY.
You are welcome to redistribute it under certain conditions.
Type 'license()' or 'licence()' for distribution details.
R is a collaborative project with many contributors.
Type 'contributors()' for more information and
'citation()' on how to cite R or R packages in publications.
Type 'demo()' for some demos, 'help()' for on-line help, or
'help.start()' for an HTML browser interface to help.
Type 'q()' to quit R.
> library(testthat)
> library(tidySpatialExperiment)
Loading required package: SpatialExperiment
Loading required package: SingleCellExperiment
Loading required package: SummarizedExperiment
Loading required package: MatrixGenerics
Loading required package: matrixStats
Attaching package: 'MatrixGenerics'
The following objects are masked from 'package:matrixStats':
colAlls, colAnyNAs, colAnys, colAvgsPerRowSet, colCollapse,
colCounts, colCummaxs, colCummins, colCumprods, colCumsums,
colDiffs, colIQRDiffs, colIQRs, colLogSumExps, colMadDiffs,
colMads, colMaxs, colMeans2, colMedians, colMins, colOrderStats,
colProds, colQuantiles, colRanges, colRanks, colSdDiffs, colSds,
colSums2, colTabulates, colVarDiffs, colVars, colWeightedMads,
colWeightedMeans, colWeightedMedians, colWeightedSds,
colWeightedVars, rowAlls, rowAnyNAs, rowAnys, rowAvgsPerColSet,
rowCollapse, rowCounts, rowCummaxs, rowCummins, rowCumprods,
rowCumsums, rowDiffs, rowIQRDiffs, rowIQRs, rowLogSumExps,
rowMadDiffs, rowMads, rowMaxs, rowMeans2, rowMedians, rowMins,
rowOrderStats, rowProds, rowQuantiles, rowRanges, rowRanks,
rowSdDiffs, rowSds, rowSums2, rowTabulates, rowVarDiffs, rowVars,
rowWeightedMads, rowWeightedMeans, rowWeightedMedians,
rowWeightedSds, rowWeightedVars
Loading required package: GenomicRanges
Loading required package: stats4
Loading required package: BiocGenerics
Attaching package: 'BiocGenerics'
The following objects are masked from 'package:stats':
IQR, mad, sd, var, xtabs
The following objects are masked from 'package:base':
Filter, Find, Map, Position, Reduce, anyDuplicated, aperm, append,
as.data.frame, basename, cbind, colnames, dirname, do.call,
duplicated, eval, evalq, get, grep, grepl, intersect, is.unsorted,
lapply, mapply, match, mget, order, paste, pmax, pmax.int, pmin,
pmin.int, rank, rbind, rownames, sapply, saveRDS, setdiff, table,
tapply, union, unique, unsplit, which.max, which.min
Loading required package: S4Vectors
Attaching package: 'S4Vectors'
The following object is masked from 'package:utils':
findMatches
The following objects are masked from 'package:base':
I, expand.grid, unname
Loading required package: IRanges
Loading required package: GenomeInfoDb
Loading required package: Biobase
Welcome to Bioconductor
Vignettes contain introductory material; view with
'browseVignettes()'. To cite Bioconductor, see
'citation("Biobase")', and for packages 'citation("pkgname")'.
Attaching package: 'Biobase'
The following object is masked from 'package:MatrixGenerics':
rowMedians
The following objects are masked from 'package:matrixStats':
anyMissing, rowMedians
Loading required package: tidySingleCellExperiment
Attaching package: 'tidySpatialExperiment'
The following object is masked from 'package:tidySingleCellExperiment':
unnest_single_cell_experiment
>
> test_check("tidySpatialExperiment")
rd10xV> dir <- system.file(
rd10xV+ file.path("extdata", "10xVisium"),
rd10xV+ package = "SpatialExperiment")
rd10xV> sample_ids <- c("section1", "section2")
rd10xV> samples <- file.path(dir, sample_ids, "outs")
rd10xV> list.files(samples[1])
[1] "raw_feature_bc_matrix" "spatial"
rd10xV> list.files(file.path(samples[1], "spatial"))
[1] "scalefactors_json.json" "tissue_lowres_image.png"
[3] "tissue_positions_list.csv"
rd10xV> file.path(samples[1], "raw_feature_bc_matrix")
[1] "/Library/Frameworks/R.framework/Versions/4.4-arm64/Resources/library/SpatialExperiment/extdata/10xVisium/section1/outs/raw_feature_bc_matrix"
rd10xV> (spe <- read10xVisium(samples, sample_ids,
rd10xV+ type = "sparse", data = "raw",
rd10xV+ images = "lowres", load = FALSE))
# A SpatialExperiment-tibble abstraction: 99 × 7
# Features = 50 | Cells = 99 | Assays = counts
.cell in_tissue array_row array_col sample_id pxl_col_in_fullres
<chr> <lgl> <int> <int> <chr> <int>
1 AAACAACGAATAGTTC-1 FALSE 0 16 section1 2312
2 AAACAAGTATCTCCCA-1 TRUE 50 102 section1 8230
3 AAACAATCTACTAGCA-1 TRUE 3 43 section1 4170
4 AAACACCAATAACTGC-1 TRUE 59 19 section1 2519
5 AAACAGAGCGACTCCT-1 TRUE 14 94 section1 7679
6 AAACAGCTTTCAGAAG-1 FALSE 43 9 section1 1831
7 AAACAGGGTCTATATT-1 FALSE 47 13 section1 2106
8 AAACAGTGTTCCTGGG-1 FALSE 73 43 section1 4170
9 AAACATGGTGAGAGGA-1 FALSE 62 0 section1 1212
10 AAACATTTCCCGGATT-1 FALSE 61 97 section1 7886
# ℹ 89 more rows
# ℹ 1 more variable: pxl_row_in_fullres <int>
rd10xV> # base directory 'outs/' from Space Ranger can also be omitted
rd10xV> samples2 <- file.path(dir, sample_ids)
rd10xV> (spe2 <- read10xVisium(samples2, sample_ids,
rd10xV+ type = "sparse", data = "raw",
rd10xV+ images = "lowres", load = FALSE))
# A SpatialExperiment-tibble abstraction: 99 × 7
# Features = 50 | Cells = 99 | Assays = counts
.cell in_tissue array_row array_col sample_id pxl_col_in_fullres
<chr> <lgl> <int> <int> <chr> <int>
1 AAACAACGAATAGTTC-1 FALSE 0 16 section1 2312
2 AAACAAGTATCTCCCA-1 TRUE 50 102 section1 8230
3 AAACAATCTACTAGCA-1 TRUE 3 43 section1 4170
4 AAACACCAATAACTGC-1 TRUE 59 19 section1 2519
5 AAACAGAGCGACTCCT-1 TRUE 14 94 section1 7679
6 AAACAGCTTTCAGAAG-1 FALSE 43 9 section1 1831
7 AAACAGGGTCTATATT-1 FALSE 47 13 section1 2106
8 AAACAGTGTTCCTGGG-1 FALSE 73 43 section1 4170
9 AAACATGGTGAGAGGA-1 FALSE 62 0 section1 1212
10 AAACATTTCCCGGATT-1 FALSE 61 97 section1 7886
# ℹ 89 more rows
# ℹ 1 more variable: pxl_row_in_fullres <int>
rd10xV> # tabulate number of spots mapped to tissue
rd10xV> cd <- colData(spe)
rd10xV> table(
rd10xV+ in_tissue = cd$in_tissue,
rd10xV+ sample_id = cd$sample_id)
sample_id
in_tissue section1 section2
FALSE 28 27
TRUE 22 22
rd10xV> # view available images
rd10xV> imgData(spe)
DataFrame with 2 rows and 4 columns
sample_id image_id data scaleFactor
<character> <character> <list> <numeric>
1 section1 lowres #### 0.0510334
2 section2 lowres #### 0.0510334
rd10xV> dir <- system.file(
rd10xV+ file.path("extdata", "10xVisium"),
rd10xV+ package = "SpatialExperiment")
rd10xV> sample_ids <- c("section1", "section2")
rd10xV> samples <- file.path(dir, sample_ids, "outs")
rd10xV> list.files(samples[1])
[1] "raw_feature_bc_matrix" "spatial"
rd10xV> list.files(file.path(samples[1], "spatial"))
[1] "scalefactors_json.json" "tissue_lowres_image.png"
[3] "tissue_positions_list.csv"
rd10xV> file.path(samples[1], "raw_feature_bc_matrix")
[1] "/Library/Frameworks/R.framework/Versions/4.4-arm64/Resources/library/SpatialExperiment/extdata/10xVisium/section1/outs/raw_feature_bc_matrix"
rd10xV> (spe <- read10xVisium(samples, sample_ids,
rd10xV+ type = "sparse", data = "raw",
rd10xV+ images = "lowres", load = FALSE))
# A SpatialExperiment-tibble abstraction: 99 × 7
# Features = 50 | Cells = 99 | Assays = counts
.cell in_tissue array_row array_col sample_id pxl_col_in_fullres
<chr> <lgl> <int> <int> <chr> <int>
1 AAACAACGAATAGTTC-1 FALSE 0 16 section1 2312
2 AAACAAGTATCTCCCA-1 TRUE 50 102 section1 8230
3 AAACAATCTACTAGCA-1 TRUE 3 43 section1 4170
4 AAACACCAATAACTGC-1 TRUE 59 19 section1 2519
5 AAACAGAGCGACTCCT-1 TRUE 14 94 section1 7679
6 AAACAGCTTTCAGAAG-1 FALSE 43 9 section1 1831
7 AAACAGGGTCTATATT-1 FALSE 47 13 section1 2106
8 AAACAGTGTTCCTGGG-1 FALSE 73 43 section1 4170
9 AAACATGGTGAGAGGA-1 FALSE 62 0 section1 1212
10 AAACATTTCCCGGATT-1 FALSE 61 97 section1 7886
# ℹ 89 more rows
# ℹ 1 more variable: pxl_row_in_fullres <int>
rd10xV> # base directory 'outs/' from Space Ranger can also be omitted
rd10xV> samples2 <- file.path(dir, sample_ids)
rd10xV> (spe2 <- read10xVisium(samples2, sample_ids,
rd10xV+ type = "sparse", data = "raw",
rd10xV+ images = "lowres", load = FALSE))
# A SpatialExperiment-tibble abstraction: 99 × 7
# Features = 50 | Cells = 99 | Assays = counts
.cell in_tissue array_row array_col sample_id pxl_col_in_fullres
<chr> <lgl> <int> <int> <chr> <int>
1 AAACAACGAATAGTTC-1 FALSE 0 16 section1 2312
2 AAACAAGTATCTCCCA-1 TRUE 50 102 section1 8230
3 AAACAATCTACTAGCA-1 TRUE 3 43 section1 4170
4 AAACACCAATAACTGC-1 TRUE 59 19 section1 2519
5 AAACAGAGCGACTCCT-1 TRUE 14 94 section1 7679
6 AAACAGCTTTCAGAAG-1 FALSE 43 9 section1 1831
7 AAACAGGGTCTATATT-1 FALSE 47 13 section1 2106
8 AAACAGTGTTCCTGGG-1 FALSE 73 43 section1 4170
9 AAACATGGTGAGAGGA-1 FALSE 62 0 section1 1212
10 AAACATTTCCCGGATT-1 FALSE 61 97 section1 7886
# ℹ 89 more rows
# ℹ 1 more variable: pxl_row_in_fullres <int>
rd10xV> # tabulate number of spots mapped to tissue
rd10xV> cd <- colData(spe)
rd10xV> table(
rd10xV+ in_tissue = cd$in_tissue,
rd10xV+ sample_id = cd$sample_id)
sample_id
in_tissue section1 section2
FALSE 28 27
TRUE 22 22
rd10xV> # view available images
rd10xV> imgData(spe)
DataFrame with 2 rows and 4 columns
sample_id image_id data scaleFactor
<character> <character> <list> <numeric>
1 section1 lowres #### 0.0510334
2 section2 lowres #### 0.0510334
rd10xV> dir <- system.file(
rd10xV+ file.path("extdata", "10xVisium"),
rd10xV+ package = "SpatialExperiment")
rd10xV> sample_ids <- c("section1", "section2")
rd10xV> samples <- file.path(dir, sample_ids, "outs")
rd10xV> list.files(samples[1])
[1] "raw_feature_bc_matrix" "spatial"
rd10xV> list.files(file.path(samples[1], "spatial"))
[1] "scalefactors_json.json" "tissue_lowres_image.png"
[3] "tissue_positions_list.csv"
rd10xV> file.path(samples[1], "raw_feature_bc_matrix")
[1] "/Library/Frameworks/R.framework/Versions/4.4-arm64/Resources/library/SpatialExperiment/extdata/10xVisium/section1/outs/raw_feature_bc_matrix"
rd10xV> (spe <- read10xVisium(samples, sample_ids,
rd10xV+ type = "sparse", data = "raw",
rd10xV+ images = "lowres", load = FALSE))
# A SpatialExperiment-tibble abstraction: 99 × 7
# Features = 50 | Cells = 99 | Assays = counts
.cell in_tissue array_row array_col sample_id pxl_col_in_fullres
<chr> <lgl> <int> <int> <chr> <int>
1 AAACAACGAATAGTTC-1 FALSE 0 16 section1 2312
2 AAACAAGTATCTCCCA-1 TRUE 50 102 section1 8230
3 AAACAATCTACTAGCA-1 TRUE 3 43 section1 4170
4 AAACACCAATAACTGC-1 TRUE 59 19 section1 2519
5 AAACAGAGCGACTCCT-1 TRUE 14 94 section1 7679
6 AAACAGCTTTCAGAAG-1 FALSE 43 9 section1 1831
7 AAACAGGGTCTATATT-1 FALSE 47 13 section1 2106
8 AAACAGTGTTCCTGGG-1 FALSE 73 43 section1 4170
9 AAACATGGTGAGAGGA-1 FALSE 62 0 section1 1212
10 AAACATTTCCCGGATT-1 FALSE 61 97 section1 7886
# ℹ 89 more rows
# ℹ 1 more variable: pxl_row_in_fullres <int>
rd10xV> # base directory 'outs/' from Space Ranger can also be omitted
rd10xV> samples2 <- file.path(dir, sample_ids)
rd10xV> (spe2 <- read10xVisium(samples2, sample_ids,
rd10xV+ type = "sparse", data = "raw",
rd10xV+ images = "lowres", load = FALSE))
# A SpatialExperiment-tibble abstraction: 99 × 7
# Features = 50 | Cells = 99 | Assays = counts
.cell in_tissue array_row array_col sample_id pxl_col_in_fullres
<chr> <lgl> <int> <int> <chr> <int>
1 AAACAACGAATAGTTC-1 FALSE 0 16 section1 2312
2 AAACAAGTATCTCCCA-1 TRUE 50 102 section1 8230
3 AAACAATCTACTAGCA-1 TRUE 3 43 section1 4170
4 AAACACCAATAACTGC-1 TRUE 59 19 section1 2519
5 AAACAGAGCGACTCCT-1 TRUE 14 94 section1 7679
6 AAACAGCTTTCAGAAG-1 FALSE 43 9 section1 1831
7 AAACAGGGTCTATATT-1 FALSE 47 13 section1 2106
8 AAACAGTGTTCCTGGG-1 FALSE 73 43 section1 4170
9 AAACATGGTGAGAGGA-1 FALSE 62 0 section1 1212
10 AAACATTTCCCGGATT-1 FALSE 61 97 section1 7886
# ℹ 89 more rows
# ℹ 1 more variable: pxl_row_in_fullres <int>
rd10xV> # tabulate number of spots mapped to tissue
rd10xV> cd <- colData(spe)
rd10xV> table(
rd10xV+ in_tissue = cd$in_tissue,
rd10xV+ sample_id = cd$sample_id)
sample_id
in_tissue section1 section2
FALSE 28 27
TRUE 22 22
rd10xV> # view available images
rd10xV> imgData(spe)
DataFrame with 2 rows and 4 columns
sample_id image_id data scaleFactor
<character> <character> <list> <numeric>
1 section1 lowres #### 0.0510334
2 section2 lowres #### 0.0510334
[ FAIL 0 | WARN 3 | SKIP 0 | PASS 39 ]
[ FAIL 0 | WARN 3 | SKIP 0 | PASS 39 ]
>
> proc.time()
user system elapsed
21.999 0.988 23.499
tidySpatialExperiment.Rcheck/tidySpatialExperiment-Ex.timings
| name | user | system | elapsed | |
| aggregate_cells | 4.563 | 0.180 | 4.798 | |
| arrange | 1.513 | 0.042 | 1.576 | |
| as_tibble | 1.335 | 0.032 | 1.376 | |
| bind_cols | 1.573 | 0.048 | 1.739 | |
| bind_rows | 1.499 | 0.035 | 1.600 | |
| count | 1.347 | 0.030 | 1.418 | |
| distinct | 1.108 | 0.030 | 1.174 | |
| ellipse | 1.419 | 0.032 | 1.500 | |
| extract | 1.373 | 0.030 | 1.407 | |
| filter | 1.348 | 0.028 | 1.387 | |
| formatting | 1.375 | 0.034 | 1.420 | |
| gate | 1.536 | 0.031 | 1.664 | |
| gate_interactive | 1.276 | 0.032 | 1.502 | |
| gate_programmatic | 1.286 | 0.032 | 1.435 | |
| ggplot | 1.543 | 0.038 | 1.655 | |
| glimpse | 1.354 | 0.043 | 1.549 | |
| group_by | 1.423 | 0.040 | 1.602 | |
| inner_join | 1.647 | 0.044 | 1.779 | |
| join_features | 1.585 | 0.040 | 1.723 | |
| left_join | 1.597 | 0.033 | 1.661 | |
| mutate | 1.489 | 0.037 | 1.702 | |
| nest | 1.483 | 0.034 | 1.609 | |
| pivot_longer | 1.520 | 0.047 | 1.722 | |
| plot_ly | 1.446 | 0.054 | 1.526 | |
| pull | 1.367 | 0.035 | 1.409 | |
| rectangle | 1.402 | 0.030 | 1.438 | |
| rename | 1.628 | 0.033 | 1.675 | |
| right_join | 1.652 | 0.036 | 1.702 | |
| rowwise | 2.294 | 0.035 | 2.337 | |
| sample_n | 1.434 | 0.034 | 1.492 | |
| select | 1.162 | 0.028 | 1.210 | |
| separate | 1.341 | 0.030 | 1.383 | |
| slice | 1.00 | 0.04 | 1.06 | |
| summarise | 1.342 | 0.036 | 1.452 | |
| tbl_format_header | 0 | 0 | 0 | |
| unite | 1.455 | 0.039 | 1.574 | |
| unnest | 1.607 | 0.068 | 1.716 | |