| Back to Multiple platform build/check report for BioC 3.20: simplified long |
|
This page was generated on 2024-11-09 21:31 -0500 (Sat, 09 Nov 2024).
| Hostname | OS | Arch (*) | R version | Installed pkgs |
|---|---|---|---|---|
| teran2 | Linux (Ubuntu 24.04.1 LTS) | x86_64 | 4.4.1 (2024-06-14) -- "Race for Your Life" | 4505 |
| palomino8 | Windows Server 2022 Datacenter | x64 | 4.4.1 (2024-06-14 ucrt) -- "Race for Your Life" | 4506 |
| lconway | macOS 12.7.1 Monterey | x86_64 | 4.4.1 (2024-06-14) -- "Race for Your Life" | 4538 |
| kjohnson3 | macOS 13.6.5 Ventura | arm64 | 4.4.1 (2024-06-14) -- "Race for Your Life" | 4486 |
| kunpeng2 | Linux (openEuler 22.03 LTS-SP1) | aarch64 | 4.4.1 (2024-06-14) -- "Race for Your Life" | 4493 |
| Click on any hostname to see more info about the system (e.g. compilers) (*) as reported by 'uname -p', except on Windows and Mac OS X | ||||
| Package 2141/2289 | Hostname | OS / Arch | INSTALL | BUILD | CHECK | BUILD BIN | ||||||||
| tidyFlowCore 1.0.0 (landing page) Timothy Keyes
| teran2 | Linux (Ubuntu 24.04.1 LTS) / x86_64 | OK | OK | OK | |||||||||
| palomino8 | Windows Server 2022 Datacenter / x64 | OK | OK | OK | OK | |||||||||
| lconway | macOS 12.7.1 Monterey / x86_64 | OK | OK | OK | OK | |||||||||
| kjohnson3 | macOS 13.6.5 Ventura / arm64 | OK | OK | OK | OK | |||||||||
| kunpeng2 | Linux (openEuler 22.03 LTS-SP1) / aarch64 | OK | OK | OK | ||||||||||
|
To the developers/maintainers of the tidyFlowCore package: - Allow up to 24 hours (and sometimes 48 hours) for your latest push to git@git.bioconductor.org:packages/tidyFlowCore.git to reflect on this report. See Troubleshooting Build Report for more information. - Use the following Renviron settings to reproduce errors and warnings. - If 'R CMD check' started to fail recently on the Linux builder(s) over a missing dependency, add the missing dependency to 'Suggests:' in your DESCRIPTION file. See Renviron.bioc for more information. |
| Package: tidyFlowCore |
| Version: 1.0.0 |
| Command: /Library/Frameworks/R.framework/Resources/bin/R CMD check --install=check:tidyFlowCore.install-out.txt --library=/Library/Frameworks/R.framework/Resources/library --no-vignettes --timings tidyFlowCore_1.0.0.tar.gz |
| StartedAt: 2024-11-09 15:09:58 -0500 (Sat, 09 Nov 2024) |
| EndedAt: 2024-11-09 15:14:14 -0500 (Sat, 09 Nov 2024) |
| EllapsedTime: 255.6 seconds |
| RetCode: 0 |
| Status: OK |
| CheckDir: tidyFlowCore.Rcheck |
| Warnings: 0 |
##############################################################################
##############################################################################
###
### Running command:
###
### /Library/Frameworks/R.framework/Resources/bin/R CMD check --install=check:tidyFlowCore.install-out.txt --library=/Library/Frameworks/R.framework/Resources/library --no-vignettes --timings tidyFlowCore_1.0.0.tar.gz
###
##############################################################################
##############################################################################
* using log directory ‘/Users/biocbuild/bbs-3.20-bioc/meat/tidyFlowCore.Rcheck’
* using R version 4.4.1 (2024-06-14)
* using platform: aarch64-apple-darwin20
* R was compiled by
Apple clang version 14.0.0 (clang-1400.0.29.202)
GNU Fortran (GCC) 12.2.0
* running under: macOS Ventura 13.6.7
* using session charset: UTF-8
* using option ‘--no-vignettes’
* checking for file ‘tidyFlowCore/DESCRIPTION’ ... OK
* checking extension type ... Package
* this is package ‘tidyFlowCore’ version ‘1.0.0’
* package encoding: UTF-8
* checking package namespace information ... OK
* checking package dependencies ...Warning: unable to access index for repository https://CRAN.R-project.org/src/contrib:
cannot open URL 'https://CRAN.R-project.org/src/contrib/PACKAGES'
OK
* checking if this is a source package ... OK
* checking if there is a namespace ... OK
* checking for hidden files and directories ... OK
* checking for portable file names ... OK
* checking for sufficient/correct file permissions ... OK
* checking whether package ‘tidyFlowCore’ can be installed ... OK
* checking installed package size ... OK
* checking package directory ... OK
* checking ‘build’ directory ... OK
* checking DESCRIPTION meta-information ... OK
* checking top-level files ... OK
* checking for left-over files ... OK
* checking index information ... OK
* checking package subdirectories ... OK
* checking code files for non-ASCII characters ... OK
* checking R files for syntax errors ... OK
* checking whether the package can be loaded ... OK
* checking whether the package can be loaded with stated dependencies ... OK
* checking whether the package can be unloaded cleanly ... OK
* checking whether the namespace can be loaded with stated dependencies ... OK
* checking whether the namespace can be unloaded cleanly ... OK
* checking dependencies in R code ... OK
* checking S3 generic/method consistency ... OK
* checking replacement functions ... OK
* checking foreign function calls ... OK
* checking R code for possible problems ... OK
* checking Rd files ... OK
* checking Rd metadata ... OK
* checking Rd cross-references ... OK
* checking for missing documentation entries ... OK
* checking for code/documentation mismatches ... OK
* checking Rd \usage sections ... OK
* checking Rd contents ... OK
* checking for unstated dependencies in examples ... OK
* checking contents of ‘data’ directory ... OK
* checking data for non-ASCII characters ... OK
* checking data for ASCII and uncompressed saves ... OK
* checking files in ‘vignettes’ ... OK
* checking examples ... OK
* checking for unstated dependencies in ‘tests’ ... OK
* checking tests ...
Running ‘testthat.R’
OK
* checking for unstated dependencies in vignettes ... OK
* checking package vignettes ... OK
* checking running R code from vignettes ... SKIPPED
* checking re-building of vignette outputs ... SKIPPED
* checking PDF version of manual ... OK
* DONE
Status: OK
tidyFlowCore.Rcheck/00install.out
############################################################################## ############################################################################## ### ### Running command: ### ### /Library/Frameworks/R.framework/Resources/bin/R CMD INSTALL tidyFlowCore ### ############################################################################## ############################################################################## * installing to library ‘/Library/Frameworks/R.framework/Versions/4.4-arm64/Resources/library’ * installing *source* package ‘tidyFlowCore’ ... ** using staged installation ** R ** data ** inst ** byte-compile and prepare package for lazy loading ** help *** installing help indices *** copying figures ** building package indices ** installing vignettes ** testing if installed package can be loaded from temporary location ** testing if installed package can be loaded from final location ** testing if installed package keeps a record of temporary installation path * DONE (tidyFlowCore)
tidyFlowCore.Rcheck/tests/testthat.Rout
R version 4.4.1 (2024-06-14) -- "Race for Your Life"
Copyright (C) 2024 The R Foundation for Statistical Computing
Platform: aarch64-apple-darwin20
R is free software and comes with ABSOLUTELY NO WARRANTY.
You are welcome to redistribute it under certain conditions.
Type 'license()' or 'licence()' for distribution details.
R is a collaborative project with many contributors.
Type 'contributors()' for more information and
'citation()' on how to cite R or R packages in publications.
Type 'demo()' for some demos, 'help()' for on-line help, or
'help.start()' for an HTML browser interface to help.
Type 'q()' to quit R.
> # This file is part of the standard setup for testthat.
> # It is recommended that you do not modify it.
> #
> # Where should you do additional test configuration?
> # Learn more about the roles of various files in:
> # * https://r-pkgs.org/testing-design.html#sec-tests-files-overview
> # * https://testthat.r-lib.org/articles/special-files.html
>
> library(testthat)
> library(tidyFlowCore)
>
> test_check("tidyFlowCore")
Attaching package: 'dplyr'
The following object is masked from 'package:testthat':
matches
The following objects are masked from 'package:stats':
filter, lag
The following objects are masked from 'package:base':
intersect, setdiff, setequal, union
Attaching package: 'tidyr'
The following object is masked from 'package:testthat':
matches
[ FAIL 0 | WARN 0 | SKIP 0 | PASS 104 ]
>
> proc.time()
user system elapsed
3.737 0.184 3.922
tidyFlowCore.Rcheck/tidyFlowCore-Ex.timings
| name | user | system | elapsed | |
| arrange.flowFrame | 0.076 | 0.003 | 0.080 | |
| arrange.flowSet | 0.134 | 0.004 | 0.138 | |
| as_flowFrame | 0 | 0 | 0 | |
| as_flowSet | 0.000 | 0.001 | 0.000 | |
| as_tof_tbl | 0.008 | 0.000 | 0.010 | |
| count.flowFrame | 0.082 | 0.003 | 0.086 | |
| count.flowSet | 0.045 | 0.002 | 0.047 | |
| filter.flowFrame | 0.042 | 0.002 | 0.045 | |
| filter.flowSet | 0.103 | 0.003 | 0.105 | |
| ggplot.flowFrame | 0.035 | 0.002 | 0.036 | |
| ggplot.flowSet | 0.037 | 0.002 | 0.038 | |
| group_by.flowFrame | 0.098 | 0.004 | 0.102 | |
| make_flowcore_annotated_data_frame | 0 | 0 | 0 | |
| mutate.flowFrame | 0.092 | 0.003 | 0.096 | |
| mutate.flowSet | 0.109 | 0.003 | 0.112 | |
| nest.flowFrame | 0.098 | 0.004 | 0.102 | |
| pull.flowFrame | 0.026 | 0.002 | 0.028 | |
| pull.flowSet | 0.028 | 0.002 | 0.031 | |
| reexports | 0 | 0 | 0 | |
| rename.flowFrame | 0.041 | 0.002 | 0.043 | |
| rename.flowSet | 0.103 | 0.003 | 0.106 | |
| rename_with.flowFrame | 0.045 | 0.002 | 0.047 | |
| rename_with.flowSet | 0.103 | 0.003 | 0.107 | |
| select.flowFrame | 0.043 | 0.003 | 0.071 | |
| select.flowSet | 0.095 | 0.003 | 0.098 | |
| simulate_cytometry_data | 0.024 | 0.002 | 0.027 | |
| slice.flowFrame | 0.044 | 0.002 | 0.046 | |
| slice.flowSet | 0.105 | 0.003 | 0.108 | |
| slice_head.flowFrame | 0.046 | 0.002 | 0.048 | |
| slice_head.flowSet | 0.111 | 0.003 | 0.115 | |
| slice_max.flowFrame | 0.042 | 0.001 | 0.044 | |
| slice_max.flowSet | 0.110 | 0.003 | 0.114 | |
| slice_min.flowFrame | 0.047 | 0.002 | 0.049 | |
| slice_min.flowSet | 0.109 | 0.003 | 0.113 | |
| slice_sample.flowFrame | 0.043 | 0.002 | 0.046 | |
| slice_sample.flowSet | 0.110 | 0.004 | 0.112 | |
| slice_tail.flowFrame | 0.045 | 0.002 | 0.047 | |
| slice_tail.flowSet | 0.178 | 0.003 | 0.182 | |
| summarise.flowFrame | 0.028 | 0.002 | 0.029 | |
| summarise.flowSet | 0.043 | 0.004 | 0.048 | |
| summarize.flowFrame | 0.030 | 0.004 | 0.033 | |
| summarize.flowSet | 0.044 | 0.002 | 0.045 | |
| tof_get_panel | 0 | 0 | 0 | |
| tof_set_panel | 0 | 0 | 0 | |
| transmute.flowFrame | 0.037 | 0.002 | 0.040 | |
| transmute.flowSet | 0.088 | 0.003 | 0.092 | |
| ungroup.flowSet | 0.048 | 0.002 | 0.050 | |
| unnest.flowSet | 0.087 | 0.003 | 0.091 | |