| Back to Multiple platform build/check report for BioC 3.20: simplified long |
|
This page was generated on 2024-11-20 12:03 -0500 (Wed, 20 Nov 2024).
| Hostname | OS | Arch (*) | R version | Installed pkgs |
|---|---|---|---|---|
| teran2 | Linux (Ubuntu 24.04.1 LTS) | x86_64 | 4.4.2 (2024-10-31) -- "Pile of Leaves" | 4481 |
| nebbiolo2 | Linux (Ubuntu 24.04.1 LTS) | x86_64 | 4.4.2 (2024-10-31) -- "Pile of Leaves" | 4479 |
| palomino8 | Windows Server 2022 Datacenter | x64 | 4.4.2 (2024-10-31 ucrt) -- "Pile of Leaves" | 4359 |
| lconway | macOS 12.7.1 Monterey | x86_64 | 4.4.1 (2024-06-14) -- "Race for Your Life" | 4539 |
| kunpeng2 | Linux (openEuler 22.03 LTS-SP1) | aarch64 | 4.4.1 (2024-06-14) -- "Race for Your Life" | 4493 |
| Click on any hostname to see more info about the system (e.g. compilers) (*) as reported by 'uname -p', except on Windows and Mac OS X | ||||
| Package 2141/2289 | Hostname | OS / Arch | INSTALL | BUILD | CHECK | BUILD BIN | ||||||||
| tidyFlowCore 1.0.0 (landing page) Timothy Keyes
| teran2 | Linux (Ubuntu 24.04.1 LTS) / x86_64 | OK | OK | OK | |||||||||
| nebbiolo2 | Linux (Ubuntu 24.04.1 LTS) / x86_64 | OK | OK | OK | ||||||||||
| palomino8 | Windows Server 2022 Datacenter / x64 | OK | OK | OK | OK | |||||||||
| lconway | macOS 12.7.1 Monterey / x86_64 | OK | OK | OK | OK | |||||||||
| kunpeng2 | Linux (openEuler 22.03 LTS-SP1) / aarch64 | OK | OK | OK | ||||||||||
|
To the developers/maintainers of the tidyFlowCore package: - Allow up to 24 hours (and sometimes 48 hours) for your latest push to git@git.bioconductor.org:packages/tidyFlowCore.git to reflect on this report. See Troubleshooting Build Report for more information. - Use the following Renviron settings to reproduce errors and warnings. - If 'R CMD check' started to fail recently on the Linux builder(s) over a missing dependency, add the missing dependency to 'Suggests:' in your DESCRIPTION file. See Renviron.bioc for more information. |
| Package: tidyFlowCore |
| Version: 1.0.0 |
| Command: /home/biocbuild/bbs-3.20-bioc/R/bin/R CMD check --install=check:tidyFlowCore.install-out.txt --library=/home/biocbuild/bbs-3.20-bioc/R/site-library --timings tidyFlowCore_1.0.0.tar.gz |
| StartedAt: 2024-11-20 10:41:45 -0500 (Wed, 20 Nov 2024) |
| EndedAt: 2024-11-20 10:43:21 -0500 (Wed, 20 Nov 2024) |
| EllapsedTime: 95.1 seconds |
| RetCode: 0 |
| Status: OK |
| CheckDir: tidyFlowCore.Rcheck |
| Warnings: 0 |
##############################################################################
##############################################################################
###
### Running command:
###
### /home/biocbuild/bbs-3.20-bioc/R/bin/R CMD check --install=check:tidyFlowCore.install-out.txt --library=/home/biocbuild/bbs-3.20-bioc/R/site-library --timings tidyFlowCore_1.0.0.tar.gz
###
##############################################################################
##############################################################################
* using log directory ‘/media/volume/teran2_disk/biocbuild/bbs-3.20-bioc/meat/tidyFlowCore.Rcheck’
* using R version 4.4.2 (2024-10-31)
* using platform: x86_64-pc-linux-gnu
* R was compiled by
gcc (Ubuntu 13.2.0-23ubuntu4) 13.2.0
GNU Fortran (Ubuntu 13.2.0-23ubuntu4) 13.2.0
* running under: Ubuntu 24.04.1 LTS
* using session charset: UTF-8
* checking for file ‘tidyFlowCore/DESCRIPTION’ ... OK
* checking extension type ... Package
* this is package ‘tidyFlowCore’ version ‘1.0.0’
* package encoding: UTF-8
* checking package namespace information ... OK
* checking package dependencies ... OK
* checking if this is a source package ... OK
* checking if there is a namespace ... OK
* checking for hidden files and directories ... OK
* checking for portable file names ... OK
* checking for sufficient/correct file permissions ... OK
* checking whether package ‘tidyFlowCore’ can be installed ... OK
* checking installed package size ... OK
* checking package directory ... OK
* checking ‘build’ directory ... OK
* checking DESCRIPTION meta-information ... OK
* checking top-level files ... OK
* checking for left-over files ... OK
* checking index information ... OK
* checking package subdirectories ... OK
* checking code files for non-ASCII characters ... OK
* checking R files for syntax errors ... OK
* checking whether the package can be loaded ... OK
* checking whether the package can be loaded with stated dependencies ... OK
* checking whether the package can be unloaded cleanly ... OK
* checking whether the namespace can be loaded with stated dependencies ... OK
* checking whether the namespace can be unloaded cleanly ... OK
* checking loading without being on the library search path ... OK
* checking dependencies in R code ... OK
* checking S3 generic/method consistency ... OK
* checking replacement functions ... OK
* checking foreign function calls ... OK
* checking R code for possible problems ... OK
* checking Rd files ... OK
* checking Rd metadata ... OK
* checking Rd cross-references ... OK
* checking for missing documentation entries ... OK
* checking for code/documentation mismatches ... OK
* checking Rd \usage sections ... OK
* checking Rd contents ... OK
* checking for unstated dependencies in examples ... OK
* checking contents of ‘data’ directory ... OK
* checking data for non-ASCII characters ... OK
* checking data for ASCII and uncompressed saves ... OK
* checking files in ‘vignettes’ ... OK
* checking examples ... OK
* checking for unstated dependencies in ‘tests’ ... OK
* checking tests ...
Running ‘testthat.R’
OK
* checking for unstated dependencies in vignettes ... OK
* checking package vignettes ... OK
* checking re-building of vignette outputs ... OK
* checking PDF version of manual ... OK
* DONE
Status: OK
tidyFlowCore.Rcheck/00install.out
############################################################################## ############################################################################## ### ### Running command: ### ### /home/biocbuild/bbs-3.20-bioc/R/bin/R CMD INSTALL tidyFlowCore ### ############################################################################## ############################################################################## * installing to library ‘/media/volume/teran2_disk/biocbuild/bbs-3.20-bioc/R/site-library’ * installing *source* package ‘tidyFlowCore’ ... ** using staged installation ** R ** data ** inst ** byte-compile and prepare package for lazy loading ** help *** installing help indices *** copying figures ** building package indices ** installing vignettes ** testing if installed package can be loaded from temporary location ** testing if installed package can be loaded from final location ** testing if installed package keeps a record of temporary installation path * DONE (tidyFlowCore)
tidyFlowCore.Rcheck/tests/testthat.Rout
R version 4.4.2 (2024-10-31) -- "Pile of Leaves"
Copyright (C) 2024 The R Foundation for Statistical Computing
Platform: x86_64-pc-linux-gnu
R is free software and comes with ABSOLUTELY NO WARRANTY.
You are welcome to redistribute it under certain conditions.
Type 'license()' or 'licence()' for distribution details.
R is a collaborative project with many contributors.
Type 'contributors()' for more information and
'citation()' on how to cite R or R packages in publications.
Type 'demo()' for some demos, 'help()' for on-line help, or
'help.start()' for an HTML browser interface to help.
Type 'q()' to quit R.
> # This file is part of the standard setup for testthat.
> # It is recommended that you do not modify it.
> #
> # Where should you do additional test configuration?
> # Learn more about the roles of various files in:
> # * https://r-pkgs.org/testing-design.html#sec-tests-files-overview
> # * https://testthat.r-lib.org/articles/special-files.html
>
> library(testthat)
> library(tidyFlowCore)
>
> test_check("tidyFlowCore")
Attaching package: 'dplyr'
The following object is masked from 'package:testthat':
matches
The following objects are masked from 'package:stats':
filter, lag
The following objects are masked from 'package:base':
intersect, setdiff, setequal, union
Attaching package: 'tidyr'
The following object is masked from 'package:testthat':
matches
[ FAIL 0 | WARN 0 | SKIP 0 | PASS 104 ]
>
> proc.time()
user system elapsed
8.057 0.301 8.352
tidyFlowCore.Rcheck/tidyFlowCore-Ex.timings
| name | user | system | elapsed | |
| arrange.flowFrame | 0.150 | 0.004 | 0.155 | |
| arrange.flowSet | 0.299 | 0.002 | 0.301 | |
| as_flowFrame | 0 | 0 | 0 | |
| as_flowSet | 0 | 0 | 0 | |
| as_tof_tbl | 0.014 | 0.002 | 0.019 | |
| count.flowFrame | 0.180 | 0.002 | 0.183 | |
| count.flowSet | 0.105 | 0.000 | 0.107 | |
| filter.flowFrame | 0.097 | 0.003 | 0.099 | |
| filter.flowSet | 0.243 | 0.004 | 0.247 | |
| ggplot.flowFrame | 0.073 | 0.002 | 0.076 | |
| ggplot.flowSet | 0.086 | 0.001 | 0.087 | |
| group_by.flowFrame | 0.233 | 0.002 | 0.235 | |
| make_flowcore_annotated_data_frame | 0 | 0 | 0 | |
| mutate.flowFrame | 0.218 | 0.004 | 0.222 | |
| mutate.flowSet | 0.269 | 0.000 | 0.269 | |
| nest.flowFrame | 0.246 | 0.004 | 0.250 | |
| pull.flowFrame | 0.066 | 0.000 | 0.066 | |
| pull.flowSet | 0.067 | 0.000 | 0.068 | |
| reexports | 0 | 0 | 0 | |
| rename.flowFrame | 0.112 | 0.001 | 0.113 | |
| rename.flowSet | 0.265 | 0.003 | 0.269 | |
| rename_with.flowFrame | 0.105 | 0.001 | 0.106 | |
| rename_with.flowSet | 0.266 | 0.002 | 0.268 | |
| select.flowFrame | 0.102 | 0.000 | 0.102 | |
| select.flowSet | 0.247 | 0.004 | 0.251 | |
| simulate_cytometry_data | 0.072 | 0.000 | 0.071 | |
| slice.flowFrame | 0.107 | 0.001 | 0.108 | |
| slice.flowSet | 0.261 | 0.002 | 0.263 | |
| slice_head.flowFrame | 0.107 | 0.002 | 0.109 | |
| slice_head.flowSet | 0.272 | 0.002 | 0.274 | |
| slice_max.flowFrame | 0.109 | 0.002 | 0.111 | |
| slice_max.flowSet | 0.272 | 0.001 | 0.273 | |
| slice_min.flowFrame | 0.106 | 0.002 | 0.107 | |
| slice_min.flowSet | 0.276 | 0.001 | 0.276 | |
| slice_sample.flowFrame | 0.111 | 0.002 | 0.113 | |
| slice_sample.flowSet | 0.278 | 0.001 | 0.279 | |
| slice_tail.flowFrame | 0.119 | 0.001 | 0.121 | |
| slice_tail.flowSet | 0.440 | 0.000 | 0.441 | |
| summarise.flowFrame | 0.07 | 0.00 | 0.07 | |
| summarise.flowSet | 0.111 | 0.022 | 0.134 | |
| summarize.flowFrame | 0.068 | 0.027 | 0.096 | |
| summarize.flowSet | 0.105 | 0.000 | 0.105 | |
| tof_get_panel | 0 | 0 | 0 | |
| tof_set_panel | 0 | 0 | 0 | |
| transmute.flowFrame | 0.093 | 0.002 | 0.095 | |
| transmute.flowSet | 0.232 | 0.001 | 0.234 | |
| ungroup.flowSet | 0.121 | 0.004 | 0.125 | |
| unnest.flowSet | 0.228 | 0.001 | 0.229 | |