| Back to Multiple platform build/check report for BioC 3.20: simplified long |
|
This page was generated on 2024-06-11 15:43 -0400 (Tue, 11 Jun 2024).
| Hostname | OS | Arch (*) | R version | Installed pkgs |
|---|---|---|---|---|
| nebbiolo2 | Linux (Ubuntu 22.04.3 LTS) | x86_64 | 4.4.0 RC (2024-04-16 r86468) -- "Puppy Cup" | 4679 |
| palomino4 | Windows Server 2022 Datacenter | x64 | 4.4.0 RC (2024-04-16 r86468 ucrt) -- "Puppy Cup" | 4414 |
| merida1 | macOS 12.7.4 Monterey | x86_64 | 4.4.0 Patched (2024-04-24 r86482) -- "Puppy Cup" | 4441 |
| kjohnson1 | macOS 13.6.6 Ventura | arm64 | 4.4.0 Patched (2024-04-24 r86482) -- "Puppy Cup" | 4394 |
| Click on any hostname to see more info about the system (e.g. compilers) (*) as reported by 'uname -p', except on Windows and Mac OS X | ||||
| Package 2043/2239 | Hostname | OS / Arch | INSTALL | BUILD | CHECK | BUILD BIN | ||||||||
| supraHex 1.43.0 (landing page) Hai Fang
| nebbiolo2 | Linux (Ubuntu 22.04.3 LTS) / x86_64 | OK | OK | OK | |||||||||
| palomino4 | Windows Server 2022 Datacenter / x64 | OK | OK | OK | OK | |||||||||
| merida1 | macOS 12.7.4 Monterey / x86_64 | OK | OK | OK | OK | |||||||||
| kjohnson1 | macOS 13.6.6 Ventura / arm64 | OK | OK | OK | OK | |||||||||
|
To the developers/maintainers of the supraHex package: - Allow up to 24 hours (and sometimes 48 hours) for your latest push to git@git.bioconductor.org:packages/supraHex.git to reflect on this report. See Troubleshooting Build Report for more information. - Use the following Renviron settings to reproduce errors and warnings. - If 'R CMD check' started to fail recently on the Linux builder(s) over a missing dependency, add the missing dependency to 'Suggests:' in your DESCRIPTION file. See Renviron.bioc for more information. |
| Package: supraHex |
| Version: 1.43.0 |
| Command: /Library/Frameworks/R.framework/Resources/bin/R CMD check --install=check:supraHex.install-out.txt --library=/Library/Frameworks/R.framework/Resources/library --no-vignettes --timings supraHex_1.43.0.tar.gz |
| StartedAt: 2024-06-11 10:14:40 -0400 (Tue, 11 Jun 2024) |
| EndedAt: 2024-06-11 10:15:55 -0400 (Tue, 11 Jun 2024) |
| EllapsedTime: 75.4 seconds |
| RetCode: 0 |
| Status: OK |
| CheckDir: supraHex.Rcheck |
| Warnings: 0 |
##############################################################################
##############################################################################
###
### Running command:
###
### /Library/Frameworks/R.framework/Resources/bin/R CMD check --install=check:supraHex.install-out.txt --library=/Library/Frameworks/R.framework/Resources/library --no-vignettes --timings supraHex_1.43.0.tar.gz
###
##############################################################################
##############################################################################
* using log directory ‘/Users/biocbuild/bbs-3.20-bioc/meat/supraHex.Rcheck’
* using R version 4.4.0 Patched (2024-04-24 r86482)
* using platform: aarch64-apple-darwin20
* R was compiled by
Apple clang version 14.0.0 (clang-1400.0.29.202)
GNU Fortran (GCC) 12.2.0
* running under: macOS Ventura 13.6.6
* using session charset: UTF-8
* using option ‘--no-vignettes’
* checking for file ‘supraHex/DESCRIPTION’ ... OK
* checking extension type ... Package
* this is package ‘supraHex’ version ‘1.43.0’
* checking package namespace information ... OK
* checking package dependencies ... OK
* checking if this is a source package ... OK
* checking if there is a namespace ... OK
* checking for hidden files and directories ... OK
* checking for portable file names ... OK
* checking for sufficient/correct file permissions ... OK
* checking whether package ‘supraHex’ can be installed ... OK
* checking installed package size ... OK
* checking package directory ... OK
* checking ‘build’ directory ... OK
* checking DESCRIPTION meta-information ... OK
* checking top-level files ... OK
* checking for left-over files ... OK
* checking index information ... OK
* checking package subdirectories ... OK
* checking code files for non-ASCII characters ... OK
* checking R files for syntax errors ... OK
* checking whether the package can be loaded ... OK
* checking whether the package can be loaded with stated dependencies ... OK
* checking whether the package can be unloaded cleanly ... OK
* checking whether the namespace can be loaded with stated dependencies ... OK
* checking whether the namespace can be unloaded cleanly ... OK
* checking dependencies in R code ... OK
* checking S3 generic/method consistency ... OK
* checking replacement functions ... OK
* checking foreign function calls ... OK
* checking R code for possible problems ... OK
* checking Rd files ... OK
* checking Rd metadata ... OK
* checking Rd cross-references ... OK
* checking for missing documentation entries ... OK
* checking for code/documentation mismatches ... OK
* checking Rd \usage sections ... OK
* checking Rd contents ... OK
* checking for unstated dependencies in examples ... OK
* checking contents of ‘data’ directory ... OK
* checking data for non-ASCII characters ... OK
* checking data for ASCII and uncompressed saves ... OK
* checking sizes of PDF files under ‘inst/doc’ ... OK
* checking files in ‘vignettes’ ... OK
* checking examples ... OK
* checking for unstated dependencies in vignettes ... OK
* checking package vignettes ... OK
* checking running R code from vignettes ... SKIPPED
* checking re-building of vignette outputs ... SKIPPED
* checking PDF version of manual ... OK
* DONE
Status: OK
supraHex.Rcheck/00install.out
############################################################################## ############################################################################## ### ### Running command: ### ### /Library/Frameworks/R.framework/Resources/bin/R CMD INSTALL supraHex ### ############################################################################## ############################################################################## * installing to library ‘/Library/Frameworks/R.framework/Versions/4.4-arm64/Resources/library’ * installing *source* package ‘supraHex’ ... ** using staged installation ** R ** data ** inst ** byte-compile and prepare package for lazy loading ** help *** installing help indices ** building package indices ** installing vignettes ** testing if installed package can be loaded from temporary location ** testing if installed package can be loaded from final location ** testing if installed package keeps a record of temporary installation path * DONE (supraHex)
supraHex.Rcheck/supraHex-Ex.timings
| name | user | system | elapsed | |
| sBMH | 0.061 | 0.006 | 0.068 | |
| sCompReorder | 2.457 | 0.181 | 2.648 | |
| sDistance | 0.277 | 0.006 | 0.284 | |
| sDmat | 0.277 | 0.006 | 0.284 | |
| sDmatCluster | 0.383 | 0.010 | 0.395 | |
| sDmatMinima | 0.293 | 0.008 | 0.302 | |
| sHexDist | 0.007 | 0.000 | 0.008 | |
| sHexGrid | 0.001 | 0.000 | 0.002 | |
| sHexGridVariant | 0.002 | 0.001 | 0.002 | |
| sHexPolygon | 0.087 | 0.001 | 0.088 | |
| sInitial | 0.006 | 0.001 | 0.007 | |
| sMapOverlay | 0.344 | 0.015 | 0.363 | |
| sNeighAny | 0.013 | 0.000 | 0.014 | |
| sNeighDirect | 0.007 | 0.000 | 0.008 | |
| sPipeline | 0.000 | 0.000 | 0.001 | |
| sTopology | 0.057 | 0.009 | 0.066 | |
| sTrainBatch | 0.039 | 0.003 | 0.043 | |
| sTrainSeq | 0.349 | 0.006 | 0.356 | |
| sTrainology | 0.007 | 0.001 | 0.008 | |
| sWriteData | 0.830 | 0.046 | 0.876 | |
| visColoralpha | 0.003 | 0.000 | 0.004 | |
| visColorbar | 0.019 | 0.000 | 0.019 | |
| visColormap | 0.003 | 0.001 | 0.003 | |
| visCompReorder | 3.633 | 0.427 | 4.079 | |
| visDmatCluster | 0.000 | 0.001 | 0.001 | |
| visDmatHeatmap | 0.001 | 0.000 | 0.000 | |
| visHeatmap | 0.093 | 0.004 | 0.096 | |
| visHeatmapAdv | 0.331 | 0.010 | 0.344 | |
| visHexAnimate | 0.001 | 0.001 | 0.001 | |
| visHexBarplot | 0.733 | 0.047 | 0.783 | |
| visHexComp | 0.252 | 0.009 | 0.262 | |
| visHexGrid | 0.257 | 0.006 | 0.267 | |
| visHexMapping | 1.452 | 0.080 | 1.538 | |
| visHexMulComp | 1.013 | 0.058 | 1.075 | |
| visHexPattern | 1.485 | 0.126 | 1.622 | |
| visKernels | 0.011 | 0.006 | 0.017 | |
| visTreeBSclust | 0.000 | 0.000 | 0.001 | |
| visTreeBootstrap | 0.000 | 0.001 | 0.000 | |
| visVp | 0.014 | 0.006 | 0.021 | |