| Back to Multiple platform build/check report for BioC 3.20: simplified long |
|
This page was generated on 2024-11-20 12:08 -0500 (Wed, 20 Nov 2024).
| Hostname | OS | Arch (*) | R version | Installed pkgs |
|---|---|---|---|---|
| teran2 | Linux (Ubuntu 24.04.1 LTS) | x86_64 | 4.4.2 (2024-10-31) -- "Pile of Leaves" | 4481 |
| nebbiolo2 | Linux (Ubuntu 24.04.1 LTS) | x86_64 | 4.4.2 (2024-10-31) -- "Pile of Leaves" | 4479 |
| palomino8 | Windows Server 2022 Datacenter | x64 | 4.4.2 (2024-10-31 ucrt) -- "Pile of Leaves" | 4359 |
| lconway | macOS 12.7.1 Monterey | x86_64 | 4.4.1 (2024-06-14) -- "Race for Your Life" | 4539 |
| kunpeng2 | Linux (openEuler 22.03 LTS-SP1) | aarch64 | 4.4.1 (2024-06-14) -- "Race for Your Life" | 4493 |
| Click on any hostname to see more info about the system (e.g. compilers) (*) as reported by 'uname -p', except on Windows and Mac OS X | ||||
| Package 2016/2289 | Hostname | OS / Arch | INSTALL | BUILD | CHECK | BUILD BIN | ||||||||
| spatialDE 1.12.0 (landing page) Gabriele Sales
| teran2 | Linux (Ubuntu 24.04.1 LTS) / x86_64 | OK | OK | OK | |||||||||
| nebbiolo2 | Linux (Ubuntu 24.04.1 LTS) / x86_64 | OK | OK | OK | ||||||||||
| palomino8 | Windows Server 2022 Datacenter / x64 | OK | OK | OK | OK | |||||||||
| lconway | macOS 12.7.1 Monterey / x86_64 | OK | OK | OK | OK | |||||||||
| kunpeng2 | Linux (openEuler 22.03 LTS-SP1) / aarch64 | OK | OK | OK | ||||||||||
|
To the developers/maintainers of the spatialDE package: - Allow up to 24 hours (and sometimes 48 hours) for your latest push to git@git.bioconductor.org:packages/spatialDE.git to reflect on this report. See Troubleshooting Build Report for more information. - Use the following Renviron settings to reproduce errors and warnings. - If 'R CMD check' started to fail recently on the Linux builder(s) over a missing dependency, add the missing dependency to 'Suggests:' in your DESCRIPTION file. See Renviron.bioc for more information. - See Martin Grigorov's blog post for how to debug Linux ARM64 related issues on a x86_64 host. |
| Package: spatialDE |
| Version: 1.12.0 |
| Command: /home/biocbuild/R/R/bin/R CMD check --install=check:spatialDE.install-out.txt --library=/home/biocbuild/R/R/site-library --no-vignettes --timings spatialDE_1.12.0.tar.gz |
| StartedAt: 2024-11-20 12:44:20 -0000 (Wed, 20 Nov 2024) |
| EndedAt: 2024-11-20 12:50:05 -0000 (Wed, 20 Nov 2024) |
| EllapsedTime: 344.6 seconds |
| RetCode: 0 |
| Status: OK |
| CheckDir: spatialDE.Rcheck |
| Warnings: 0 |
##############################################################################
##############################################################################
###
### Running command:
###
### /home/biocbuild/R/R/bin/R CMD check --install=check:spatialDE.install-out.txt --library=/home/biocbuild/R/R/site-library --no-vignettes --timings spatialDE_1.12.0.tar.gz
###
##############################################################################
##############################################################################
* using log directory ‘/home/biocbuild/bbs-3.20-bioc/meat/spatialDE.Rcheck’
* using R version 4.4.1 (2024-06-14)
* using platform: aarch64-unknown-linux-gnu
* R was compiled by
gcc (GCC) 12.2.1 20220819 (openEuler 12.2.1-14)
GNU Fortran (GCC) 10.3.1
* running under: openEuler 22.03 (LTS-SP1)
* using session charset: UTF-8
* using option ‘--no-vignettes’
* checking for file ‘spatialDE/DESCRIPTION’ ... OK
* this is package ‘spatialDE’ version ‘1.12.0’
* package encoding: UTF-8
* checking package namespace information ... OK
* checking package dependencies ... OK
* checking if this is a source package ... OK
* checking if there is a namespace ... OK
* checking for hidden files and directories ... OK
* checking for portable file names ... OK
* checking for sufficient/correct file permissions ... OK
* checking whether package ‘spatialDE’ can be installed ... NOTE
Found the following notes/warnings:
Non-staged installation was used
See ‘/home/biocbuild/bbs-3.20-bioc/meat/spatialDE.Rcheck/00install.out’ for details.
* checking installed package size ... OK
* checking package directory ... OK
* checking ‘build’ directory ... OK
* checking DESCRIPTION meta-information ... OK
* checking top-level files ... OK
* checking for left-over files ... OK
* checking index information ... OK
* checking package subdirectories ... OK
* checking code files for non-ASCII characters ... OK
* checking R files for syntax errors ... OK
* checking whether the package can be loaded ... OK
* checking whether the package can be loaded with stated dependencies ... OK
* checking whether the package can be unloaded cleanly ... OK
* checking whether the namespace can be loaded with stated dependencies ... OK
* checking whether the namespace can be unloaded cleanly ... OK
* checking loading without being on the library search path ... OK
* checking dependencies in R code ... OK
* checking S3 generic/method consistency ... OK
* checking replacement functions ... OK
* checking foreign function calls ... OK
* checking R code for possible problems ... OK
* checking Rd files ... OK
* checking Rd metadata ... OK
* checking Rd cross-references ... OK
* checking for missing documentation entries ... OK
* checking for code/documentation mismatches ... OK
* checking Rd \usage sections ... OK
* checking Rd contents ... OK
* checking for unstated dependencies in examples ... OK
* checking contents of ‘data’ directory ... OK
* checking data for non-ASCII characters ... OK
* checking data for ASCII and uncompressed saves ... OK
* checking line endings in shell scripts ... OK
* checking files in ‘vignettes’ ... OK
* checking examples ... OK
Examples with CPU (user + system) or elapsed time > 5s
user system elapsed
spatial_patterns 44.544 0.062 22.535
FSV_sig 6.704 0.414 7.061
* checking for unstated dependencies in ‘tests’ ... OK
* checking tests ...
Running ‘testthat.R’
OK
* checking for unstated dependencies in vignettes ... OK
* checking package vignettes ... OK
* checking running R code from vignettes ... SKIPPED
* checking re-building of vignette outputs ... SKIPPED
* checking PDF version of manual ... OK
* DONE
Status: 1 NOTE
See
‘/home/biocbuild/bbs-3.20-bioc/meat/spatialDE.Rcheck/00check.log’
for details.
spatialDE.Rcheck/00install.out
############################################################################## ############################################################################## ### ### Running command: ### ### /home/biocbuild/R/R/bin/R CMD INSTALL spatialDE ### ############################################################################## ############################################################################## * installing to library ‘/home/biocbuild/R/R-4.4.1/site-library’ * installing *source* package ‘spatialDE’ ... ** using non-staged installation via StagedInstall field ** R ** data ** inst ** byte-compile and prepare package for lazy loading ** help *** installing help indices ** building package indices ** installing vignettes ** testing if installed package can be loaded * DONE (spatialDE)
spatialDE.Rcheck/tests/testthat.Rout
R version 4.4.1 (2024-06-14) -- "Race for Your Life"
Copyright (C) 2024 The R Foundation for Statistical Computing
Platform: aarch64-unknown-linux-gnu
R is free software and comes with ABSOLUTELY NO WARRANTY.
You are welcome to redistribute it under certain conditions.
Type 'license()' or 'licence()' for distribution details.
R is a collaborative project with many contributors.
Type 'contributors()' for more information and
'citation()' on how to cite R or R packages in publications.
Type 'demo()' for some demos, 'help()' for on-line help, or
'help.start()' for an HTML browser interface to help.
Type 'q()' to quit R.
> library(testthat)
> library(spatialDE)
>
> test_check("spatialDE")
Loading required package: SingleCellExperiment
Loading required package: SummarizedExperiment
Loading required package: MatrixGenerics
Loading required package: matrixStats
Attaching package: 'MatrixGenerics'
The following objects are masked from 'package:matrixStats':
colAlls, colAnyNAs, colAnys, colAvgsPerRowSet, colCollapse,
colCounts, colCummaxs, colCummins, colCumprods, colCumsums,
colDiffs, colIQRDiffs, colIQRs, colLogSumExps, colMadDiffs,
colMads, colMaxs, colMeans2, colMedians, colMins, colOrderStats,
colProds, colQuantiles, colRanges, colRanks, colSdDiffs, colSds,
colSums2, colTabulates, colVarDiffs, colVars, colWeightedMads,
colWeightedMeans, colWeightedMedians, colWeightedSds,
colWeightedVars, rowAlls, rowAnyNAs, rowAnys, rowAvgsPerColSet,
rowCollapse, rowCounts, rowCummaxs, rowCummins, rowCumprods,
rowCumsums, rowDiffs, rowIQRDiffs, rowIQRs, rowLogSumExps,
rowMadDiffs, rowMads, rowMaxs, rowMeans2, rowMedians, rowMins,
rowOrderStats, rowProds, rowQuantiles, rowRanges, rowRanks,
rowSdDiffs, rowSds, rowSums2, rowTabulates, rowVarDiffs, rowVars,
rowWeightedMads, rowWeightedMeans, rowWeightedMedians,
rowWeightedSds, rowWeightedVars
Loading required package: GenomicRanges
Loading required package: stats4
Loading required package: BiocGenerics
Attaching package: 'BiocGenerics'
The following objects are masked from 'package:stats':
IQR, mad, sd, var, xtabs
The following objects are masked from 'package:base':
Filter, Find, Map, Position, Reduce, anyDuplicated, aperm, append,
as.data.frame, basename, cbind, colnames, dirname, do.call,
duplicated, eval, evalq, get, grep, grepl, intersect, is.unsorted,
lapply, mapply, match, mget, order, paste, pmax, pmax.int, pmin,
pmin.int, rank, rbind, rownames, sapply, saveRDS, setdiff, table,
tapply, union, unique, unsplit, which.max, which.min
Loading required package: S4Vectors
Attaching package: 'S4Vectors'
The following object is masked from 'package:utils':
findMatches
The following objects are masked from 'package:base':
I, expand.grid, unname
Loading required package: IRanges
Loading required package: GenomeInfoDb
Loading required package: Biobase
Welcome to Bioconductor
Vignettes contain introductory material; view with
'browseVignettes()'. To cite Bioconductor, see
'citation("Biobase")', and for packages 'citation("pkgname")'.
Attaching package: 'Biobase'
The following object is masked from 'package:MatrixGenerics':
rowMedians
The following objects are masked from 'package:matrixStats':
anyMissing, rowMedians
Models: 0%| | 0/10 [00:00<?, ?it/s]
0%| | 0/100 [00:00<?, ?it/s][A
26%|██▌ | 26/100 [00:00<00:00, 254.95it/s][A
52%|█████▏ | 52/100 [00:00<00:00, 255.60it/s][A
82%|████████▏ | 82/100 [00:00<00:00, 272.83it/s][A
[A
Models: 10%|█ | 1/10 [00:00<00:03, 2.65it/s]
0%| | 0/100 [00:00<?, ?it/s][A
18%|█▊ | 18/100 [00:00<00:00, 178.55it/s][A
38%|███▊ | 38/100 [00:00<00:00, 185.58it/s][A
58%|█████▊ | 58/100 [00:00<00:00, 188.84it/s][A
77%|███████▋ | 77/100 [00:00<00:00, 184.61it/s][A
96%|█████████▌| 96/100 [00:00<00:00, 180.86it/s][A
[A
Models: 20%|██ | 2/10 [00:00<00:03, 2.09it/s]
0%| | 0/100 [00:00<?, ?it/s][A
17%|█▋ | 17/100 [00:00<00:00, 164.27it/s][A
35%|███▌ | 35/100 [00:00<00:00, 172.02it/s][A
54%|█████▍ | 54/100 [00:00<00:00, 176.28it/s][A
72%|███████▏ | 72/100 [00:00<00:00, 170.64it/s][A
90%|█████████ | 90/100 [00:00<00:00, 168.84it/s][A
[A
Models: 30%|███ | 3/10 [00:01<00:03, 1.88it/s]
0%| | 0/100 [00:00<?, ?it/s][A
16%|█▌ | 16/100 [00:00<00:00, 155.02it/s][A
33%|███▎ | 33/100 [00:00<00:00, 161.32it/s][A
50%|█████ | 50/100 [00:00<00:00, 161.41it/s][A
67%|██████▋ | 67/100 [00:00<00:00, 160.89it/s][A
85%|████████▌ | 85/100 [00:00<00:00, 166.47it/s][A
[A
Models: 40%|████ | 4/10 [00:02<00:03, 1.77it/s]
0%| | 0/100 [00:00<?, ?it/s][A
17%|█▋ | 17/100 [00:00<00:00, 163.40it/s][A
34%|███▍ | 34/100 [00:00<00:00, 165.56it/s][A
51%|█████ | 51/100 [00:00<00:00, 164.47it/s][A
68%|██████▊ | 68/100 [00:00<00:00, 162.52it/s][A
86%|████████▌ | 86/100 [00:00<00:00, 167.63it/s][A
[A
Models: 50%|█████ | 5/10 [00:02<00:02, 1.72it/s]
0%| | 0/100 [00:00<?, ?it/s][A
17%|█▋ | 17/100 [00:00<00:00, 161.35it/s][A
34%|███▍ | 34/100 [00:00<00:00, 164.56it/s][A
51%|█████ | 51/100 [00:00<00:00, 163.78it/s][A
68%|██████▊ | 68/100 [00:00<00:00, 164.20it/s][A
86%|████████▌ | 86/100 [00:00<00:00, 167.09it/s][A
[A
Models: 60%|██████ | 6/10 [00:03<00:02, 1.69it/s]
0%| | 0/100 [00:00<?, ?it/s][A
17%|█▋ | 17/100 [00:00<00:00, 168.13it/s][A
34%|███▍ | 34/100 [00:00<00:00, 169.03it/s][A
51%|█████ | 51/100 [00:00<00:00, 168.22it/s][A
69%|██████▉ | 69/100 [00:00<00:00, 169.19it/s][A
88%|████████▊ | 88/100 [00:00<00:00, 173.25it/s][A
[A
Models: 70%|███████ | 7/10 [00:03<00:01, 1.69it/s]
0%| | 0/100 [00:00<?, ?it/s][A
17%|█▋ | 17/100 [00:00<00:00, 168.78it/s][A
34%|███▍ | 34/100 [00:00<00:00, 166.81it/s][A
51%|█████ | 51/100 [00:00<00:00, 167.09it/s][A
69%|██████▉ | 69/100 [00:00<00:00, 168.39it/s][A
88%|████████▊ | 88/100 [00:00<00:00, 173.57it/s][A
[A
Models: 80%|████████ | 8/10 [00:04<00:01, 1.69it/s]
0%| | 0/100 [00:00<?, ?it/s][A
18%|█▊ | 18/100 [00:00<00:00, 177.30it/s][A
36%|███▌ | 36/100 [00:00<00:00, 178.38it/s][A
54%|█████▍ | 54/100 [00:00<00:00, 178.42it/s][A
73%|███████▎ | 73/100 [00:00<00:00, 148.31it/s][A
92%|█████████▏| 92/100 [00:00<00:00, 160.54it/s][A
[A
Models: 90%|█████████ | 9/10 [00:05<00:00, 1.67it/s]
0%| | 0/100 [00:00<?, ?it/s][A
20%|██ | 20/100 [00:00<00:00, 195.11it/s][A
40%|████ | 40/100 [00:00<00:00, 196.06it/s][A
60%|██████ | 60/100 [00:00<00:00, 193.43it/s][A
81%|████████ | 81/100 [00:00<00:00, 198.09it/s][A
[A
Models: 100%|██████████| 10/10 [00:05<00:00, 1.74it/s]
Models: 100%|██████████| 10/10 [00:05<00:00, 1.76it/s]
Models: 0%| | 0/10 [00:00<?, ?it/s]
0%| | 0/100 [00:00<?, ?it/s][A
29%|██▉ | 29/100 [00:00<00:00, 283.78it/s][A
58%|█████▊ | 58/100 [00:00<00:00, 259.73it/s][A
85%|████████▌ | 85/100 [00:00<00:00, 256.82it/s][A
[A
Models: 10%|█ | 1/10 [00:00<00:03, 2.56it/s]
0%| | 0/100 [00:00<?, ?it/s][A
24%|██▍ | 24/100 [00:00<00:00, 227.91it/s][A
47%|████▋ | 47/100 [00:00<00:00, 190.75it/s][A
67%|██████▋ | 67/100 [00:00<00:00, 186.90it/s][A
86%|████████▌ | 86/100 [00:00<00:00, 184.37it/s][A
[A
Models: 20%|██ | 2/10 [00:00<00:03, 2.09it/s]
0%| | 0/100 [00:00<?, ?it/s][A
22%|██▏ | 22/100 [00:00<00:00, 213.31it/s][A
44%|████▍ | 44/100 [00:00<00:00, 175.24it/s][A
62%|██████▏ | 62/100 [00:00<00:00, 171.71it/s][A
80%|████████ | 80/100 [00:00<00:00, 170.40it/s][A
98%|█████████▊| 98/100 [00:00<00:00, 166.72it/s][A
[A
Models: 30%|███ | 3/10 [00:01<00:03, 1.89it/s]
0%| | 0/100 [00:00<?, ?it/s][A
20%|██ | 20/100 [00:00<00:00, 198.32it/s][A
40%|████ | 40/100 [00:00<00:00, 168.09it/s][A
58%|█████▊ | 58/100 [00:00<00:00, 162.59it/s][A
75%|███████▌ | 75/100 [00:00<00:00, 162.70it/s][A
92%|█████████▏| 92/100 [00:00<00:00, 162.06it/s][A
[A
Models: 40%|████ | 4/10 [00:02<00:03, 1.78it/s]
0%| | 0/100 [00:00<?, ?it/s][A
21%|██ | 21/100 [00:00<00:00, 199.13it/s][A
41%|████ | 41/100 [00:00<00:00, 167.42it/s][A
59%|█████▉ | 59/100 [00:00<00:00, 161.80it/s][A
76%|███████▌ | 76/100 [00:00<00:00, 161.05it/s][A
93%|█████████▎| 93/100 [00:00<00:00, 157.02it/s][A
[A
Models: 50%|█████ | 5/10 [00:02<00:02, 1.72it/s]
0%| | 0/100 [00:00<?, ?it/s][A
20%|██ | 20/100 [00:00<00:00, 192.51it/s][A
40%|████ | 40/100 [00:00<00:00, 166.85it/s][A
57%|█████▋ | 57/100 [00:00<00:00, 164.92it/s][A
74%|███████▍ | 74/100 [00:00<00:00, 165.09it/s][A
91%|█████████ | 91/100 [00:00<00:00, 162.66it/s][A
[A
Models: 60%|██████ | 6/10 [00:03<00:02, 1.69it/s]
0%| | 0/100 [00:00<?, ?it/s][A
21%|██ | 21/100 [00:00<00:00, 206.40it/s][A
42%|████▏ | 42/100 [00:00<00:00, 177.47it/s][A
61%|██████ | 61/100 [00:00<00:00, 173.12it/s][A
79%|███████▉ | 79/100 [00:00<00:00, 169.90it/s][A
97%|█████████▋| 97/100 [00:00<00:00, 168.34it/s][A
[A
Models: 70%|███████ | 7/10 [00:03<00:01, 1.70it/s]
0%| | 0/100 [00:00<?, ?it/s][A
20%|██ | 20/100 [00:00<00:00, 194.05it/s][A
40%|████ | 40/100 [00:00<00:00, 169.83it/s][A
58%|█████▊ | 58/100 [00:00<00:00, 168.27it/s][A
75%|███████▌ | 75/100 [00:00<00:00, 167.99it/s][A
92%|█████████▏| 92/100 [00:00<00:00, 167.93it/s][A
[A
Models: 80%|████████ | 8/10 [00:04<00:01, 1.70it/s]
0%| | 0/100 [00:00<?, ?it/s][A
21%|██ | 21/100 [00:00<00:00, 204.58it/s][A
42%|████▏ | 42/100 [00:00<00:00, 176.26it/s][A
60%|██████ | 60/100 [00:00<00:00, 171.75it/s][A
78%|███████▊ | 78/100 [00:00<00:00, 171.20it/s][A
96%|█████████▌| 96/100 [00:00<00:00, 172.43it/s][A
[A
Models: 90%|█████████ | 9/10 [00:05<00:00, 1.71it/s]
0%| | 0/100 [00:00<?, ?it/s][A
20%|██ | 20/100 [00:00<00:00, 191.42it/s][A
40%|████ | 40/100 [00:00<00:00, 174.72it/s][A
58%|█████▊ | 58/100 [00:00<00:00, 174.69it/s][A
76%|███████▌ | 76/100 [00:00<00:00, 174.71it/s][A
95%|█████████▌| 95/100 [00:00<00:00, 177.86it/s][A
[A
Models: 100%|██████████| 10/10 [00:05<00:00, 1.72it/s]
Models: 100%|██████████| 10/10 [00:05<00:00, 1.76it/s]
/home/biocbuild/.cache/R/basilisk/1.18.0/spatialDE/1.12.0/env/lib/python3.10/site-packages/pandas/core/internals/blocks.py:351: RuntimeWarning: invalid value encountered in log
result = func(self.values, **kwargs)
Models: 0%| | 0/10 [00:00<?, ?it/s]
0%| | 0/100 [00:00<?, ?it/s][A
26%|██▌ | 26/100 [00:00<00:00, 253.18it/s][A
52%|█████▏ | 52/100 [00:00<00:00, 241.29it/s][A
78%|███████▊ | 78/100 [00:00<00:00, 245.14it/s][A
[A
Models: 10%|█ | 1/10 [00:00<00:03, 2.45it/s]
0%| | 0/100 [00:00<?, ?it/s][A
21%|██ | 21/100 [00:00<00:00, 208.86it/s][A
42%|████▏ | 42/100 [00:00<00:00, 194.28it/s][A
62%|██████▏ | 62/100 [00:00<00:00, 188.45it/s][A
81%|████████ | 81/100 [00:00<00:00, 186.66it/s][A
100%|██████████| 100/100 [00:00<00:00, 187.58it/s][A
[A
Models: 20%|██ | 2/10 [00:00<00:03, 2.08it/s]
0%| | 0/100 [00:00<?, ?it/s][A
21%|██ | 21/100 [00:00<00:00, 201.97it/s][A
42%|████▏ | 42/100 [00:00<00:00, 182.30it/s][A
61%|██████ | 61/100 [00:00<00:00, 172.81it/s][A
79%|███████▉ | 79/100 [00:00<00:00, 172.44it/s][A
98%|█████████▊| 98/100 [00:00<00:00, 175.65it/s][A
[A
Models: 30%|███ | 3/10 [00:01<00:03, 1.92it/s]
0%| | 0/100 [00:00<?, ?it/s][A
20%|██ | 20/100 [00:00<00:00, 190.95it/s][A
40%|████ | 40/100 [00:00<00:00, 169.06it/s][A
58%|█████▊ | 58/100 [00:00<00:00, 164.55it/s][A
75%|███████▌ | 75/100 [00:00<00:00, 166.01it/s][A
92%|█████████▏| 92/100 [00:00<00:00, 162.31it/s][A
[A
Models: 40%|████ | 4/10 [00:02<00:03, 1.80it/s]
0%| | 0/100 [00:00<?, ?it/s][A
19%|█▉ | 19/100 [00:00<00:00, 181.46it/s][A
38%|███▊ | 38/100 [00:00<00:00, 161.97it/s][A
55%|█████▌ | 55/100 [00:00<00:00, 158.93it/s][A
71%|███████ | 71/100 [00:00<00:00, 159.27it/s][A
88%|████████▊ | 88/100 [00:00<00:00, 158.25it/s][A
[A
Models: 50%|█████ | 5/10 [00:02<00:02, 1.72it/s]
0%| | 0/100 [00:00<?, ?it/s][A
19%|█▉ | 19/100 [00:00<00:00, 189.87it/s][A
38%|███▊ | 38/100 [00:00<00:00, 167.36it/s][A
55%|█████▌ | 55/100 [00:00<00:00, 164.20it/s][A
72%|███████▏ | 72/100 [00:00<00:00, 161.99it/s][A
89%|████████▉ | 89/100 [00:00<00:00, 159.52it/s][A
[A
Models: 60%|██████ | 6/10 [00:03<00:02, 1.69it/s]
0%| | 0/100 [00:00<?, ?it/s][A
19%|█▉ | 19/100 [00:00<00:00, 188.89it/s][A
38%|███▊ | 38/100 [00:00<00:00, 167.28it/s][A
55%|█████▌ | 55/100 [00:00<00:00, 164.19it/s][A
72%|███████▏ | 72/100 [00:00<00:00, 165.32it/s][A
89%|████████▉ | 89/100 [00:00<00:00, 164.00it/s][A
[A
Models: 70%|███████ | 7/10 [00:03<00:01, 1.68it/s]
0%| | 0/100 [00:00<?, ?it/s][A
20%|██ | 20/100 [00:00<00:00, 193.04it/s][A
40%|████ | 40/100 [00:00<00:00, 175.12it/s][A
58%|█████▊ | 58/100 [00:00<00:00, 169.64it/s][A
76%|███████▌ | 76/100 [00:00<00:00, 168.94it/s][A
93%|█████████▎| 93/100 [00:00<00:00, 169.13it/s][A
[A
Models: 80%|████████ | 8/10 [00:04<00:01, 1.69it/s]
0%| | 0/100 [00:00<?, ?it/s][A
20%|██ | 20/100 [00:00<00:00, 199.96it/s][A
40%|████ | 40/100 [00:00<00:00, 180.05it/s][A
59%|█████▉ | 59/100 [00:00<00:00, 172.28it/s][A
77%|███████▋ | 77/100 [00:00<00:00, 173.03it/s][A
95%|█████████▌| 95/100 [00:00<00:00, 171.97it/s][A
[A
Models: 90%|█████████ | 9/10 [00:05<00:00, 1.70it/s]
0%| | 0/100 [00:00<?, ?it/s][A
20%|██ | 20/100 [00:00<00:00, 188.86it/s][A
40%|████ | 40/100 [00:00<00:00, 192.91it/s][A
60%|██████ | 60/100 [00:00<00:00, 190.91it/s][A
80%|████████ | 80/100 [00:00<00:00, 187.21it/s][A
99%|█████████▉| 99/100 [00:00<00:00, 187.71it/s][A
[A
Models: 100%|██████████| 10/10 [00:05<00:00, 1.75it/s]
Models: 100%|██████████| 10/10 [00:05<00:00, 1.77it/s]
Models: 0%| | 0/10 [00:00<?, ?it/s]
0%| | 0/100 [00:00<?, ?it/s][A
26%|██▌ | 26/100 [00:00<00:00, 258.47it/s][A
52%|█████▏ | 52/100 [00:00<00:00, 245.33it/s][A
78%|███████▊ | 78/100 [00:00<00:00, 249.87it/s][A
[A
Models: 10%|█ | 1/10 [00:00<00:03, 2.52it/s]
0%| | 0/100 [00:00<?, ?it/s][A
22%|██▏ | 22/100 [00:00<00:00, 213.77it/s][A
44%|████▍ | 44/100 [00:00<00:00, 192.27it/s][A
64%|██████▍ | 64/100 [00:00<00:00, 188.10it/s][A
83%|████████▎ | 83/100 [00:00<00:00, 185.35it/s][A
[A
Models: 20%|██ | 2/10 [00:00<00:03, 2.09it/s]
0%| | 0/100 [00:00<?, ?it/s][A
21%|██ | 21/100 [00:00<00:00, 199.18it/s][A
41%|████ | 41/100 [00:00<00:00, 180.31it/s][A
60%|██████ | 60/100 [00:00<00:00, 172.55it/s][A
78%|███████▊ | 78/100 [00:00<00:00, 172.83it/s][A
96%|█████████▌| 96/100 [00:00<00:00, 172.29it/s][A
[A
Models: 30%|███ | 3/10 [00:01<00:03, 1.92it/s]
0%| | 0/100 [00:00<?, ?it/s][A
20%|██ | 20/100 [00:00<00:00, 191.87it/s][A
40%|████ | 40/100 [00:00<00:00, 168.60it/s][A
58%|█████▊ | 58/100 [00:00<00:00, 164.73it/s][A
76%|███████▌ | 76/100 [00:00<00:00, 167.41it/s][A
93%|█████████▎| 93/100 [00:00<00:00, 165.25it/s][A
[A
Models: 40%|████ | 4/10 [00:02<00:03, 1.81it/s]
0%| | 0/100 [00:00<?, ?it/s][A
19%|█▉ | 19/100 [00:00<00:00, 185.92it/s][A
38%|███▊ | 38/100 [00:00<00:00, 166.67it/s][A
55%|█████▌ | 55/100 [00:00<00:00, 164.15it/s][A
72%|███████▏ | 72/100 [00:00<00:00, 163.12it/s][A
89%|████████▉ | 89/100 [00:00<00:00, 162.73it/s][A
[A
Models: 50%|█████ | 5/10 [00:02<00:02, 1.75it/s]
0%| | 0/100 [00:00<?, ?it/s][A
19%|█▉ | 19/100 [00:00<00:00, 189.11it/s][A
38%|███▊ | 38/100 [00:00<00:00, 168.51it/s][A
55%|█████▌ | 55/100 [00:00<00:00, 164.31it/s][A
72%|███████▏ | 72/100 [00:00<00:00, 162.35it/s][A
89%|████████▉ | 89/100 [00:00<00:00, 159.64it/s][A
[A
Models: 60%|██████ | 6/10 [00:03<00:02, 1.71it/s]
0%| | 0/100 [00:00<?, ?it/s][A
19%|█▉ | 19/100 [00:00<00:00, 189.25it/s][A
38%|███▊ | 38/100 [00:00<00:00, 166.09it/s][A
55%|█████▌ | 55/100 [00:00<00:00, 164.04it/s][A
72%|███████▏ | 72/100 [00:00<00:00, 164.45it/s][A
89%|████████▉ | 89/100 [00:00<00:00, 165.09it/s][A
[A
Models: 70%|███████ | 7/10 [00:03<00:01, 1.69it/s]
0%| | 0/100 [00:00<?, ?it/s][A
20%|██ | 20/100 [00:00<00:00, 191.51it/s][A
40%|████ | 40/100 [00:00<00:00, 175.28it/s][A
58%|█████▊ | 58/100 [00:00<00:00, 169.94it/s][A
76%|███████▌ | 76/100 [00:00<00:00, 170.53it/s][A
94%|█████████▍| 94/100 [00:00<00:00, 172.09it/s][A
[A
Models: 80%|████████ | 8/10 [00:04<00:01, 1.70it/s]
0%| | 0/100 [00:00<?, ?it/s][A
21%|██ | 21/100 [00:00<00:00, 201.35it/s][A
42%|████▏ | 42/100 [00:00<00:00, 179.76it/s][A
61%|██████ | 61/100 [00:00<00:00, 172.49it/s][A
79%|███████▉ | 79/100 [00:00<00:00, 172.25it/s][A
97%|█████████▋| 97/100 [00:00<00:00, 170.86it/s][A
[A
Models: 90%|█████████ | 9/10 [00:05<00:00, 1.71it/s]
0%| | 0/100 [00:00<?, ?it/s][A
19%|█▉ | 19/100 [00:00<00:00, 189.03it/s][A
39%|███▉ | 39/100 [00:00<00:00, 189.18it/s][A
58%|█████▊ | 58/100 [00:00<00:00, 188.82it/s][A
77%|███████▋ | 77/100 [00:00<00:00, 188.64it/s][A
96%|█████████▌| 96/100 [00:00<00:00, 187.59it/s][A
[A
Models: 100%|██████████| 10/10 [00:05<00:00, 1.76it/s]
Models: 100%|██████████| 10/10 [00:05<00:00, 1.78it/s]
Models: 0%| | 0/10 [00:00<?, ?it/s]
0%| | 0/100 [00:00<?, ?it/s][A
27%|██▋ | 27/100 [00:00<00:00, 257.30it/s][A
53%|█████▎ | 53/100 [00:00<00:00, 251.52it/s][A
80%|████████ | 80/100 [00:00<00:00, 255.46it/s][A
[A
Models: 10%|█ | 1/10 [00:00<00:03, 2.56it/s]
0%| | 0/100 [00:00<?, ?it/s][A
22%|██▏ | 22/100 [00:00<00:00, 218.39it/s][A
44%|████▍ | 44/100 [00:00<00:00, 199.92it/s][A
65%|██████▌ | 65/100 [00:00<00:00, 194.65it/s][A
85%|████████▌ | 85/100 [00:00<00:00, 189.15it/s][A
[A
Models: 20%|██ | 2/10 [00:00<00:03, 2.14it/s]
0%| | 0/100 [00:00<?, ?it/s][A
21%|██ | 21/100 [00:00<00:00, 203.95it/s][A
42%|████▏ | 42/100 [00:00<00:00, 185.46it/s][A
61%|██████ | 61/100 [00:00<00:00, 175.05it/s][A
79%|███████▉ | 79/100 [00:00<00:00, 175.42it/s][A
98%|█████████▊| 98/100 [00:00<00:00, 178.63it/s][A
[A
Models: 30%|███ | 3/10 [00:01<00:03, 1.96it/s]
0%| | 0/100 [00:00<?, ?it/s][A
20%|██ | 20/100 [00:00<00:00, 198.77it/s][A
40%|████ | 40/100 [00:00<00:00, 174.13it/s][A
58%|█████▊ | 58/100 [00:00<00:00, 170.44it/s][A
76%|███████▌ | 76/100 [00:00<00:00, 171.78it/s][A
94%|█████████▍| 94/100 [00:00<00:00, 171.28it/s][A
[A
Models: 40%|████ | 4/10 [00:02<00:03, 1.86it/s]
0%| | 0/100 [00:00<?, ?it/s][A
20%|██ | 20/100 [00:00<00:00, 191.49it/s][A
40%|████ | 40/100 [00:00<00:00, 171.44it/s][A
58%|█████▊ | 58/100 [00:00<00:00, 168.83it/s][A
75%|███████▌ | 75/100 [00:00<00:00, 168.44it/s][A
93%|█████████▎| 93/100 [00:00<00:00, 170.33it/s][A
[A
Models: 50%|█████ | 5/10 [00:02<00:02, 1.80it/s]
0%| | 0/100 [00:00<?, ?it/s][A
20%|██ | 20/100 [00:00<00:00, 188.10it/s][A
39%|███▉ | 39/100 [00:00<00:00, 173.29it/s][A
57%|█████▋ | 57/100 [00:00<00:00, 170.66it/s][A
75%|███████▌ | 75/100 [00:00<00:00, 170.26it/s][A
93%|█████████▎| 93/100 [00:00<00:00, 170.88it/s][A
[A
Models: 60%|██████ | 6/10 [00:03<00:02, 1.77it/s]
0%| | 0/100 [00:00<?, ?it/s][A
20%|██ | 20/100 [00:00<00:00, 195.58it/s][A
40%|████ | 40/100 [00:00<00:00, 181.14it/s][A
59%|█████▉ | 59/100 [00:00<00:00, 171.42it/s][A
77%|███████▋ | 77/100 [00:00<00:00, 170.11it/s][A
95%|█████████▌| 95/100 [00:00<00:00, 171.84it/s][A
[A
Models: 70%|███████ | 7/10 [00:03<00:01, 1.75it/s]
0%| | 0/100 [00:00<?, ?it/s][A
21%|██ | 21/100 [00:00<00:00, 202.28it/s][A
42%|████▏ | 42/100 [00:00<00:00, 184.47it/s][A
61%|██████ | 61/100 [00:00<00:00, 177.53it/s][A
79%|███████▉ | 79/100 [00:00<00:00, 172.45it/s][A
97%|█████████▋| 97/100 [00:00<00:00, 173.76it/s][A
[A
Models: 80%|████████ | 8/10 [00:04<00:01, 1.75it/s]
0%| | 0/100 [00:00<?, ?it/s][A
21%|██ | 21/100 [00:00<00:00, 207.30it/s][A
42%|████▏ | 42/100 [00:00<00:00, 187.38it/s][A
61%|██████ | 61/100 [00:00<00:00, 180.17it/s][A
80%|████████ | 80/100 [00:00<00:00, 180.66it/s][A
99%|█████████▉| 99/100 [00:00<00:00, 180.26it/s][A
[A
Models: 90%|█████████ | 9/10 [00:04<00:00, 1.77it/s]
0%| | 0/100 [00:00<?, ?it/s][A
20%|██ | 20/100 [00:00<00:00, 199.20it/s][A
40%|████ | 40/100 [00:00<00:00, 195.62it/s][A
60%|██████ | 60/100 [00:00<00:00, 192.48it/s][A
80%|████████ | 80/100 [00:00<00:00, 189.68it/s][A
100%|██████████| 100/100 [00:00<00:00, 192.45it/s][A
[A
Models: 100%|██████████| 10/10 [00:05<00:00, 1.81it/s]
Models: 100%|██████████| 10/10 [00:05<00:00, 1.83it/s]
[ FAIL 0 | WARN 0 | SKIP 0 | PASS 29 ]
>
> proc.time()
user system elapsed
75.819 0.978 76.004
spatialDE.Rcheck/spatialDE-Ex.timings
| name | user | system | elapsed | |
| FSV_sig | 6.704 | 0.414 | 7.061 | |
| mockSVG | 0.246 | 0.004 | 0.250 | |
| modelSearch | 3.404 | 0.047 | 2.196 | |
| model_search | 3.047 | 0.050 | 1.847 | |
| multiGenePlots | 3.462 | 0.187 | 3.078 | |
| regress_out | 0.226 | 0.008 | 0.235 | |
| run | 1.532 | 0.008 | 0.979 | |
| spatialDE | 1.636 | 0.031 | 1.103 | |
| spatialPatterns | 1.741 | 0.012 | 1.111 | |
| spatial_patterns | 44.544 | 0.062 | 22.535 | |
| stabilize | 0.250 | 0.008 | 0.200 | |