Back to Multiple platform build/check report for BioC 3.20: simplified long |
|
This page was generated on 2025-01-30 12:12 -0500 (Thu, 30 Jan 2025).
Hostname | OS | Arch (*) | R version | Installed pkgs |
---|---|---|---|---|
nebbiolo2 | Linux (Ubuntu 24.04.1 LTS) | x86_64 | 4.4.2 (2024-10-31) -- "Pile of Leaves" | 4746 |
palomino8 | Windows Server 2022 Datacenter | x64 | 4.4.2 (2024-10-31 ucrt) -- "Pile of Leaves" | 4494 |
merida1 | macOS 12.7.5 Monterey | x86_64 | 4.4.2 (2024-10-31) -- "Pile of Leaves" | 4517 |
kjohnson1 | macOS 13.6.6 Ventura | arm64 | 4.4.2 (2024-10-31) -- "Pile of Leaves" | 4469 |
taishan | Linux (openEuler 24.03 LTS) | aarch64 | 4.4.2 (2024-10-31) -- "Pile of Leaves" | 4400 |
Click on any hostname to see more info about the system (e.g. compilers) (*) as reported by 'uname -p', except on Windows and Mac OS X |
Package 2009/2289 | Hostname | OS / Arch | INSTALL | BUILD | CHECK | BUILD BIN | ||||||||
sparrow 1.12.0 (landing page) Steve Lianoglou
| nebbiolo2 | Linux (Ubuntu 24.04.1 LTS) / x86_64 | OK | OK | OK | |||||||||
palomino8 | Windows Server 2022 Datacenter / x64 | OK | OK | OK | OK | |||||||||
merida1 | macOS 12.7.5 Monterey / x86_64 | OK | OK | OK | OK | |||||||||
kjohnson1 | macOS 13.6.6 Ventura / arm64 | OK | OK | OK | OK | |||||||||
taishan | Linux (openEuler 24.03 LTS) / aarch64 | OK | OK | TIMEOUT | ||||||||||
To the developers/maintainers of the sparrow package: - Allow up to 24 hours (and sometimes 48 hours) for your latest push to git@git.bioconductor.org:packages/sparrow.git to reflect on this report. See Troubleshooting Build Report for more information. - Use the following Renviron settings to reproduce errors and warnings. - If 'R CMD check' started to fail recently on the Linux builder(s) over a missing dependency, add the missing dependency to 'Suggests:' in your DESCRIPTION file. See Renviron.bioc for more information. - See Martin Grigorov's blog post for how to debug Linux ARM64 related issues on a x86_64 host. |
Package: sparrow |
Version: 1.12.0 |
Command: /home/biocbuild/R/R/bin/R CMD check --install=check:sparrow.install-out.txt --library=/home/biocbuild/R/R/site-library --no-vignettes --timings sparrow_1.12.0.tar.gz |
StartedAt: 2025-01-28 11:28:44 -0000 (Tue, 28 Jan 2025) |
EndedAt: 2025-01-28 12:08:45 -0000 (Tue, 28 Jan 2025) |
EllapsedTime: 2401.0 seconds |
RetCode: None |
Status: TIMEOUT |
CheckDir: sparrow.Rcheck |
Warnings: NA |
############################################################################## ############################################################################## ### ### Running command: ### ### /home/biocbuild/R/R/bin/R CMD check --install=check:sparrow.install-out.txt --library=/home/biocbuild/R/R/site-library --no-vignettes --timings sparrow_1.12.0.tar.gz ### ############################################################################## ############################################################################## * using log directory ‘/home/biocbuild/bbs-3.20-bioc/meat/sparrow.Rcheck’ * using R version 4.4.2 (2024-10-31) * using platform: aarch64-unknown-linux-gnu * R was compiled by aarch64-unknown-linux-gnu-gcc (GCC) 14.2.0 GNU Fortran (GCC) 12.3.1 (openEuler 12.3.1-36.oe2403) * running under: openEuler 24.03 (LTS) * using session charset: UTF-8 * using option ‘--no-vignettes’ * checking for file ‘sparrow/DESCRIPTION’ ... OK * checking extension type ... Package * this is package ‘sparrow’ version ‘1.12.0’ * package encoding: UTF-8 * checking package namespace information ... OK * checking package dependencies ... OK * checking if this is a source package ... OK * checking if there is a namespace ... OK * checking for hidden files and directories ... OK * checking for portable file names ... OK * checking for sufficient/correct file permissions ... OK * checking whether package ‘sparrow’ can be installed ... OK * checking installed package size ... OK * checking package directory ... OK * checking ‘build’ directory ... OK * checking DESCRIPTION meta-information ... NOTE License stub is invalid DCF. * checking top-level files ... OK * checking for left-over files ... OK * checking index information ... OK * checking package subdirectories ... OK * checking code files for non-ASCII characters ... OK * checking R files for syntax errors ... OK * checking whether the package can be loaded ... OK * checking whether the package can be loaded with stated dependencies ... OK * checking whether the package can be unloaded cleanly ... OK * checking whether the namespace can be loaded with stated dependencies ... OK * checking whether the namespace can be unloaded cleanly ... OK * checking loading without being on the library search path ... OK * checking whether startup messages can be suppressed ... OK * checking dependencies in R code ... OK * checking S3 generic/method consistency ... OK * checking replacement functions ... OK * checking foreign function calls ... OK * checking R code for possible problems ... NOTE geneSetsStats: no visible binding for global variable ‘direction’ Undefined global functions or variables: direction * checking Rd files ... OK * checking Rd metadata ... OK * checking Rd cross-references ... OK * checking for missing documentation entries ... OK * checking for code/documentation mismatches ... OK * checking Rd \usage sections ... OK * checking Rd contents ... OK * checking for unstated dependencies in examples ... OK * checking line endings in Makefiles ... OK * checking for GNU extensions in Makefiles ... OK * checking include directives in Makefiles ... OK * checking files in ‘vignettes’ ... OK * checking examples ... OK Examples with CPU (user + system) or elapsed time > 5s user system elapsed goseq 9.475 0.206 9.433 seas 7.977 0.243 7.940 geneSetsStats 6.153 0.075 5.745 scoreSingleSamples 5.579 0.040 5.605 annotateGeneSetMembership 5.332 0.140 5.225 geneSetSummaryByGenes 5.112 0.178 4.957 * checking for unstated dependencies in ‘tests’ ... OK * checking tests ... Running ‘testthat.R’
sparrow.Rcheck/00install.out
############################################################################## ############################################################################## ### ### Running command: ### ### /home/biocbuild/R/R/bin/R CMD INSTALL sparrow ### ############################################################################## ############################################################################## * installing to library ‘/home/biocbuild/R/R-4.4.2/site-library’ * installing *source* package ‘sparrow’ ... ** using staged installation ** R ** inst ** byte-compile and prepare package for lazy loading ** help *** installing help indices *** copying figures ** building package indices ** installing vignettes ** testing if installed package can be loaded from temporary location ** testing if installed package can be loaded from final location ** testing if installed package keeps a record of temporary installation path * DONE (sparrow)
sparrow.Rcheck/tests/testthat.Rout
R version 4.4.2 (2024-10-31) -- "Pile of Leaves" Copyright (C) 2024 The R Foundation for Statistical Computing Platform: aarch64-unknown-linux-gnu R is free software and comes with ABSOLUTELY NO WARRANTY. You are welcome to redistribute it under certain conditions. Type 'license()' or 'licence()' for distribution details. R is a collaborative project with many contributors. Type 'contributors()' for more information and 'citation()' on how to cite R or R packages in publications. Type 'demo()' for some demos, 'help()' for on-line help, or 'help.start()' for an HTML browser interface to help. Type 'q()' to quit R. > library("sparrow") > library("testthat") > library("data.table") > library("dplyr") Attaching package: 'dplyr' The following objects are masked from 'package:data.table': between, first, last The following object is masked from 'package:testthat': matches The following object is masked from 'package:sparrow': combine The following objects are masked from 'package:stats': filter, lag The following objects are masked from 'package:base': intersect, setdiff, setequal, union > > test_check("sparrow") Attaching package: 'magrittr' The following objects are masked from 'package:testthat': equals, is_less_than, not
sparrow.Rcheck/sparrow-Ex.timings
name | user | system | elapsed | |
GeneSetDb-class | 0.097 | 0.000 | 0.098 | |
SparrowResult-utilities | 4.645 | 0.120 | 4.519 | |
addGeneSetMetadata | 0.084 | 0.000 | 0.075 | |
annotateGeneSetMembership | 5.332 | 0.140 | 5.225 | |
calculateIndividualLogFC | 2.343 | 0.032 | 2.382 | |
collectionMetadata | 0.089 | 0.000 | 0.081 | |
combine-GeneSetDb-GeneSetDb-method | 0.119 | 0.004 | 0.105 | |
combine-SparrowResult-SparrowResult-method | 0.134 | 0.016 | 0.153 | |
conform | 0.539 | 0.008 | 0.540 | |
conversion | 0.808 | 0.012 | 0.790 | |
convertIdentifiers | 0.230 | 0.000 | 0.199 | |
corplot | 0.113 | 0.000 | 0.114 | |
eigenWeightedMean | 3.880 | 0.080 | 3.957 | |
examples | 0.394 | 0.015 | 0.411 | |
failWith | 0.001 | 0.000 | 0.000 | |
featureIdMap | 0.643 | 0.004 | 0.640 | |
featureIds | 0.623 | 0.004 | 0.622 | |
geneSet | 0.104 | 0.004 | 0.098 | |
geneSetCollectionURLfunction | 0.074 | 0.004 | 0.067 | |
geneSetSummaryByGenes | 5.112 | 0.178 | 4.957 | |
geneSets | 0.069 | 0.005 | 0.064 | |
geneSetsStats | 6.153 | 0.075 | 5.745 | |
getKeggCollection | 0 | 0 | 0 | |
getMSigCollection | 0 | 0 | 0 | |
getPantherCollection | 0 | 0 | 0 | |
getReactomeCollection | 0 | 0 | 0 | |
goseq | 9.475 | 0.206 | 9.433 | |
gsdScore | 1.159 | 0.027 | 1.173 | |
gskey | 0.003 | 0.000 | 0.004 | |
hasGeneSet | 0.077 | 0.000 | 0.068 | |
hasGeneSetCollection | 0.072 | 0.003 | 0.066 | |
incidenceMatrix | 1.425 | 0.000 | 1.417 | |
iplot | 1.451 | 0.020 | 1.462 | |
is.active | 0.433 | 0.004 | 0.430 | |
logFC | 4.019 | 0.143 | 3.900 | |
mgheatmap | 0 | 0 | 0 | |
mgheatmap2 | 0.000 | 0.001 | 0.001 | |
msg | 0.001 | 0.000 | 0.000 | |
ora | 0.352 | 0.007 | 0.360 | |
p.matrix | 0.09 | 0.00 | 0.09 | |
randomGeneSetDb | 0.102 | 0.000 | 0.102 | |
renameCollections | 0.093 | 0.004 | 0.086 | |
renameRows | 0.462 | 0.012 | 0.475 | |
results | 0.112 | 0.000 | 0.113 | |
scale_rows | 0.004 | 0.000 | 0.004 | |
scoreSingleSamples | 5.579 | 0.040 | 5.605 | |
seas | 7.977 | 0.243 | 7.940 | |
sparrow_methods | 0.004 | 0.000 | 0.004 | |
species_info | 0.003 | 0.004 | 0.007 | |
subset.GeneSetDb | 0.151 | 0.012 | 0.152 | |
subsetByFeatures | 0.105 | 0.004 | 0.092 | |
validateInputs | 0.162 | 0.008 | 0.159 | |
volcanoPlot | 2.231 | 0.052 | 2.287 | |
volcanoStatsTable | 0.069 | 0.004 | 0.073 | |
zScore | 1.139 | 0.020 | 1.144 | |