Back to Multiple platform build/check report for BioC 3.20: simplified long |
|
This page was generated on 2025-02-06 12:05 -0500 (Thu, 06 Feb 2025).
Hostname | OS | Arch (*) | R version | Installed pkgs |
---|---|---|---|---|
nebbiolo2 | Linux (Ubuntu 24.04.1 LTS) | x86_64 | 4.4.2 (2024-10-31) -- "Pile of Leaves" | 4753 |
palomino8 | Windows Server 2022 Datacenter | x64 | 4.4.2 (2024-10-31 ucrt) -- "Pile of Leaves" | 4501 |
merida1 | macOS 12.7.5 Monterey | x86_64 | 4.4.2 (2024-10-31) -- "Pile of Leaves" | 4524 |
kjohnson1 | macOS 13.6.6 Ventura | arm64 | 4.4.2 (2024-10-31) -- "Pile of Leaves" | 4476 |
taishan | Linux (openEuler 24.03 LTS) | aarch64 | 4.4.2 (2024-10-31) -- "Pile of Leaves" | 4407 |
Click on any hostname to see more info about the system (e.g. compilers) (*) as reported by 'uname -p', except on Windows and Mac OS X |
Package 1871/2289 | Hostname | OS / Arch | INSTALL | BUILD | CHECK | BUILD BIN | ||||||||
scDiagnostics 1.0.0 (landing page) Anthony Christidis
| nebbiolo2 | Linux (Ubuntu 24.04.1 LTS) / x86_64 | OK | OK | OK | ![]() | ||||||||
palomino8 | Windows Server 2022 Datacenter / x64 | OK | OK | OK | OK | ![]() | ||||||||
merida1 | macOS 12.7.5 Monterey / x86_64 | OK | OK | OK | NA | |||||||||
kjohnson1 | macOS 13.6.6 Ventura / arm64 | OK | OK | OK | OK | ![]() | ||||||||
taishan | Linux (openEuler 24.03 LTS) / aarch64 | OK | ERROR | skipped | ||||||||||
To the developers/maintainers of the scDiagnostics package: - Allow up to 24 hours (and sometimes 48 hours) for your latest push to git@git.bioconductor.org:packages/scDiagnostics.git to reflect on this report. See Troubleshooting Build Report for more information. - Use the following Renviron settings to reproduce errors and warnings. - If 'R CMD check' started to fail recently on the Linux builder(s) over a missing dependency, add the missing dependency to 'Suggests:' in your DESCRIPTION file. See Renviron.bioc for more information. |
Package: scDiagnostics |
Version: 1.0.0 |
Command: /home/biocbuild/bbs-3.20-bioc/R/bin/R CMD check --install=check:scDiagnostics.install-out.txt --library=/home/biocbuild/bbs-3.20-bioc/R/site-library --timings scDiagnostics_1.0.0.tar.gz |
StartedAt: 2025-02-04 02:09:53 -0500 (Tue, 04 Feb 2025) |
EndedAt: 2025-02-04 02:20:05 -0500 (Tue, 04 Feb 2025) |
EllapsedTime: 612.0 seconds |
RetCode: 0 |
Status: OK |
CheckDir: scDiagnostics.Rcheck |
Warnings: 0 |
############################################################################## ############################################################################## ### ### Running command: ### ### /home/biocbuild/bbs-3.20-bioc/R/bin/R CMD check --install=check:scDiagnostics.install-out.txt --library=/home/biocbuild/bbs-3.20-bioc/R/site-library --timings scDiagnostics_1.0.0.tar.gz ### ############################################################################## ############################################################################## * using log directory ‘/home/biocbuild/bbs-3.20-bioc/meat/scDiagnostics.Rcheck’ * using R version 4.4.2 (2024-10-31) * using platform: x86_64-pc-linux-gnu * R was compiled by gcc (Ubuntu 13.2.0-23ubuntu4) 13.2.0 GNU Fortran (Ubuntu 13.2.0-23ubuntu4) 13.2.0 * running under: Ubuntu 24.04.1 LTS * using session charset: UTF-8 * checking for file ‘scDiagnostics/DESCRIPTION’ ... OK * checking extension type ... Package * this is package ‘scDiagnostics’ version ‘1.0.0’ * package encoding: UTF-8 * checking package namespace information ... OK * checking package dependencies ... OK * checking if this is a source package ... OK * checking if there is a namespace ... OK * checking for hidden files and directories ... OK * checking for portable file names ... OK * checking for sufficient/correct file permissions ... OK * checking whether package ‘scDiagnostics’ can be installed ... OK * checking installed package size ... OK * checking package directory ... OK * checking ‘build’ directory ... OK * checking DESCRIPTION meta-information ... OK * checking top-level files ... OK * checking for left-over files ... OK * checking index information ... OK * checking package subdirectories ... OK * checking code files for non-ASCII characters ... OK * checking R files for syntax errors ... OK * checking whether the package can be loaded ... OK * checking whether the package can be loaded with stated dependencies ... OK * checking whether the package can be unloaded cleanly ... OK * checking whether the namespace can be loaded with stated dependencies ... OK * checking whether the namespace can be unloaded cleanly ... OK * checking loading without being on the library search path ... OK * checking dependencies in R code ... OK * checking S3 generic/method consistency ... OK * checking replacement functions ... OK * checking foreign function calls ... OK * checking R code for possible problems ... OK * checking Rd files ... OK * checking Rd metadata ... OK * checking Rd cross-references ... OK * checking for missing documentation entries ... OK * checking for code/documentation mismatches ... OK * checking Rd \usage sections ... OK * checking Rd contents ... OK * checking for unstated dependencies in examples ... OK * checking contents of ‘data’ directory ... OK * checking data for non-ASCII characters ... OK * checking LazyData ... NOTE 'LazyDataCompression' is specified without 'LazyData' * checking data for ASCII and uncompressed saves ... OK * checking files in ‘vignettes’ ... OK * checking examples ... OK Examples with CPU (user + system) or elapsed time > 5s user system elapsed plotCellTypeMDS 18.675 0.320 18.994 calculateCellDistances 17.463 1.327 18.093 calculateCramerPValue 10.006 1.336 11.344 calculateCellDistancesSimilarity 6.927 0.310 6.588 * checking for unstated dependencies in ‘tests’ ... OK * checking tests ... Running ‘testthat.R’ OK * checking for unstated dependencies in vignettes ... OK * checking package vignettes ... OK * checking re-building of vignette outputs ... OK * checking PDF version of manual ... OK * DONE Status: 1 NOTE See ‘/home/biocbuild/bbs-3.20-bioc/meat/scDiagnostics.Rcheck/00check.log’ for details.
scDiagnostics.Rcheck/00install.out
############################################################################## ############################################################################## ### ### Running command: ### ### /home/biocbuild/bbs-3.20-bioc/R/bin/R CMD INSTALL scDiagnostics ### ############################################################################## ############################################################################## * installing to library ‘/home/biocbuild/bbs-3.20-bioc/R/site-library’ * installing *source* package ‘scDiagnostics’ ... ** using staged installation ** R ** data ** inst ** byte-compile and prepare package for lazy loading ** help *** installing help indices ** building package indices ** installing vignettes ** testing if installed package can be loaded from temporary location ** testing if installed package can be loaded from final location ** testing if installed package keeps a record of temporary installation path * DONE (scDiagnostics)
scDiagnostics.Rcheck/tests/testthat.Rout
R version 4.4.2 (2024-10-31) -- "Pile of Leaves" Copyright (C) 2024 The R Foundation for Statistical Computing Platform: x86_64-pc-linux-gnu R is free software and comes with ABSOLUTELY NO WARRANTY. You are welcome to redistribute it under certain conditions. Type 'license()' or 'licence()' for distribution details. R is a collaborative project with many contributors. Type 'contributors()' for more information and 'citation()' on how to cite R or R packages in publications. Type 'demo()' for some demos, 'help()' for on-line help, or 'help.start()' for an HTML browser interface to help. Type 'q()' to quit R. > # This file is part of the standard setup for testthat. > # It is recommended that you do not modify it. > # > # Where should you do additional test configuration? > # Learn more about the roles of various files in: > # * https://r-pkgs.org/testing-design.html#sec-tests-files-overview > # * https://testthat.r-lib.org/articles/special-files.html > > library(testthat) > library(scDiagnostics) > > test_check("scDiagnostics") [ FAIL 0 | WARN 0 | SKIP 0 | PASS 276 ] > > proc.time() user system elapsed 131.855 7.200 130.724
scDiagnostics.Rcheck/scDiagnostics-Ex.timings
name | user | system | elapsed | |
boxplotPCA | 1.669 | 0.108 | 1.779 | |
calculateAveragePairwiseCorrelation | 2.982 | 0.061 | 3.043 | |
calculateCategorizationEntropy | 0.008 | 0.000 | 0.009 | |
calculateCellDistances | 17.463 | 1.327 | 18.093 | |
calculateCellDistancesSimilarity | 6.927 | 0.310 | 6.588 | |
calculateCellSimilarityPCA | 2.337 | 0.229 | 1.941 | |
calculateCramerPValue | 10.006 | 1.336 | 11.344 | |
calculateDiscriminantSpace | 4.539 | 0.083 | 3.301 | |
calculateHVGOverlap | 1.256 | 0.148 | 1.404 | |
calculateHotellingPValue | 1.484 | 0.011 | 1.495 | |
calculateNearestNeighborProbabilities | 3.696 | 0.143 | 3.839 | |
calculateSIRSpace | 2.951 | 0.049 | 3.000 | |
calculateVarImpOverlap | 4.345 | 0.081 | 2.691 | |
calculateWassersteinDistance | 2.654 | 0.217 | 2.871 | |
compareCCA | 1.057 | 0.012 | 1.068 | |
comparePCA | 1.157 | 0.024 | 1.180 | |
comparePCASubspace | 1.191 | 0.012 | 1.202 | |
detectAnomaly | 2.358 | 0.107 | 1.912 | |
histQCvsAnnotation | 0.521 | 0.001 | 0.523 | |
plot.calculateWassersteinDistanceObject | 2.343 | 0.154 | 2.497 | |
plotCellTypeMDS | 18.675 | 0.320 | 18.994 | |
plotCellTypePCA | 1.391 | 0.073 | 1.464 | |
plotGeneExpressionDimred | 1.294 | 0.067 | 1.361 | |
plotGeneSetScores | 0.958 | 0.030 | 0.988 | |
plotMarkerExpression | 0.519 | 0.021 | 0.540 | |
plotPairwiseDistancesDensity | 1.195 | 0.092 | 1.287 | |
plotQCvsAnnotation | 0.208 | 0.000 | 0.208 | |
projectPCA | 0.295 | 0.000 | 0.295 | |
projectSIR | 1.425 | 0.008 | 1.433 | |
qc_data | 0.035 | 0.001 | 0.036 | |
query_data | 0.033 | 0.000 | 0.034 | |
reference_data | 0.076 | 0.000 | 0.076 | |
regressPC | 1.639 | 0.006 | 1.646 | |